Workbook

Sheet Suvestinė
B1: 2021
B2: Rodiklis | C2: Reikšmė
B3: Premjerų skaičius | C3: 188
B4: Lietuviškų filmų premjerų skaičius | C4: 11
B5: Bendras filmų skaičius | C5: 250
B6: Bendros pajamos | C6: 7754384.5
B7: Bendras žiūrovų skaičius | C7: 1337598
B9: Filmų dalis rinkoje, %
B10: Kategorija | C10: Pajamos | D10: Žiūrovų skaičius | E10: Pajamos % | F10: Žiūrovų skaičius % | G10: Filmų skaičius
B11: Lietuva | C11: 489946.82 | D11: 82337 | E11: 6.318 | F11: 6.156 | G11: 13
B12: Europa | C12: 1206501.7 | D12: 219342 | E12: 15.559 | F12: 16.398 | G12: 124
B13: JAV | C13: 5999741.4 | D13: 1025581 | E13: 77.372 | F13: 76.673 | G13: 103
B14: Kita | C14: 58194.67 | D14: 10338 | E14: 0.75 | F14: 0.773 | G14: 10
B15: Total | C15: =SUBTOTAL(109,Table1[Pajamos]) -> 7754384.5 | D15: =SUBTOTAL(109,Table1[Žiūrovų skaičius]) -> 1337598 | E15: =SUBTOTAL(109,Table1[Pajamos %]) -> 99.999 | F15: =SUBTOTAL(109,Table1[Žiūrovų skaičius %]) -> 100 | G15: =SUBTOTAL(109,Table1[Filmų skaičius]) -> 250
B46: Pasiskirstymas pagal platintojus
A47: Eil. nr | B47: Platintojas | C47: Pajamos | D47: Žiūrovų skaičius | E47: Filmų skaičius | F47: Pajamos % | G47: Žiūrovų skaičius %
A48: =IF(B48<>"",ROWS($B$48:B48),"") -> 1 | B48: Dukine Film Distribution / Universal Pictures International | C48: 2056633.3 | D48: 350696 | E48: 15 | F48: 26.522 | G48: 26.218
A49: =IF(B49<>"",ROWS($B$48:B49),"") -> 2 | B49: Theatrical Film Distribution / WDSMPI | C49: 1311324.8 | D49: 238101 | E49: 19 | F49: 16.911 | G49: 17.801
A50: =IF(B50<>"",ROWS($B$48:B50),"") -> 3 | B50: ACME Film / SONY | C50: 1191588.6 | D50: 180247 | E50: 9 | F50: 15.367 | G50: 13.475
A51: =IF(B51<>"",ROWS($B$48:B51),"") -> 4 | B51: ACME Film / WB | C51: 1129575.9 | D51: 184354 | E51: 13 | F51: 14.567 | G51: 13.782
A52: =IF(B52<>"",ROWS($B$48:B52),"") -> 5 | B52: Garsų pasaulio įrašai | C52: 338758 | D52: 59687 | E52: 18 | F52: 4.369 | G52: 4.462
A53: =IF(B53<>"",ROWS($B$48:B53),"") -> 6 | B53: ACME Film | C53: 334924.14 | D53: 64839 | E53: 28 | F53: 4.319 | G53: 4.847
A54: =IF(B54<>"",ROWS($B$48:B54),"") -> 7 | B54: Dukine Film Distribution / Paramount Pictures | C54: 287886.26 | D54: 55968 | E54: 5 | F54: 3.713 | G54: 4.184
A55: =IF(B55<>"",ROWS($B$48:B55),"") -> 8 | B55: VLG Film | C55: 248162.57 | D55: 49194 | E55: 24 | F55: 3.2 | G55: 3.678
A56: =IF(B56<>"",ROWS($B$48:B56),"") -> 9 | B56: Stambus planas | C56: 181409.14 | D56: 28724 | E56: 1 | F56: 2.339 | G56: 2.147
A57: =IF(B57<>"",ROWS($B$48:B57),"") -> 10 | B57: Moonmakers | C57: 148871.61 | D57: 26416 | E57: 2 | F57: 1.92 | G57: 1.975
A58: =IF(B58<>"",ROWS($B$48:B58),"") -> 11 | B58: Best Film | C58: 89158.53 | D58: 17163 | E58: 15 | F58: 1.15 | G58: 1.283
A59: =IF(B59<>"",ROWS($B$48:B59),"") -> 12 | B59: Theatrical Film Distribution | C59: 69358.89 | D59: 12879 | E59: 15 | F59: 0.894 | G59: 0.963
... A80: =IF(B80<>"",ROWS($B$48:B80),"") -> 33 | B80: Kino aljansas | C80: 428.5 | D80: 85 | E80: 3 | F80: 0.006 | G80: 0.006
A81: Total | C81: =SUBTOTAL(109,Table18[Pajamos]) -> 7754384.5 | D81: =SUBTOTAL(109,Table18[Žiūrovų skaičius]) -> 1337598 | E81: =SUBTOTAL(109,Table18[Filmų skaičius]) -> 250 | F81: =SUBTOTAL(109,Table18[Pajamos %]) -> 100 | G81: =SUBTOTAL(109,Table18[Žiūrovų skaičius %]) -> 99.996
A84: LT TOP
A85: Eil. Nr. | B85: Filmo pavadinimas | C85: Pajamos | D85: Žiūrovų skaičius | E85: Premjeros data | F85: Platintojas
A86: 1 | B86: Naktinė žvejyba | C86: 181409.14 | D86: 28724 | E86: 44407 | F86: Stambus planas
A87: 2 | B87: Šuolis | C87: 144664.81 | D87: 25555 | E87: 44456 | F87: Moonmakers
A88: 3 | B88: Izaokas | C88: 43144.28 | D88: 7836 | E88: 44421 | F88: Film Jam
A89: 4 | B89: Vyras už pinigus | C89: 38916.21 | D89: 5803 | E89: 44561 | F89: Dublis LT
A90: 5 | B90: Operacija "O2" | C90: 37457.95 | D90: 5995 | E90: 44491 | F90: Theatrical Film Distribution
A91: 6 | B91: Bėgikė | C91: 27731.62 | D91: 4913 | E91: 44519 | F91: M-Films
A92: 7 | B92: Sinefilija | C92: 7194 | D92: 1558 | E92: 44533 | F92: Garsų pasaulio įrašai
A93: 8 | B93: Švelnūs kariai | C93: 4206.8 | D93: 861 | E93: 44526 | F93: Moonmakers
A94: 9 | B94: Žmonės, kuriuos pažįstam | C94: 4162.39 | D94: 822 | E94: 44344 | F94: Just a Moment
A95: 10 | B95: Būsiu su tavim | C95: 747.77 | D95: 167 | E95: 44505 | F95: Nepatogus Kinas

Sheet Platintojų pasiskirstymas
A1: Platintojas | B1: Filmo pavadinimas | C1: Pajamos | D1: Žiūrovų skaičius | E1: Premjeros data
A2: Dukine Film Distribution / Universal Pictures International | B2: Gucci mados namai (House of Gucci) | C2: 524254.11 | D2: 74919 | E2: 44526
B3: Mirtis palauks (No Time To Die) | C3: 414625.81 | D3: 61490 | E3: 44470
B4: Adamsų šeimynėlė 2 (The Addams Family 2) | C4: 257178.2 | D4: 51141 | E4: 44477
B5: Ponas kūdikis 2. Šeimos reikalai (The Boss Baby: Family Business) | C5: 240820.08 | D5: 49145 | E5: 44456
B6: Greiti ir įsiutę 9 (Fast and Furious 9) | C6: 216992.94 | D6: 34411 | E6: 44372
B7: Dainuok 2 (Sing 2) | C7: 119664.86 | D7: 25432 | E7: 44552
B8: Krudžiai 2. Naujasis amžius (The Croods: A New Age) | C8: 83153.58 | D8: 18544 | E8: 44351
B9: Helovinas žudo (Halloween Kills) | C9: 55795.43 | D9: 8723 | E9: 44491
B10: Nepažabojama dvasia (Spirit Untamed) | C10: 49587.3 | D10: 10927 | E10: 44379
B11: Senatvė (Old) | C11: 31104.83 | D11: 5159 | E11: 44400
B12: Išvalymas amžiams (Forever Purge) | C12: 29701.11 | D12: 4903 | E12: 44379
B13: Bitininkas (Candyman) | C13: 17601.46 | D13: 3129 | E13: 44435
B14: Mainai su žudiku (Freaky) | C14: 9901.9 | D14: 1759 | E14: 44316
... B16: Troliai 2 (Trolls World Tour) | C16: 90 | D16: 36 | E16: 44078
A17: Dukine Film Distribution / Universal Pictures International Total | B17: =COUNTA(B2:B16) -> 15 | C17: 2056633.3 | D17: 350696
A18: Theatrical Film Distribution / WDSMPI | B18: Lukas (Luca) | C18: 229363.01 | D18: 49445 | E18: 44400
B19: Amžinieji (Eternals) | C19: 170537.72 | D19: 24530 | E19: 44505
B20: Enkanto (Encanto) | C20: 159751.64 | D20: 31903 | E20: 44526
B21: Laisvasis Gajus (Free Guy) | C21: 158217.67 | D21: 25656 | E21: 44421
B22: Nepataisomas Ronas (Ron's Gone Wrong) | C22: 97754.26 | D22: 20380 | E22: 44498
B23: Juodoji našlė (Black Widow) | C23: 88992.05 | D23: 13940 | E23: 44386
B24: Šang-Či ir dešimties žiedų legenda (Shang-Chi and the Legend of the Ten Rings) | C24: 86669.78 | D24: 13578 | E24: 44442
B25: Rėja ir paskutinysis drakonas (Raya and the Last Dragon) | C25: 55114 | D25: 11921 | E25: 44337
B26: Siela (Soul) | C26: 45878.69 | D26: 9570 | E26: 44316
B27: Džiunglių kruizas (Jungle Cruise) | C27: 44786.66 | D27: 8057 | E27: 44407
B28: Prancūzijos kronikos iš Liberčio, Kanzaso vakaro saulės (The French Dispatch of the Liberty, Kansas Evening Sun) | C28: 43929.98 | D28: 7358 | E28: 44512
B29: Nepasotinamas alkis (Antlers) | C29: 37723.03 | D29: 5931 | E29: 44498
B30: Paskutinė dvikova (The Last Duel) | C30: 30364.85 | D30: 4888 | E30: 44484
... B36: Liūtas karalius (The Lion King) | C36: 248.5 | D36: 130 | E36: 43665
A37: Theatrical Film Distribution / WDSMPI Total | B37: =COUNTA(B18:B36) -> 19 | C37: 1311324.8 | D37: 238101
A38: ACME Film / SONY | B38: Žmogus voras: nėra kelio atgal (Spiderman No Way Home) | C38: 499426.42 | D38: 72038 | E38: 44547
B39: Venomas 2 (Venom Let There Be Carnage) | C39: 341881.88 | D39: 49643 | E39: 44484
B40: Pabėgimo kambarys 2: Išėjimo nėra (Escape Room 2) | C40: 90615.95 | D40: 14520 | E40: 44393
B41: Vaiduoklių medžiotojai: Iš anapus (Ghostbusters Afterlife ) | C41: 77304.14 | D41: 12006 | E41: 44519
B42: Triušis Piteris2: Pabėgimas (Peter Rabbit 2) | C42: 68109.7 | D42: 14892 | E42: 44358
B43: Nešventa (Unholy) | C43: 50332.88 | D43: 7319 | E43: 44323
B44: Absoliutus blogis: Nauja formulė (Resident Evil: Welcome to Raccoon City) | C44: 32776.18 | D44: 4956 | E44: 44533
B45: Mirties namai 2 (Dont Breathe 2) | C45: 30819.49 | D45: 4701 | E45: 44421
B46: Piktieji paukščiai. Filmas 2 (The Angry Birds Movie 2) | C46: 322 | D46: 172 | E46: 43700
A47: ACME Film / SONY Total | B47: =COUNTA(B38:B46) -> 9 | C47: 1191588.6 | D47: 180247
A48: ACME Film / WB | B48: Kopa (Dune) | C48: 450297.24 | D48: 67438 | E48: 44456
B49: Kosminis krepšinis: Nauja era (Space jam 2 (Space Jam: A New Legacy)) | C49: 158264.73 | D49: 32749 | E49: 44393
B50: Matrica. Prisikėlimas (Matrix Resurrecations) | C50: 132664.02 | D50: 19414 | E50: 44554
B51: Išvarymas 3: Velnias privertė mane tai padaryti (Conjuring 3) | C51: 110210.49 | D51: 17595 | E51: 44351
B52: Savižudžių būrys. Mobilizacija (Suicide Squad 2) | C52: 92604.29 | D52: 14214 | E52: 44414
B53: Tomas ir Džeris (Tom and Jerry) | C53: 54404.68 | D53: 11322 | E53: 44323
B54: Piktybinis (Malignant ) | C54: 41666.22 | D54: 6482 | E54: 44442
B55: Mortal Kombat (Mortal Kombat) | C55: 31277.08 | D55: 5240 | E55: 44316
B56: Godzila prieš Kongą (Godzilla vs Kong) | C56: 25976.38 | D56: 4334 | E56: 44323
B57: Nauja praeitis (Reminiscence) | C57: 18293.64 | D57: 2957 | E57: 44428
B58: Trokštantys mano mirties (Those Who Wish me Dead) | C58: 8012.41 | D58: 1303 | E58: 44330
B59: Nuostabioji moteris 1984 (Wonder Woman 84) | C59: 5328.7 | D59: 1016 | E59: 44316
B60: SKŪBIS DŪ! (Scoob!) | C60: 576 | D60: 290 | E60: 44092
A61: ACME Film / WB Total | B61: =COUNTA(B48:B60) -> 13 | C61: 1129575.9 | D61: 184354
A62: Garsų pasaulio įrašai | B62: After. Kai mes pasiklydom (After We Fell) | C62: 89129 | D62: 14255 | E62: 44449
B63: Vilkas ir liūtas (The Wolf and The Lion) | C63: 80544 | D63: 16508 | E63: 44512
B64: Eglutės 8 (Ёлки 8) | C64: 52813 | D64: 8336 | E64: 44547
B65: Žudiko žmonos asmens sargybinis (The Hitman's Wife's Bodyguard) | C65: 34096 | D65: 5755 | E65: 44365
B66: Pilotas (Летчик) | C66: 18621 | D66: 2831 | E66: 44540
B67: Laisvo elgesio močiutė 3. Pradžia (Прабабушка легкого поведения. Начало) | C67: 14566 | D67: 2357 | E67: 44337
B68: Eilė 19 (Ряд 19) | C68: 11826 | D68: 1815 | E68: 44526
B69: Sinefilija (Sinefilija ) | C69: 7194 | D69: 1558 | E69: 44533
B70: Ugnis (Огонь) | C70: 6494 | D70: 1224 | E70: 44316
B71: Palma (Пальма) | C71: 5892 | D71: 1198 | E71: 44330
B72: Įtakingiausias Amerikos gangsteris (Lansky) | C72: 5344 | D72: 954 | E72: 44379
B73: Pakeleivių karta (Voyagers) | C73: 5333 | D73: 916 | E73: 44337
B74: Ne bobų reikalai (Нефутбол) | C74: 4099 | D74: 680 | E74: 44449
... B79: Metai prieš karą (Gads pirms kara) | C79: 218 | D79: 78 | E79: 44547
A80: Garsų pasaulio įrašai Total | B80: =COUNTA(B62:B79) -> 18 | C80: 338758 | D80: 59687
A81: ACME Film | B81: Vyriškas įniršis (Wrath of Man (Cash Truck)) | C81: 51665.74 | D81: 8130 | E81: 44330
B82: Į mėnulį (Moonbound) | C82: 45319.96 | D82: 9563 | E82: 44470
B83: Mano mielas monstras (My Sweet Monster) | C83: 41476 | D83: 8732 | E83: 44505
B84: Svajoklis Budis 2 (Rock Dog 2) | C84: 26199.87 | D84: 6223 | E84: 44414
B85: Nekenčiu tavęs! (Hating Game) | C85: 24046.51 | D85: 3758 | E85: 44533
B86: Pilė (Les aventures de pil (Pil's Adventures)) | C86: 17958.22 | D86: 3761 | E86: 44533
B87: Kalėdos džiunglėse (Christmas in the Jungle) | C87: 17515.04 | D87: 3864 | E87: 44547
B88: Kuponų karalienės (Queenpins) | C88: 15918.32 | D88: 2653 | E88: 44442
B89: Spiralė (Spiral) | C89: 14098 | D89: 2189 | E89: 44337
B90: Seifas (Waydown (The Vault)) | C90: 13595.09 | D90: 2479 | E90: 44435
B91: Kurjeris (The Courier) | C91: 9101.48 | D91: 1556 | E91: 44344
B92: Vilkolakiai tarp mūsų (Werewolves Within) | C92: 7505.31 | D92: 1198 | E92: 44477
B93: Nes jai labai rūpi (I Care a Lot) | C93: 7331.81 | D93: 1239 | E93: 44337
... B108: Tarp pilkų debesų (Ashes in the Snow) | C108: 55 | D108: 18 | E108: 43385
A109: ACME Film Total | B109: =COUNTA(B81:B108) -> 28 | C109: 334924.14 | D109: 64839
A110: Dukine Film Distribution / Paramount Pictures | B110: Šunyčiai patruliai. Filmas (Paw Patrol: The Movie) | C110: 173075.68 | D110: 37301 | E110: 44428
B111: Tylos zona 2 (A Quiet Place 2) | C111: 107969.61 | D111: 17269 | E111: 44344
B112: Gyvatės akys: Eilinio Džo kilmė (Snake Eyes: G.I. Joe Origins) | C112: 5482.47 | D112: 913 | E112: 44400
B113: Ežiukas Sonic (Sonic The Hedgehog) | C113: 758.5 | D113: 365 | E113: 44008
B114: Dičkis šuo Klifordas (Clifford The Big Red Dog) | C114: 600 | D114: 120 | E114: 44568
A115: Dukine Film Distribution / Paramount Pictures Total | B115: =COUNTA(B110:B114) -> 5 | C115: 287886.26 | D115: 55968
A116: VLG Film | B116: Spurguliai (Extinct) | C116: 49027.85 | D116: 11042 | E116: 44372
B117: Aplink pasaulį per 80 dienų (Around The World in 80 days) | C117: 40044 | D117: 8433 | E117: 44540
B118: Perspektyvi mergina (Promising Young Woman) | C118: 23636.92 | D118: 4294 | E118: 44316
B119: Kortų skaičiuotojas (The Card Counter) | C119: 21071.74 | D119: 3362 | E119: 44463
B120: Paralelinės mamos (Parallel Mothers) | C120: 14096.17 | D120: 2588 | E120: 44477
B121: Rifkino festivalis (Rifkin‘s Festival) | C121: 13754.39 | D121: 2573 | E121: 44435
B122: Žaliasis riteris (The Green Knight) | C122: 12398.34 | D122: 2187 | E122: 44428
B123: Kibirkščiuojantis Luiso Veino gyvenimas (The Eletrical Life of Louis Wain) | C123: 12096.98 | D123: 2168 | E123: 44491
B124: (Ne)Tobulas vyras (I'm Your Man) | C124: 11539.86 | D124: 2436 | E124: 44421
...

Sheet 2021
A1: 2021
A2: Lietuvos kino teatruose rodytų filmų TOP
A5: Eil. Nr. | B5: Filmo pavadinimas | C5: Filmo pavadinimas originalo kalba | D5: Kilmės šalis | E5: Pajamos | F5: Žiūrovų skaičius | G5: Kopijų skaičius | H5: Premjeros data | I5: Platintojas
A6: =IF(B6<>"",ROWS($B$6:B6),"") -> 1 | B6: Gucci mados namai | C6: House of Gucci | D6: US | E6: 524254.11 | F6: 74919 | G6: 17 | H6: 44526 | I6: Dukine Film Distribution / Universal Pictures
A7: =IF(B7<>"",ROWS($B$6:B7),"") -> 2 | B7: Žmogus voras: nėra kelio atgal | C7: Spiderman No Way Home | D7: US | E7: 499426.42 | F7: 72038 | G7: 16 | H7: 44547 | I7: ACME Film / SONY
A8: =IF(B8<>"",ROWS($B$6:B8),"") -> 3 | B8: Kopa | C8: Dune | D8: US | E8: 450297.24 | F8: 67438 | G8: 17 | H8: 44456 | I8: ACME Film / WB
A9: =IF(B9<>"",ROWS($B$6:B9),"") -> 4 | B9: Mirtis palauks | C9: No Time To Die | D9: UK, US | E9: 414625.81 | F9: 61490 | G9: 18 | H9: 44470 | I9: Dukine Film Distribution / Universal Pictures
A10: =IF(B10<>"",ROWS($B$6:B10),"") -> 5 | B10: Venomas 2 | C10: Venom Let There Be Carnage | D10: US | E10: 341881.88 | F10: 49643 | G10: 15 | H10: 44484 | I10: ACME Film / SONY
A11: =IF(B11<>"",ROWS($B$6:B11),"") -> 6 | B11: Adamsų šeimynėlė 2 | C11: The Addams Family 2 | D11: US | E11: 257178.2 | F11: 51141 | G11: 20 | H11: 44477 | I11: Dukine Film Distribution / Universal Pictures
A12: =IF(B12<>"",ROWS($B$6:B12),"") -> 7 | B12: Ponas kūdikis 2. Šeimos reikalai | C12: The Boss Baby: Family Business | D12: US | E12: 240820.08 | F12: 49145 | G12: 20 | H12: 44456 | I12: Dukine Film Distribution / Universal Pictures
A13: =IF(B13<>"",ROWS($B$6:B13),"") -> 8 | B13: Lukas | C13: Luca | D13: US | E13: 229363.01 | F13: 49445 | G13: 19 | H13: 44400 | I13: Theatrical Film Distribution / WDSMPI
A14: =IF(B14<>"",ROWS($B$6:B14),"") -> 9 | B14: Greiti ir įsiutę 9 | C14: Fast and Furious 9 | D14: US | E14: 216992.94 | F14: 34411 | G14: 14 | H14: 44372 | I14: Dukine Film Distribution / Universal Pictures
A15: =IF(B15<>"",ROWS($B$6:B15),"") -> 10 | B15: Naktinė žvejyba | C15: Naktinė žvejyba | D15: LT | E15: 181409.14 | F15: 28724 | G15: 18 | H15: 44407 | I15: Stambus planas
A16: =IF(B16<>"",ROWS($B$6:B16),"") -> 11 | B16: Šunyčiai patruliai. Filmas | C16: Paw Patrol: The Movie | D16: US | E16: 173075.68 | F16: 37301 | G16: 17 | H16: 44428 | I16: Dukine Film Distribution / Paramount Pictures
A17: =IF(B17<>"",ROWS($B$6:B17),"") -> 12 | B17: Amžinieji | C17: Eternals | D17: US | E17: 170537.72 | F17: 24530 | G17: 15 | H17: 44505 | I17: Theatrical Film Distribution / WDSMPI
A18: =IF(B18<>"",ROWS($B$6:B18),"") -> 13 | B18: Enkanto | C18: Encanto | D18: US | E18: 159751.64 | F18: 31903 | G18: 19 | H18: 44526 | I18: Theatrical Film Distribution / WDSMPI
A19: =IF(B19<>"",ROWS($B$6:B19),"") -> 14 | B19: Kosminis krepšinis: Nauja era | C19: Space jam 2 (Space Jam: A New Legacy) | D19: US | E19: 158264.73 | F19: 32749 | G19: 15 | H19: 44393 | I19: ACME Film / WB
A20: =IF(B20<>"",ROWS($B$6:B20),"") -> 15 | B20: Laisvasis Gajus | C20: Free Guy | D20: US | E20: 158217.67 | F20: 25656 | G20: 15 | H20: 44421 | I20: Theatrical Film Distribution / WDSMPI
A21: =IF(B21<>"",ROWS($B$6:B21),"") -> 16 | B21: Šuolis | C21: Šuolis | D21: LT | E21: 144664.81 | F21: 25555 | G21: 20 | H21: 44456 | I21: Moonmakers
A22: =IF(B22<>"",ROWS($B$6:B22),"") -> 17 | B22: Matrica. Prisikėlimas | C22: Matrix Resurrecations | D22: US | E22: 132664.02 | F22: 19414 | G22: 18 | H22: 44554 | I22: ACME Film / WB
A23: =IF(B23<>"",ROWS($B$6:B23),"") -> 18 | B23: Dainuok 2 | C23: Sing 2 | D23: US | E23: 119664.86 | F23: 25432 | G23: 19 | H23: 44552 | I23: Dukine Film Distribution / Universal Pictures
A24: =IF(B24<>"",ROWS($B$6:B24),"") -> 19 | B24: Išvarymas 3: Velnias privertė mane tai padaryti | C24: Conjuring 3 | D24: US | E24: 110210.49 | F24: 17595 | G24: 14 | H24: 44351 | I24: ACME Film / WB
A25: =IF(B25<>"",ROWS($B$6:B25),"") -> 20 | B25: Tylos zona 2 | C25: A Quiet Place 2 | D25: US | E25: 107969.61 | F25: 17269 | G25: 15 | H25: 44344 | I25: Dukine Film Distribution / Paramount Pictures
A26: =IF(B26<>"",ROWS($B$6:B26),"") -> 21 | B26: Nepataisomas Ronas | C26: Ron's Gone Wrong | D26: US | E26: 97754.26 | F26: 20380 | G26: 17 | H26: 44498 | I26: Theatrical Film Distribution / WDSMPI
A27: =IF(B27<>"",ROWS($B$6:B27),"") -> 22 | B27: Savižudžių būrys. Mobilizacija | C27: Suicide Squad 2 | D27: US | E27: 92604.29 | F27: 14214 | G27: 15 | H27: 44414 | I27: ACME Film / WB
A28: =IF(B28<>"",ROWS($B$6:B28),"") -> 23 | B28: Pabėgimo kambarys 2: Išėjimo nėra | C28: Escape Room 2 | D28: US | E28: 90615.95 | F28: 14520 | G28: 14 | H28: 44393 | I28: ACME Film / SONY
A29: =IF(B29<>"",ROWS($B$6:B29),"") -> 24 | B29: After. Kai mes pasiklydom | C29: After We Fell | D29: US | E29: 89129 | F29: 14255 | G29: 16 | H29: 44449 | I29: Garsų pasaulio įrašai
A30: =IF(B30<>"",ROWS($B$6:B30),"") -> 25 | B30: Juodoji našlė | C30: Black Widow | D30: US | E30: 88992.05 | F30: 13940 | G30: 18 | H30: 44386 | I30: Theatrical Film Distribution / WDSMPI
A31: =IF(B31<>"",ROWS($B$6:B31),"") -> 26 | B31: Šang-Či ir dešimties žiedų legenda | C31: Shang-Chi and the Legend of the Ten Rings | D31: US | E31: 86669.78 | F31: 13578 | G31: 15 | H31: 44442 | I31: Theatrical Film Distribution / WDSMPI
A32: =IF(B32<>"",ROWS($B$6:B32),"") -> 27 | B32: Krudžiai 2. Naujasis amžius | C32: The Croods: A New Age | D32: US | E32: 83153.58 | F32: 18544 | G32: 17 | H32: 44351 | I32: Dukine Film Distribution / Universal Pictures
A33: =IF(B33<>"",ROWS($B$6:B33),"") -> 28 | B33: Vilkas ir liūtas | C33: The Wolf and The Lion | D33: FR | E33: 80544 | F33: 16508 | G33: 19 | H33: 44512 | I33: Garsų pasaulio įrašai
A34: =IF(B34<>"",ROWS($B$6:B34),"") -> 29 | B34: Vaiduoklių medžiotojai: Iš anapus | C34: Ghostbusters Afterlife | D34: US | E34: 77304.14 | F34: 12006 | G34: 15 | H34: 44519 | I34: ACME Film / SONY
A35: =IF(B35<>"",ROWS($B$6:B35),"") -> 30 | B35: Triušis Piteris2: Pabėgimas | C35: Peter Rabbit 2 | D35: US, AU | E35: 68109.7 | F35: 14892 | G35: 17 | H35: 44358 | I35: ACME Film / SONY
A36: =IF(B36<>"",ROWS($B$6:B36),"") -> 31 | B36: Helovinas žudo | C36: Halloween Kills | D36: US | E36: 55795.43 | F36: 8723 | G36: 15 | H36: 44491 | I36: Dukine Film Distribution / Universal Pictures
A37: =IF(B37<>"",ROWS($B$6:B37),"") -> 32 | B37: Rėja ir paskutinysis drakonas | C37: Raya and the Last Dragon | D37: US | E37: 55114 | F37: 11921 | G37: 17 | H37: 44337 | I37: Theatrical Film Distribution / WDSMPI
A38: =IF(B38<>"",ROWS($B$6:B38),"") -> 33 | B38: Tomas ir Džeris | C38: Tom and Jerry | D38: US | E38: 54404.68 | F38: 11322 | G38: 14 | H38: 44323 | I38: ACME Film / WB
A39: =IF(B39<>"",ROWS($B$6:B39),"") -> 34 | B39: Eglutės 8 | C39: Ёлки 8 | D39: RU | E39: 52813 | F39: 8336 | G39: 10 | H39: 44547 | I39: Garsų pasaulio įrašai
A40: =IF(B40<>"",ROWS($B$6:B40),"") -> 35 | B40: Vyriškas įniršis | C40: Wrath of Man (Cash Truck) | D40: US | E40: 51665.74 | F40: 8130 | G40: 15 | H40: 44330 | I40: ACME Film
A41: =IF(B41<>"",ROWS($B$6:B41),"") -> 36 | B41: Nešventa | C41: Unholy | D41: US | E41: 50332.88 | F41: 7319 | G41: 11 | H41: 44323 | I41: ACME Film / SONY
A42: =IF(B42<>"",ROWS($B$6:B42),"") -> 37 | B42: Nepažabojama dvasia | C42: Spirit Untamed | D42: US | E42: 49587.3 | F42: 10927 | G42: 17 | H42: 44379 | I42: Dukine Film Distribution / Universal Pictures
A43: =IF(B43<>"",ROWS($B$6:B43),"") -> 38 | B43: Spurguliai | C43: Extinct | D43: US, CN | E43: 49027.85 | F43: 11042 | G43: 18 | H43: 44372 | I43: VLG film
A44: =IF(B44<>"",ROWS($B$6:B44),"") -> 39 | B44: Siela | C44: Soul | D44: US | E44: 45878.69 | F44: 9570 | G44: 13 | H44: 44316 | I44: Theatrical Film Distribution / WDSMPI
A45: =IF(B45<>"",ROWS($B$6:B45),"") -> 40 | B45: Į mėnulį | C45: Moonbound | D45: DE, AT | E45: 45319.96 | F45: 9563 | G45: 17 | H45: 44470 | I45: ACME Film
A46: =IF(B46<>"",ROWS($B$6:B46),"") -> 41 | B46: Džiunglių kruizas | C46: Jungle Cruise | D46: US | E46: 44786.66 | F46: 8057 | G46: 15 | H46: 44407 | I46: Theatrical Film Distribution / WDSMPI
A47: =IF(B47<>"",ROWS($B$6:B47),"") -> 42 | B47: Prancūzijos kronikos iš Liberčio, Kanzaso vakaro saulės | C47: The French Dispatch of the Liberty, Kansas Evening Sun | D47: US, DE | E47: 43929.98 | F47: 7358 | G47: 18 | H47: 44512 | I47: Theatrical Film Distribution / WDSMPI
A48: =IF(B48<>"",ROWS($B$6:B48),"") -> 43 | B48: Izaokas | C48: Izaokas | D48: LT | E48: 43144.28 | F48: 7836 | G48: 20 | H48: 44421 | I48: Film Jam
A49: =IF(B49<>"",ROWS($B$6:B49),"") -> 44 | B49: Piktybinis | C49: Malignant | D49: US | E49: 41666.22 | F49: 6482 | G49: 11 | H49: 44442 | I49: ACME Film / WB
A50: =IF(B50<>"",ROWS($B$6:B50),"") -> 45 | B50: Mano mielas monstras | C50: My Sweet Monster | D50: RU | E50: 41476 | F50: 8732 | G50: 17 | H50: 44505 | I50: ACME Film
A51: =IF(B51<>"",ROWS($B$6:B51),"") -> 46 | B51: Aplink pasaulį per 80 dienų | C51: Around The World in 80 days | D51: FR, BE | E51: 40044 | F51: 8433 | G51: 21 | H51: 44540 | I51: VLG film
A52: =IF(B52<>"",ROWS($B$6:B52),"") -> 47 | B52: Vyras už pinigus | C52: Vyras už pinigus | D52: LT | E52: 38916.21 | F52: 5803 | G52: 13 | H52: 44561 | I52: Dublis LT
A53: =IF(B53<>"",ROWS($B$6:B53),"") -> 48 | B53: Nepasotinamas alkis | C53: Antlers | D53: US | E53: 37723.03 | F53: 5931 | G53: 16 | H53: 44498 | I53: Theatrical Film Distribution / WDSMPI
A54: =IF(B54<>"",ROWS($B$6:B54),"") -> 49 | B54: Operacija "O2" | C54: Operacija "O2" | D54: EE, LT, FI, LV | E54: 37457.95 | F54: 5995 | G54: 19 | H54: 44491 | I54: Theatrical Film Distribution
A55: =IF(B55<>"",ROWS($B$6:B55),"") -> 50 | B55: Žudiko žmonos asmens sargybinis | C55: The Hitman's Wife's Bodyguard | D55: US | E55: 34096 | F55: 5755 | G55: 11 | H55: 44365 | I55: Garsų pasaulio įrašai
A56: =IF(B56<>"",ROWS($B$6:B56),"") -> 51 | B56: Absoliutus blogis: Nauja formulė | C56: Resident Evil: Welcome to Raccoon City | D56: US | E56: 32776.18 | F56: 4956 | G56: 15 | H56: 44533 | I56: ACME Film / SONY
A57: =IF(B57<>"",ROWS($B$6:B57),"") -> 52 | B57: Mortal Kombat | C57: Mortal Kombat | D57: US | E57: 31277.08 | F57: 5240 | G57: 6 | H57: 44316 | I57: ACME Film / WB
A58: =IF(B58<>"",ROWS($B$6:B58),"") -> 53 | B58: Senatvė | C58: Old | D58: US | E58: 31104.83 | F58: 5159 | G58: 15 | H58: 44400 | I58: Dukine Film Distribution / Universal Pictures
A59: =IF(B59<>"",ROWS($B$6:B59),"") -> 54 | B59: Mirties namai 2 | C59: Dont Breathe 2 | D59: US | E59: 30819.49 | F59: 4701 | G59: 12 | H59: 44421 | I59: ACME Film / SONY
A60: =IF(B60<>"",ROWS($B$6:B60),"") -> 55 | B60: Tėvas | C60: The Father | D60: UK, FR | E60: 30603 | F60: 5445 | G60: 15 | H60: 44316 | I60: Best Film
A61: =IF(B61<>"",ROWS($B$6:B61),"") -> 56 | B61: Paskutinė dvikova | C61: The Last Duel | D61: US | E61: 30364.85 | F61: 4888 | G61: 17 | H61: 44484 | I61: Theatrical Film Distribution / WDSMPI
A62: =IF(B62<>"",ROWS($B$6:B62),"") -> 57 | B62: Išvalymas amžiams | C62: Forever Purge | D62: US | E62: 29701.11 | F62: 4903 | G62: 14 | H62: 44379 | I62: Dukine Film Distribution / Universal Pictures
A63: =IF(B63<>"",ROWS($B$6:B63),"") -> 58 | B63: Bėgikė | C63: Bėgikė | D63: LT, CZ | E63: 27731.62 | F63: 4913 | G63: 17 | H63: 44519 | I63: M-Films
A64: =IF(B64<>"",ROWS($B$6:B64),"") -> 59 | B64: Svajoklis Budis 2 | C64: Rock Dog 2 | D64: US | E64: 26199.87 | F64: 6223 | G64: 16 | H64: 44414 | I64: ACME Film
A65: =IF(B65<>"",ROWS($B$6:B65),"") -> 60 | B65: Godzila prieš Kongą | C65: Godzilla vs Kong | D65: US | E65: 25976.38 | F65: 4334 | G65: 12 | H65: 44323 | I65: ACME Film / WB
A66: =IF(B66<>"",ROWS($B$6:B66),"") -> 61 | B66: Kruela | C66: Cruella | D66: US | E66: 25866.05 | F66: 4548 | G66: 14 | H66: 44344 | I66: Theatrical Film Distribution / WDSMPI
A67: =IF(B67<>"",ROWS($B$6:B67),"") -> 62 | B67: Latė ir stebuklingas akmuo | C67: Latte & the Magic Waterstone | D67: DE, BE | E67: 25436.96 | F67: 5744 | G67: 6 | H67: 44442 | I67: Travolta
A68: =IF(B68<>"",ROWS($B$6:B68),"") -> 63 | B68: Nakties namai | C68: The Night House | D68: US | E68: 25268.2 | F68: 4214 | G68: 12 | H68: 44428 | I68: Theatrical Film Distribution / WDSMPI
A69: =IF(B69<>"",ROWS($B$6:B69),"") -> 64 | B69: Klajoklių žemė | C69: Nomadland | D69: US | E69: 24183.65 | F69: 4280 | G69: 16 | H69: 44323 | I69: Theatrical Film Distribution / 20th Century Fox
A70: =IF(B70<>"",ROWS($B$6:B70),"") -> 65 | B70: Nekenčiu tavęs! | C70: Hating Game | D70: US | E70: 24046.51 | F70: 3758 | G70: 9 | H70: 44533 | I70: ACME Film
A71: =IF(B71<>"",ROWS($B$6:B71),"") -> 66 | B71: Perspektyvi mergina | C71: Promising Young Woman | D71: UK | E71: 23636.92 | F71: 4294 | G71: 7 | H71: 44316 | I71: VLG film
A72: =IF(B72<>"",ROWS($B$6:B72),"") -> 67 | B72: Kortų skaičiuotojas | C72: The Card Counter | D72: CN, UK, US | E72: 21071.74 | F72: 3362 | G72: 18 | H72: 44463 | I72: VLG film
A73: =IF(B73<>"",ROWS($B$6:B73),"") -> 68 | B73: Kaimynai | C73: The People Upstairs | D73: ES | E73: 20430.33 | F73: 3586 | G73: 5 | H73: 44379 | I73: Kino pasaka
A74: =IF(B74<>"",ROWS($B$6:B74),"") -> 69 | B74: Dar po vieną | C74: Druk | D74: DK, NL | E74: 19638 | F74: 3837 | G74: 2 | H74: 44330 | I74: Estinfilm
A75: =IF(B75<>"",ROWS($B$6:B75),"") -> 70 | B75: Pilotas | C75: Летчик | D75: RU | E75: 18621 | F75: 2831 | G75: 6 | H75: 44540 | I75: Garsų pasaulio įrašai
A76: =IF(B76<>"",ROWS($B$6:B76),"") -> 71 | B76: Nauja praeitis | C76: Reminiscence | D76: US | E76: 18293.64 | F76: 2957 | G76: 14 | H76: 44428 | I76: ACME Film / WB
A77: =IF(B77<>"",ROWS($B$6:B77),"") -> 72 | B77: Pilė | C77: Les aventures de pil (Pil's Adventures) | D77: FR | E77: 17958.22 | F77: 3761 | G77: 17 | H77: 44533 | I77: ACME Film
A78: =IF(B78<>"",ROWS($B$6:B78),"") -> 73 | B78: Bitininkas | C78: Candyman | D78: US | E78: 17601.46 | F78: 3129 | G78: 14 | H78: 44435 | I78: Dukine Film Distribution / Universal Pictures
A79: =IF(B79<>"",ROWS($B$6:B79),"") -> 74 | B79: Kalėdos džiunglėse | C79: Christmas in the Jungle | D79: LV | E79: 17515.04 | F79: 3864 | G79: 17 | H79: 44547 | I79: ACME Film
A80: =IF(B80<>"",ROWS($B$6:B80),"") -> 75 | B80: Kaip „Titanikas“ mane išgelbėjo | C80: How the Titanic Became My Lifeboat | D80: IS | E80: 16925.99 | F80: 3891 | G80: 19 | H80: 44512 | I80: Theatrical Film Distribution
A81: =IF(B81<>"",ROWS($B$6:B81),"") -> 76 | B81: Benedeta | C81: Benedetta | D81: FR | E81: 16276 | F81: 2584 | G81: 11 | H81: 44512 | I81: Best Film
A82: =IF(B82<>"",ROWS($B$6:B82),"") -> 77 | B82: Kuponų karalienės | C82: Queenpins | D82: US | E82: 15918.32 | F82: 2653 | G82: 16 | H82: 44442 | I82: ACME Film
A83: =IF(B83<>"",ROWS($B$6:B83),"") -> 78 | B83: Černobylis. Bedugnė | C83: Чернобыль | D83: RU | E83: 15084.6 | F83: 2417 | G83: 11 | H83: 44323 | I83: Theatrical Film Distribution
A84: =IF(B84<>"",ROWS($B$6:B84),"") -> 79 | B84: Laisvo elgesio močiutė 3. Pradžia | C84: Прабабушка легкого поведения. Начало | D84: RU | E84: 14566 | F84: 2357 | G84: 6 | H84: 44337 | I84: Garsų pasaulio įrašai
A85: =IF(B85<>"",ROWS($B$6:B85),"") -> 80 | B85: Spiralė | C85: Spiral | D85: US | E85: 14098 | F85: 2189 | G85: 14 | H85: 44337 | I85: ACME Film
A86: =IF(B86<>"",ROWS($B$6:B86),"") -> 81 | B86: Paralelinės mamos | C86: Parallel Mothers | D86: ES | E86: 14096.17 | F86: 2588 | G86: 17 | H86: 44477 | I86: VLG film
A87: =IF(B87<>"",ROWS($B$6:B87),"") -> 82 | B87: Rifkino festivalis | C87: Rifkin‘s Festival | D87: ES, US, IT | E87: 13754.39 | F87: 2573 | G87: 16 | H87: 44435 | I87: VLG film
A88: =IF(B88<>"",ROWS($B$6:B88),"") -> 83 | B88: Seifas | C88: Waydown (The Vault) | D88: ES | E88: 13595.09 | F88: 2479 | G88: 14 | H88: 44435 | I88: ACME Film
A89: =IF(B89<>"",ROWS($B$6:B89),"") -> 84 | B89: Žaliasis riteris | C89: The Green Knight | D89: IE, CA, US, UK | E89: 12398.34 | F89: 2187 | G89: 17 | H89: 44428 | I89: VLG film
A90: =IF(B90<>"",ROWS($B$6:B90),"") -> 85 | B90: Kibirkščiuojantis Luiso Veino gyvenimas | C90: The Eletrical Life of Louis Wain | D90: UK | E90: 12096.98 | F90: 2168 | G90: 12 | H90: 44491 | I90: VLG film
A91: =IF(B91<>"",ROWS($B$6:B91),"") -> 86 | B91: Eilė 19 | C91: Ряд 19 | D91: RU | E91: 11826 | F91: 1815 | G91: 10 | H91: 44526 | I91: Garsų pasaulio įrašai
A92: =IF(B92<>"",ROWS($B$6:B92),"") -> 87 | B92: (Ne)Tobulas vyras | C92: I'm Your Man | D92: DE | E92: 11539.86 | F92: 2436 | G92: 14 | H92: 44421 | I92: VLG film
A93: =IF(B93<>"",ROWS($B$6:B93),"") -> 88 | B93: Ledo kelias | C93: The Ice Road | D93: US | E93: 11347 | F93: 1985 | G93: 14 | H93: 44379 | I93: VLG film
A94: =IF(B94<>"",ROWS($B$6:B94),"") -> 89 | B94: Žose, tigras ir žuvis | C94: Josee, the Tiger and the Fish | D94: JP | E94: 11085 | F94: 2079 | G94: 13 | H94: 44365 | I94: VLG film
A95: =IF(B95<>"",ROWS($B$6:B95),"") -> 90 | B95: Apsėstoji | C95: Demonic | D95: CA | E95: 11018.2 | F95: 1715 | G95: 10 | H95: 44414 | I95: Theatrical Film Distribution
A96: =IF(B96<>"",ROWS($B$6:B96),"") -> 91 | B96: Mainai su žudiku | C96: Freaky | D96: US | E96: 9901.9 | F96: 1759 | G96: 11 | H96: 44316 | I96: Dukine Film Distribution / Universal Pictures International
A97: =IF(B97<>"",ROWS($B$6:B97),"") -> 92 | B97: Titane | C97: Titane | D97: FR | E97: 9350 | F97: 1683 | G97: 8 | H97: 44484 | I97: A-One Films
A98: =IF(B98<>"",ROWS($B$6:B98),"") -> 93 | B98: Kurjeris | C98: The Courier | D98: US, UK | E98: 9101.48 | F98: 1556 | G98: 13 | H98: 44344 | I98: ACME Film
A99: =IF(B99<>"",ROWS($B$6:B99),"") -> 94 | B99: Kiaulė | C99: Pig | D99: US | E99: 9005.09 | F99: 1733 | G99: 14 | H99: 44435 | I99: Theatrical Film Distribution
A100: =IF(B100<>"",ROWS($B$6:B100),"") -> 95 | B100: Eifelis | C100: Eiffel | D100: FR | E100: 8807.32 | F100: 1578 | G100: 15 | H100: 44533 | I100: VLG film
A101: =IF(B101<>"",ROWS($B$6:B101),"") -> 96 | B101: Trokštantys mano mirties | C101: Those Who Wish me Dead | D101: US | E101: 8012.41 | F101: 1303 | G101: 11 | H101: 44330 | I101: ACME Film / WB
A102: =IF(B102<>"",ROWS($B$6:B102),"") -> 97 | B102: Vestsaido istorija | C102: West Side Story | D102: US | E102: 7688.54 | F102: 1311 | G102: 17 | H102: 44540 | I102: Theatrical Film Distribution / WDSMPI
...

Sheet Balandis
A1: ='2021'!A1 -> 2021
A2: ='2021'!A2 -> Lietuvos kino teatruose rodytų filmų TOP
A3: Balandis
A5: Eil. Nr. | B5: Filmo pavadinimas | C5: Filmo pavadinimas originalo kalba | D5: Kilmės šalis | E5: Pajamos | F5: Žiūrovų skaičius | G5: Kopijų skaičius | H5: Premjeros data | I5: Platintojas
A6: =IF(B6<>"",ROWS($B$6:B6),"") -> 1 | B6: Mortal Kombat | C6: Mortal Kombat | D6: US | E6: 11730.84 | F6: 2320 | G6: 6 | H6: 44316 | I6: ACME Film / WB
A7: =IF(B7<>"",ROWS($B$6:B7),"") -> 2 | B7: Siela | C7: Soul | D7: US | E7: 5967.66 | F7: 1530 | G7: 13 | H7: 44316 | I7: Theatrical Film Distribution / WDSMPI
A8: =IF(B8<>"",ROWS($B$6:B8),"") -> 3 | B8: Mainai su žudiku | C8: Freaky | D8: US | E8: 3503.65 | F8: 722 | G8: 11 | H8: 44316 | I8: Dukine Film Distribution / Universal Pictures International
A9: =IF(B9<>"",ROWS($B$6:B9),"") -> 4 | B9: Perspektyvi mergina | C9: Promising Young Woman | D9: UK | E9: 2180.7 | F9: 642 | G9: 7 | H9: 44316 | I9: VLG film
A10: =IF(B10<>"",ROWS($B$6:B10),"") -> 5 | B10: Tėvas | C10: The Father | D10: UK, FR | E10: 2150.05 | F10: 615 | G10: 8 | H10: 44316 | I10: Best Film
A11: =IF(B11<>"",ROWS($B$6:B11),"") -> 6 | B11: Nuostabioji moteris 1984 | C11: Wonder Woman 84 | D11: US | E11: 1749.2 | F11: 418 | G11: 6 | H11: 44316 | I11: ACME Film / WB
A12: =IF(B12<>"",ROWS($B$6:B12),"") -> 7 | B12: Išvalyti atmintį | C12: Effacer L'historique | D12: FR | E12: 869 | F12: 181 | G12: 5 | H12: 44316 | I12: A-One Films
A13: =IF(B13<>"",ROWS($B$6:B13),"") -> 8 | B13: Ugnis | C13: Огонь | D13: RU | E13: 585 | F13: 196 | G13: 5 | H13: 44316 | I13: Garsų pasaulio įrašai
A14: =IF(B14<>"",ROWS($B$6:B14),"") -> 9 | B14: Kalakutas, vynas ir merginos | C14: Dinner With Friends | D14: US | E14: 229.8 | F14: 41 | G14: 2 | H14: 44141 | I14: Theatrical Film Distribution
A15: =IF(B15<>"",ROWS($B$6:B15),"") -> 10 | B15: Sapnų kūrėjai | C15: Dreambuilders | D15: DK | E15: 179.15 | F15: 54 | G15: 2 | H15: 44113 | I15: ACME Film
A16: =IF(B16<>"",ROWS($B$6:B16),"") -> 11 | B16: Kolos praraja. Požemių balsai | C16: Кольская сверхглубокая | D16: RU | E16: 155 | F16: 26 | G16: 1 | H16: 44141 | I16: VLG Film
A17: =IF(B17<>"",ROWS($B$6:B17),"") -> 12 | B17: Didžiapėdžio vaikis 2 | C17: Bigfoot family | D17: BE, FR | E17: 83.75 | F17: 17 | G17: 1 | H17: 44106 | I17: VLG Film
A18: =IF(B18<>"",ROWS($B$6:B18),"") -> 13 | B18: Drakono raitelis | C18: Dragon Rider | D18: DE | E18: 48 | F18: 20 | G18: 1 | H18: 44127 | I18: Garsų pasaulio įrašai
E19: =SUBTOTAL(109,Table3_Balandis[Pajamos]) -> 29431.8 | F19: =SUBTOTAL(109,Table3_Balandis[Žiūrovų skaičius]) -> 6782

Sheet Gegužė
A1: ='2021'!A1 -> 2021
A2: ='2021'!A2 -> Lietuvos kino teatruose rodytų filmų TOP
A3: Gegužė
A5: Eil. Nr. | B5: Filmo pavadinimas | C5: Filmo pavadinimas originalo kalba | D5: Kilmės šalis | E5: Pajamos | F5: Žiūrovų skaičius | G5: Kopijų skaičius | H5: Premjeros data | I5: Platintojas
A6: =IF(B6<>"",ROWS($B$6:B6),"") -> 1 | B6: Nešventa | C6: Unholy | D6: US | E6: 49584.38 | F6: 7198 | G6: 11 | H6: 44323 | I6: ACME Film / SONY
A7: =IF(B7<>"",ROWS($B$6:B7),"") -> 2 | B7: Tomas ir Džeris | C7: Tom and Jerry | D7: US | E7: 48582.17 | F7: 9999 | G7: 14 | H7: 44323 | I7: ACME Film / WB
A8: =IF(B8<>"",ROWS($B$6:B8),"") -> 3 | B8: Vyriškas įniršis | C8: Wrath of Man (Cash Truck) | D8: US | E8: 44066.67 | F8: 6877 | G8: 15 | H8: 44330 | I8: ACME Film
A9: =IF(B9<>"",ROWS($B$6:B9),"") -> 4 | B9: Tylos zona 2 | C9: A Quiet Place 2 | D9: US | E9: 37119.64 | F9: 5398 | G9: 15 | H9: 44344 | I9: Dukine Film Distribution / Paramount Pictures
A10: =IF(B10<>"",ROWS($B$6:B10),"") -> 5 | B10: Siela | C10: Soul | D10: US | E10: 35880.31 | F10: 7139 | G10: 17 | H10: 44316 | I10: Theatrical Film Distribution / WDSMPI
A11: =IF(B11<>"",ROWS($B$6:B11),"") -> 6 | B11: Rėja ir paskutinysis drakonas | C11: Raya and the Last Dragon | D11: US | E11: 33335.04 | F11: 6958 | G11: 17 | H11: 44337 | I11: Theatrical Film Distribution / WDSMPI
A12: =IF(B12<>"",ROWS($B$6:B12),"") -> 7 | B12: Tėvas | C12: The Father | D12: UK, FR | E12: 24837.87 | F12: 4132 | G12: 15 | H12: 44316 | I12: Best Film
A13: =IF(B13<>"",ROWS($B$6:B13),"") -> 8 | B13: Godzila prieš Kongą | C13: Godzilla vs Kong | D13: US | E13: 24397.43 | F13: 4048 | G13: 12 | H13: 44323 | I13: ACME Film / WB
A14: =IF(B14<>"",ROWS($B$6:B14),"") -> 9 | B14: Klajoklių žemė | C14: Nomadland | D14: US | E14: 21601.15 | F14: 3773 | G14: 16 | H14: 44323 | I14: Theatrical Film Distribution / WDSMPI
A15: =IF(B15<>"",ROWS($B$6:B15),"") -> 10 | B15: Perspektyvi mergina | C15: Promising Young Woman | D15: UK | E15: 19707.12 | F15: 3293 | G15: 14 | H15: 44316 | I15: VLG film
A16: =IF(B16<>"",ROWS($B$6:B16),"") -> 11 | B16: Mortal Kombat | C16: Mortal Kombat | D16: US | E16: 19546.24 | F16: 2920 | G16: 11 | H16: 44316 | I16: ACME Film / WB
A17: =IF(B17<>"",ROWS($B$6:B17),"") -> 12 | B17: Černobylis. Bedugnė | C17: Чернобыль | D17: RU | E17: 14548.3 | F17: 2315 | G17: 11 | H17: 44323 | I17: Theatrical Film Distribution
... A30: =IF(B30<>"",ROWS($B$6:B30),"") -> 25 | B30: Kurjeris | C30: The Courier | D30: US, UK | E30: 4276.38 | F30: 703 | G30: 13 | H30: 44344 | I30: ACME Film
A31: =IF(B31<>"",ROWS($B$6:B31),"") -> 26 | B31: Didžiapėdžio vaikis 2 | C31: Bigfoot family | D31: BE, FR | E31: 4158 | F31: 809 | G31: 4 | H31: 44106 | I31: VLG Film
A32: =IF(B32<>"",ROWS($B$6:B32),"") -> 27 | B32: Undinė | C32: Undine | D32: DE | E32: 4028 | F32: 809 | G32: 6 | H32: 44323 | I32: A-One Films
A33: =IF(B33<>"",ROWS($B$6:B33),"") -> 28 | B33: Nuostabioji moteris 1984 | C33: Wonder Woman 84 | D33: US | E33: 3579.5 | F33: 598 | G33: 10 | H33: 44316 | I33: ACME Film / WB
A34: =IF(B34<>"",ROWS($B$6:B34),"") -> 29 | B34: Dar po vieną | C34: Druk | D34: DK, NL | E34: 3332 | F34: 650 | G34: 2 | H34: 44330 | I34: Estinfilm
A35: =IF(B35<>"",ROWS($B$6:B35),"") -> 30 | B35: Vasara'85 | C35: Été 85 | D35: BE, FR | E35: 2263.12 | F35: 460 | G35: 4 | H35: 44330 | I35: A-One Films
A36: =IF(B36<>"",ROWS($B$6:B36),"") -> 31 | B36: Sapnų kūrėjai | C36: Dreambuilders | D36: DK | E36: 2220.95 | F36: 429 | G36: 3 | H36: 44113 | I36: ACME Film
A37: =IF(B37<>"",ROWS($B$6:B37),"") -> 32 | B37: Žmonės, kuriuos pažįstam | C37: Žmonės, kuriuos pažįstam | D37: LT | E37: 2094.67 | F37: 396 | G37: 11 | H37: 44344 | I37: Just a Moment
A38: =IF(B38<>"",ROWS($B$6:B38),"") -> 33 | B38: Blogos pasakos | C38: Bad Tales | D38: IT, CH | E38: 2031 | F38: 423 | G38: 6 | H38: 44344 | I38: A-One Films
A39: =IF(B39<>"",ROWS($B$6:B39),"") -> 34 | B39: Meinstrymas | C39: Mainstream | D39: US | E39: 1829 | F39: 340 | G39: 6 | H39: 44337 | I39: A-One Films
A40: =IF(B40<>"",ROWS($B$6:B40),"") -> 35 | B40: Paskutinis didvyris: blogio ištakos | C40: Последний богатырь: Корень зла | D40: RU | E40: 1711.97 | F40: 320 | G40: 4 | H40: 44344 | I40: Best Film
A41: =IF(B41<>"",ROWS($B$6:B41),"") -> 36 | B41: Aš esu Greta | C41: I Am Greta | D41: SE | E41: 1174 | F41: 304 | G41: 3 | H41: 44316 | I41: Europos kinas
A42: =IF(B42<>"",ROWS($B$6:B42),"") -> 37 | B42: Išvalyti atmintį | C42: Effacer L'historique | D42: FR | E42: 1061.5 | F42: 195 | G42: 4 | H42: 44316 | I42: A-One Films
A43: =IF(B43<>"",ROWS($B$6:B43),"") -> 38 | B43: Gagarinas | C43: Gagarine | D43: FR | E43: 515.7 | F43: 108 | G43: 3 | H43: 44316 | I43: Europos kinas
A44: =IF(B44<>"",ROWS($B$6:B44),"") -> 39 | B44: Kalakutas, vynas ir merginos | C44: Dinner With Friends | D44: US | E44: 461.2 | F44: 72 | G44: 3 | H44: 44141 | I44: Theatrical Film Distribution
A45: =IF(B45<>"",ROWS($B$6:B45),"") -> 40 | B45: Kolos praraja. Požemių balsai | C45: Кольская сверхглубокая | D45: RU | E45: 456.5 | F45: 77 | G45: 2 | H45: 44141 | I45: VLG Film
A46: =IF(B46<>"",ROWS($B$6:B46),"") -> 41 | B46: Drakono raitelis | C46: Dragon Rider | D46: DE | E46: 377 | F46: 194 | G46: 1 | H46: 44127 | I46: Garsų pasaulio įrašai
A47: =IF(B47<>"",ROWS($B$6:B47),"") -> 42 | B47: Bintė | C47: Binti | D47: BE | E47: 370 | F47: 88 | G47: 1 | H47: 44080 | I47: Skalvijos kino centras
A48: =IF(B48<>"",ROWS($B$6:B48),"") -> 43 | B48: Jokūbas, Mimi ir kalbantys šunys | C48: Jekabs, Mimmi un runajosie suni | D48: LV, PL | E48: 320 | F48: 67 | G48: 1 | H48: 44114 | I48: Skalvijos kino centras
A49: =IF(B49<>"",ROWS($B$6:B49),"") -> 44 | B49: Nesėkmė dulkinantis arba šelmiškas porno | C49: Babardeala cu bucluc sau porno balamuc | D49: RO, LU, CZ, HR | E49: 272.44 | F49: 58 | G49: 5 | H49: 44316 | I49: Europos Kinas
A50: =IF(B50<>"",ROWS($B$6:B50),"") -> 45 | B50: Prakaituok! | C50: Sweat | D50: SE, PL | E50: 266.5 | F50: 49 | G50: 2 | H50: 44330 | I50: Kino aljansas
A51: =IF(B51<>"",ROWS($B$6:B51),"") -> 46 | B51: Persų kalbos pamokos | C51: Persian Lessons | D51: DE, RU | E51: 260.6 | F51: 44 | G51: 3 | H51: 44134 | I51: Best Film
A52: =IF(B52<>"",ROWS($B$6:B52),"") -> 47 | B52: Tapytoja ir vagis | C52: he Painter and the Thief | D52: NO | E52: 259 | F52: 51 | G52: 3 | H52: 44316 | I52: Europos kinas
A53: =IF(B53<>"",ROWS($B$6:B53),"") -> 48 | B53: Arčiau debesų | C53: Cloudboy | D53: BG/SE/NL/NO | E53: 225 | F53: 45 | G53: 1 | H53: 42988 | I53: Skalvijos kino centras
A54: =IF(B54<>"",ROWS($B$6:B54),"") -> 49 | B54: Vampyriukas | C54: Petit vampire | D54: FR | E54: 223.52 | F54: 59 | G54: 3 | H54: 44316 | I54: Europos kinas
A55: =IF(B55<>"",ROWS($B$6:B55),"") -> 50 | B55: Meilės reikalai | C55: Les choses qu'on dit, les choses qu'on fait | D55: FR | E55: 216 | F55: 46 | G55: 2 | H55: 44316 | I55: Europos kinas
A56: =IF(B56<>"",ROWS($B$6:B56),"") -> 51 | B56: Nauja tvarka | C56: Nuevo orden | D56: FR, MX | E56: 159 | F56: 30 | G56: 2 | H56: 44316 | I56: Europos kinas
A57: =IF(B57<>"",ROWS($B$6:B57),"") -> 52 | B57: Liberté | C57: Liberté | D57: FR, ES, PT | E57: 145.5 | F57: 37 | G57: 2 | H57: 43560 | I57: Europos kinas
A58: =IF(B58<>"",ROWS($B$6:B58),"") -> 53 | B58: Atsargiai, ragana | C58: Zlogonje | D58: MK | E58: 144 | F58: 48 | G58: 1 | H58: 43435 | I58: Skalvijos kino centras
A59: =IF(B59<>"",ROWS($B$6:B59),"") -> 54 | B59: Quo vadis, Aida? | C59: Quo vadis, Aida? | D59: BA, AT, RO, NL, DE, PL, FR | E59: 134 | F59: 32 | G59: 3 | H59: 44316 | I59: Europos kinas
A60: =IF(B60<>"",ROWS($B$6:B60),"") -> 55 | B60: Obuoliai | C60: Mila | D60: GR, PL, SI | E60: 128 | F60: 25 | G60: 2 | H60: 44316 | I60: Europos kinas
A61: =IF(B61<>"",ROWS($B$6:B61),"") -> 56 | B61: Nuostabi epocha | C61: La Belle Epoque | D61: FR | E61: 125 | F61: 19 | G61: 2 | H61: 43805 | I61: VLG Film
A62: =IF(B62<>"",ROWS($B$6:B62),"") -> 57 | B62: Ypatingieji | C62: The Specials | D62: FR | E62: 121 | F62: 25 | G62: 1 | H62: 43868 | I62: Theatrical Film Distribution
A63: =IF(B63<>"",ROWS($B$6:B63),"") -> 58 | B63: Nuosavas šnipas | C63: My Spy | D63: US | E63: 110 | F63: 10 | G63: 1 | H63: 44050 | I63: ACME Film
A64: =IF(B64<>"",ROWS($B$6:B64),"") -> 59 | B64: Sniego daugiau nebus | C64: Śniegu już nigdy nie będzie | D64: PL, DE | E64: 107 | F64: 21 | G64: 2 | H64: 44316 | I64: Europos kinas
A65: =IF(B65<>"",ROWS($B$6:B65),"") -> 60 | B65: Panelė Rūgštynė | C65: Jamais Contente | D65: FR | E65: 100 | F65: 25 | G65: 1 | H65: 42721 | I65: Skalvijos kino centras
A66: =IF(B66<>"",ROWS($B$6:B66),"") -> 61 | B66: Romi salonas | C66: Kapsalon Romi | D66: NL, DE | E66: 91 | F66: 14 | G66: 1 | H66: 43792 | I66: Skalvijos kino centras
A67: =IF(B67<>"",ROWS($B$6:B67),"") -> 62 | B67: Gauja | C67: Smecka | D67: CZ, SK, LV | E67: 80 | F67: 20 | G67: 1 | H67: 44330 | I67: Skalvijos kino centras
A68: =IF(B68<>"",ROWS($B$6:B68),"") -> 63 | B68: Tamsta Varlius | C68: Meester Kikker | D68: NL | E68: 80 | F68: 17 | G68: 1 | H68: 42654 | I68: Skalvijos kino centras
A69: =IF(B69<>"",ROWS($B$6:B69),"") -> 64 | B69: Blogio nėra | C69: Sheytan vojud nadarad | D69: DE, CZ, IR | E69: 58.5 | F69: 15 | G69: 2 | H69: 44316 | I69: Europos kinas
A70: =IF(B70<>"",ROWS($B$6:B70),"") -> 65 | B70: Helmut Newton: begėdiškas grožis | C70: Helmut Newton: The Bad and the Beautiful | D70: DE | E70: 52 | F70: 8 | G70: 1 | H70: 44132 | I70: A-One Films
A71: =IF(B71<>"",ROWS($B$6:B71),"") -> 66 | B71: Lumière! | C71: Lumière! | D71: FR | E71: 40 | F71: 4 | G71: 1 | H71: 44316 | I71: Europos kinas
A72: =IF(B72<>"",ROWS($B$6:B72),"") -> 67 | B72: Tobula žmona | C72: How to be a good wife | D72: FR | E72: 21 | F72: 3 | G72: 1 | H72: 44120 | I72: VLG Film
A73: =IF(B73<>"",ROWS($B$6:B73),"") -> 68 | B73: Gunda | C73: Gunda | D73: NO, US | E73: 18.5 | F73: 5 | G73: 1 | H73: 44316 | I73: Europos kinas
A74: =IF(B74<>"",ROWS($B$6:B74),"") -> 69 | B74: Dylere | C74: La Dorrone | D74: FR | E74: 14 | F74: 2 | G74: 1 | H74: 44106 | I74: A-One Films
E75: =SUBTOTAL(109,Table3_Gegužė[Pajamos]) -> 498395.19 | F75: =SUBTOTAL(109,Table3_Gegužė[Žiūrovų skaičius]) -> 86031

Sheet Birželis
A1: ='2021'!A1 -> 2021
A2: ='2021'!A2 -> Lietuvos kino teatruose rodytų filmų TOP
A3: Birželis
A5: Eil. Nr. | B5: Filmo pavadinimas | C5: Filmo pavadinimas originalo kalba | D5: Kilmės šalis | E5: Pajamos | F5: Žiūrovų skaičius | G5: Kopijų skaičius | H5: Premjeros data | I5: Platintojas
A6: =IF(B6<>"",ROWS($B$6:B6),"") -> 1 | B6: Išvarymas 3: Velnias privertė mane tai padaryti | C6: Conjuring 3 | D6: US | E6: 89188.52 | F6: 14394 | G6: 14 | H6: 44351 | I6: ACME Film / WB
A7: =IF(B7<>"",ROWS($B$6:B7),"") -> 2 | B7: Greiti ir įsiutę 9 | C7: Fast and Furious 9 | D7: US | E7: 78513.35 | F7: 12365 | G7: 14 | H7: 44372 | I7: Dukine Film Distribution / Universal Pictures
A8: =IF(B8<>"",ROWS($B$6:B8),"") -> 3 | B8: Tylos zona 2 | C8: A Quiet Place 2 | D8: US | E8: 60245.82 | F8: 10067 | G8: 15 | H8: 44344 | I8: Dukine Film Distribution / Paramount Pictures
A9: =IF(B9<>"",ROWS($B$6:B9),"") -> 4 | B9: Krudžiai 2. Naujasis amžius | C9: The Croods: A New Age | D9: US | E9: 55351.31 | F9: 12574 | G9: 17 | H9: 44351 | I9: Dukine Film Distribution / Universal Pictures
A10: =IF(B10<>"",ROWS($B$6:B10),"") -> 5 | B10: Triušis Piteris2: Pabėgimas | C10: Peter Rabbit 2 | D10: US, AU | E10: 51283.42 | F10: 11235 | G10: 17 | H10: 44358 | I10: ACME Film / SONY
A11: =IF(B11<>"",ROWS($B$6:B11),"") -> 6 | B11: Žudiko žmonos asmens sargybinis | C11: The Hitman's Wife's Bodyguard | D11: US | E11: 25827 | F11: 4398 | G11: 11 | H11: 44365 | I11: Garsų pasaulio įrašai
A12: =IF(B12<>"",ROWS($B$6:B12),"") -> 7 | B12: Rėja ir paskutinysis drakonas | C12: Raya and the Last Dragon | D12: US | E12: 19507.53 | F12: 4464 | G12: 15 | H12: 44337 | I12: Theatrical Film Distribution / WDSMPI
A13: =IF(B13<>"",ROWS($B$6:B13),"") -> 8 | B13: Kruela | C13: Cruella | D13: US | E13: 16752.89 | F13: 2949 | G13: 12 | H13: 44344 | I13: Theatrical Film Distribution / WDSMPI
A14: =IF(B14<>"",ROWS($B$6:B14),"") -> 9 | B14: Spurguliai | C14: Extinct | D14: US, CN | E14: 15825.29 | F14: 3605 | G14: 18 | H14: 44372 | I14: VLG film
A15: =IF(B15<>"",ROWS($B$6:B15),"") -> 10 | B15: Žose, tigras ir žuvis | C15: Josee, the Tiger and the Fish | D15: JP | E15: 9816.09 | F15: 1841 | G15: 13 | H15: 44365 | I15: VLG film
A16: =IF(B16<>"",ROWS($B$6:B16),"") -> 11 | B16: Vyriškas įniršis | C16: Wrath of Man (Cash Truck) | D16: US | E16: 7403.07 | F16: 1225 | G16: 8 | H16: 44330 | I16: ACME Film
A17: =IF(B17<>"",ROWS($B$6:B17),"") -> 12 | B17: Persų kalbos pamokos | C17: Persian Lessons | D17: DE, RU | E17: 6158.4 | F17: 1178 | G17: 1 | H17: 44134 | I17: Best Film
... A21: =IF(B21<>"",ROWS($B$6:B21),"") -> 16 | B21: Kurjeris | C21: The Courier | D21: US, UK | E21: 4747.4 | F21: 841 | G21: 13 | H21: 44344 | I21: ACME Film
A22: =IF(B22<>"",ROWS($B$6:B22),"") -> 17 | B22: Polis | C22: Poly | D22: FR, BE | E22: 3485.2 | F22: 1052 | G22: 13 | H22: 44365 | I22: Best Film
A23: =IF(B23<>"",ROWS($B$6:B23),"") -> 18 | B23: Išgyventi virš horizonto | C23: Horizon Line | D23: SE | E23: 3280.5 | F23: 578 | G23: 13 | H23: 44351 | I23: ACME Film
A24: =IF(B24<>"",ROWS($B$6:B24),"") -> 19 | B24: Laisvo elgesio močiutė 3. Pradžia | C24: Прабабушка легкого поведения. Начало | D24: RU | E24: 2941 | F24: 487 | G24: 6 | H24: 44337 | I24: Garsų pasaulio įrašai
A25: =IF(B25<>"",ROWS($B$6:B25),"") -> 20 | B25: Siela | C25: Soul | D25: US | E25: 2343.47 | F25: 524 | G25: 12 | H25: 44316 | I25: Theatrical Film Distribution / WDSMPI
A26: =IF(B26<>"",ROWS($B$6:B26),"") -> 21 | B26: Šarlatanas | C26: Charlatan | D26: CZ, PL, SK | E26: 2243 | F26: 1017 | G26: 6 | H26: 44358 | I26: Best Film
A27: =IF(B27<>"",ROWS($B$6:B27),"") -> 22 | B27: Žmonės, kuriuos pažįstam | C27: Žmonės, kuriuos pažįstam | D27: LT | E27: 2067.72 | F27: 426 | G27: 4 | H27: 44344 | I27: Just a Moment
A28: =IF(B28<>"",ROWS($B$6:B28),"") -> 23 | B28: Valdininko prakeiksmas | C28: Проклятый чиновник | D28: RU | E28: 2016.95 | F28: 331 | G28: 5 | H28: 44372 | I28: Best Film
A29: =IF(B29<>"",ROWS($B$6:B29),"") -> 24 | B29: Boss Level | C29: Boss Level | D29: US | E29: 1959.44 | F29: 340 | G29: 12 | H29: 44351 | I29: VLG film
A30: =IF(B30<>"",ROWS($B$6:B30),"") -> 25 | B30: Dar po vieną | C30: Druk | D30: DK, NL | E30: 1857.92 | F30: 276 | G30: 4 | H30: 44330 | I30: Estinfilm
A31: =IF(B31<>"",ROWS($B$6:B31),"") -> 26 | B31: Godzila prieš Kongą | C31: Godzilla vs Kong | D31: US | E31: 1578.95 | F31: 286 | G31: 4 | H31: 44323 | I31: ACME Film / WB
A32: =IF(B32<>"",ROWS($B$6:B32),"") -> 27 | B32: Bintė | C32: Binti | D32: BE | E32: 1421 | F32: 272 | G32: 1 | H32: 44080 | I32: Skalvijos kino centras
A33: =IF(B33<>"",ROWS($B$6:B33),"") -> 28 | B33: Klajoklių žemė | C33: Nomadland | D33: US | E33: 1399 | F33: 268 | G33: 3 | H33: 44323 | I33: Theatrical Film Distribution / WDSMPI
A34: =IF(B34<>"",ROWS($B$6:B34),"") -> 29 | B34: Perspektyvi mergina | C34: Promising Young Woman | D34: UK | E34: 1272.6 | F34: 259 | G34: 3 | H34: 44316 | I34: VLG film
A35: =IF(B35<>"",ROWS($B$6:B35),"") -> 30 | B35: Tėvas | C35: The Father | D35: UK, FR | E35: 1189 | F35: 226 | G35: 4 | H35: 44316 | I35: Best Film
A36: =IF(B36<>"",ROWS($B$6:B36),"") -> 31 | B36: Selekcininkė | C36: Breeder | D36: DK | E36: 1156 | F36: 208 | G36: 11 | H36: 44358 | I36: Best Film
A37: =IF(B37<>"",ROWS($B$6:B37),"") -> 32 | B37: Spiralė | C37: Spiral | D37: US | E37: 1014.69 | F37: 159 | G37: 10 | H37: 44337 | I37: ACME Film
A38: =IF(B38<>"",ROWS($B$6:B38),"") -> 33 | B38: Nešventa | C38: Unholy | D38: US | E38: 748.5 | F38: 121 | G38: 8 | H38: 44323 | I38: ACME Film / SONY
A39: =IF(B39<>"",ROWS($B$6:B39),"") -> 34 | B39: Paskutinis didvyris: blogio ištakos | C39: Последний богатырь: Корень зла | D39: RU | E39: 739.57 | F39: 158 | G39: 3 | H39: 44344 | I39: Best Film
A40: =IF(B40<>"",ROWS($B$6:B40),"") -> 35 | B40: Gauja | C40: Smecka | D40: CZ, SK, LV | E40: 701 | F40: 171 | G40: 1 | H40: 44330 | I40: Skalvijos kino centras
... A43: =IF(B43<>"",ROWS($B$6:B43),"") -> 38 | B43: Jokūbas, Mimi ir kalbantys šunys | C43: Jekabs, Mimmi un runajosie suni | D43: LV, PL | E43: 571 | F43: 159 | G43: 1 | H43: 44114 | I43: Skalvijos kino centras
A44: =IF(B44<>"",ROWS($B$6:B44),"") -> 39 | B44: Didžiapėdžio vaikis 2 | C44: Bigfoot family | D44: BE, FR | E44: 544.6 | F44: 211 | G44: 3 | H44: 44106 | I44: VLG Film
A45: =IF(B45<>"",ROWS($B$6:B45),"") -> 40 | B45: Černobylis. Bedugnė | C45: Чернобыль | D45: RU | E45: 531.3 | F45: 101 | G45: 6 | H45: 44323 | I45: Theatrical Film Distribution
A46: =IF(B46<>"",ROWS($B$6:B46),"") -> 41 | B46: Šuniškas pokštas | C46: Trouble | D46: CA, US | E46: 366.5 | F46: 237 | G46: 2 | H46: 43749 | I46: ACME Film
A47: =IF(B47<>"",ROWS($B$6:B47),"") -> 42 | B47: Kristaus kūnas | C47: Boże Ciało | D47: PL, FR | E47: 339 | F47: 130 | G47: 2 | H47: 43987 | I47: Europos kinas
A48: =IF(B48<>"",ROWS($B$6:B48),"") -> 43 | B48: Piktieji paukščiai. Filmas 2 | C48: The Angry Birds Movie 2 | D48: FI, US | E48: 318 | F48: 170 | G48: 2 | H48: 43700 | I48: ACME Film / SONY
A49: =IF(B49<>"",ROWS($B$6:B49),"") -> 44 | B49: Blogos pasakos | C49: Bad Tales | D49: IT, CH | E49: 301 | F49: 52 | G49: 2 | H49: 44344 | I49: A-One Films
A50: =IF(B50<>"",ROWS($B$6:B50),"") -> 45 | B50: Tamsta Varlius | C50: Meester Kikker | D50: NL | E50: 266 | F50: 68 | G50: 1 | H50: 42654 | I50: Skalvijos kino centras
A51: =IF(B51<>"",ROWS($B$6:B51),"") -> 46 | B51: Išvalyti atmintį | C51: Effacer L'historique | D51: FR | E51: 254 | F51: 52 | G51: 2 | H51: 44316 | I51: A-One Films
A52: =IF(B52<>"",ROWS($B$6:B52),"") -> 47 | B52: Gauruoti šnipai | C52: Spycies | D52: CN, FR | E52: 220 | F52: 130 | G52: 2 | H52: 43861 | I52: ACME Film
A53: =IF(B53<>"",ROWS($B$6:B53),"") -> 48 | B53: Atsargiai, ragana | C53: Zlogonje | D53: MK | E53: 200 | F53: 70 | G53: 1 | H53: 43435 | I53: Skalvijos kino centras
A54: =IF(B54<>"",ROWS($B$6:B54),"") -> 49 | B54: Arkties komanda | C54: Arctic Dogs | D54: UK, KR, IN | E54: 192 | F54: 120 | G54: 2 | H54: 43875 | I54: VLG film
A55: =IF(B55<>"",ROWS($B$6:B55),"") -> 50 | B55: Šuns tikslas 2 | C55: Molly and Max (A Dog's Journey) | D55: US | E55: 174.5 | F55: 98 | G55: 2 | H55: 43721 | I55: ACME Film
A56: =IF(B56<>"",ROWS($B$6:B56),"") -> 51 | B56: Lesė grįžta | C56: Lassie | D56: DE | E56: 164 | F56: 99 | G56: 2 | H56: 44099 | I56: VLG film
A57: =IF(B57<>"",ROWS($B$6:B57),"") -> 52 | B57: Playmobil Filmas | C57: Playmobil: The Movie | D57: FR, US | E57: 135 | F57: 83 | G57: 2 | H57: 44129 | I57: ACME Film
A58: =IF(B58<>"",ROWS($B$6:B58),"") -> 53 | B58: SKŪBIS DŪ! | C58: Scoob! | D58: US | E58: 134 | F58: 67 | G58: 2 | H58: 44092 | I58: ACME Film / WB
A59: =IF(B59<>"",ROWS($B$6:B59),"") -> 54 | B59: Holivudo afera | C59: Comeback Trail | D59: US | E59: 113.1 | F59: 20 | G59: 2 | H59: 44337 | I59: VLG film
A60: =IF(B60<>"",ROWS($B$6:B60),"") -> 55 | B60: Kosminis Samsamas | C60: Samsam | D60: FR | E60: 107 | F60: 59 | G60: 2 | H60: 44057 | I60: VLG Film
A61: =IF(B61<>"",ROWS($B$6:B61),"") -> 56 | B61: Arčiau debesų | C61: Cloudboy | D61: BG, SE, NL, NO | E61: 96 | F61: 24 | G61: 1 | H61: 42988 | I61: Skalvijos kino centras
A62: =IF(B62<>"",ROWS($B$6:B62),"") -> 57 | B62: Meinstrymas | C62: Mainstream | D62: US | E62: 92 | F62: 17 | G62: 1 | H62: 44337 | I62: A-One Films
A63: =IF(B63<>"",ROWS($B$6:B63),"") -> 58 | B63: Keliaujantys paukščiai | C63: Les oiseaux de passage | D63: BE, FR | E63: 84 | F63: 21 | G63: 1 | H63: 42301 | I63: Skalvijos kino centras
A64: =IF(B64<>"",ROWS($B$6:B64),"") -> 59 | B64: Vikingas Vikas | C64: Vic the Viking and the Magic Sword | D64: FR | E64: 80 | F64: 45 | G64: 2 | H64: 44015 | I64: VLG Film
A65: =IF(B65<>"",ROWS($B$6:B65),"") -> 60 | B65: Enfant Terrible | C65: Enfant Terrible | D65: DE | E65: 79 | F65: 17 | G65: 1 | H65: 44351 | I65: Kino aljansas
A66: =IF(B66<>"",ROWS($B$6:B66),"") -> 61 | B66: Prakaituok! | C66: Sweat | D66: SE, PL | E66: 64 | F66: 13 | G66: 1 | H66: 44330 | I66: Kino aljansas
A67: =IF(B67<>"",ROWS($B$6:B67),"") -> 62 | B67: Undinė | C67: Undine | D67: DE | E67: 58 | F67: 12 | G67: 1 | H67: 44323 | I67: A-One Films
A68: =IF(B68<>"",ROWS($B$6:B68),"") -> 63 | B68: Vasara'85 | C68: Été 85 | D68: BE, FR | E68: 55 | F68: 9 | G68: 1 | H68: 44330 | I68: A-One Films
A69: =IF(B69<>"",ROWS($B$6:B69),"") -> 64 | B69: Erdvėlaivis Žemė | C69: Spaceship Earth | D69: US | E69: 49 | F69: 7 | G69: 1 | H69: 44344 | I69: Kino pasaka
A70: =IF(B70<>"",ROWS($B$6:B70),"") -> 65 | B70: Medaus šalis | C70: Honeyland | D70: MK | E70: 40 | F70: 6 | G70: 1 | H70: 43714 | I70: Kino pasaka
A71: =IF(B71<>"",ROWS($B$6:B71),"") -> 66 | B71: Pakeleivių karta | C71: Voyagers | D71: US | E71: 29 | F71: 6 | G71: 1 | H71: 44337 | I71: Garsų pasaulio įrašai
A72: =IF(B72<>"",ROWS($B$6:B72),"") -> 67 | B72: Liūtas karalius | C72: The Lion King | D72: US | E72: 28 | F72: 15 | G72: 1 | H72: 43665 | I72: Theatrical Film Distribution / WDSMPI
A73: =IF(B73<>"",ROWS($B$6:B73),"") -> 68 | B73: Nuostabi epocha | C73: La Belle Epoque | D73: FR | E73: 21 | F73: 8 | G73: 1 | H73: 43805 | I73: VLG Film
A74: =IF(B74<>"",ROWS($B$6:B74),"") -> 69 | B74: Parazitas | C74: Gisaengchung | D74: KR | E74: 19.7 | F74: 4 | G74: 1 | H74: 43987 | I74: Europos kinas
A75: =IF(B75<>"",ROWS($B$6:B75),"") -> 70 | B75: Neišskiriami | C75: Charter | D75: SE, DK, NO | E75: 19 | F75: 6 | G75: 1 | H75: 44365 | I75: Kino aljansas
A76: =IF(B76<>"",ROWS($B$6:B76),"") -> 71 | B76: Mūsų namai | C76: Where We Belong | D76: CH | E76: 18 | F76: 21 | G76: 1 | H76: 44350 | I76: Skalvijos kino centras
A77: =IF(B77<>"",ROWS($B$6:B77),"") -> 72 | B77: Trokštantys mano mirties | C77: Those Who Wish me Dead | D77: US | E77: 12.3 | F77: 2 | G77: 1 | H77: 44330 | I77: ACME Film / WB
A78: =IF(B78<>"",ROWS($B$6:B78),"") -> 73 | B78: Adomas | C78: Adam | D78: FR | E78: 4 | F78: 1 | G78: 1 | H78: 43894 | I78: Kino pasaka
E79: =SUBTOTAL(109,Table3_Birželis[Pajamos]) -> 497734.02 | F79: =SUBTOTAL(109,Table3_Birželis[Žiūrovų skaičius]) -> 94011

Sheet Liepa
A1: ='2021'!A1 -> 2021
A2: ='2021'!A2 -> Lietuvos kino teatruose rodytų filmų TOP
A3: Liepa
A5: Eil. Nr. | B5: Filmo pavadinimas | C5: Filmo pavadinimas originalo kalba | D5: Kilmės šalis | E5: Pajamos | F5: Žiūrovų skaičius | G5: Kopijų skaičius | H5: Premjeros data | I5: Platintojas
A6: =IF(B6<>"",ROWS($B$6:B6),"") -> 1 | B6: Greiti ir įsiutę 9 | C6: Fast and Furious 9 | D6: US | E6: 117760.09 | F6: 18661 | G6: 14 | H6: 44372 | I6: Dukine Film Distribution / Universal Pictures
A7: =IF(B7<>"",ROWS($B$6:B7),"") -> 2 | B7: Kosminis krepšinis: Nauja era | C7: Space jam 2 (Space Jam: A New Legacy) | D7: US | E7: 99826.15 | F7: 20310 | G7: 15 | H7: 44393 | I7: ACME Film / WB
A8: =IF(B8<>"",ROWS($B$6:B8),"") -> 3 | B8: Juodoji našlė | C8: Black Widow | D8: US | E8: 81721.66 | F8: 12733 | G8: 18 | H8: 44386 | I8: Theatrical Film Distribution / WDSMPI
A9: =IF(B9<>"",ROWS($B$6:B9),"") -> 4 | B9: Lukas | C9: Luca | D9: US | E9: 69161.96 | F9: 14762 | G9: 19 | H9: 44400 | I9: Theatrical Film Distribution / WDSMPI
A10: =IF(B10<>"",ROWS($B$6:B10),"") -> 5 | B10: Pabėgimo kambarys 2: Išėjimo nėra | C10: Escape Room 2 | D10: US | E10: 49024.9 | F10: 7926 | G10: 14 | H10: 44393 | I10: ACME Film / SONY
A11: =IF(B11<>"",ROWS($B$6:B11),"") -> 6 | B11: Nepažabojama dvasia | C11: Spirit Untamed | D11: US | E11: 41877.2 | F11: 9206 | G11: 17 | H11: 44379 | I11: Dukine Film Distribution / Universal Pictures
A12: =IF(B12<>"",ROWS($B$6:B12),"") -> 7 | B12: Naktinė žvejyba | C12: Naktinė žvejyba | D12: LT | E12: 40909.68 | F12: 6137 | G12: 18 | H12: 44407 | I12: Stambus planas
A13: =IF(B13<>"",ROWS($B$6:B13),"") -> 8 | B13: Išvalymas amžiams | C13: Forever Purge | D13: US | E13: 29701.11 | F13: 4903 | G13: 14 | H13: 44379 | I13: Dukine Film Distribution / Universal Pictures
A14: =IF(B14<>"",ROWS($B$6:B14),"") -> 9 | B14: Spurguliai | C14: Extinct | D14: US, CN | E14: 29237.67 | F14: 6501 | G14: 13 | H14: 44372 | I14: VLG film
A15: =IF(B15<>"",ROWS($B$6:B15),"") -> 10 | B15: Krudžiai 2. Naujasis amžius | C15: The Croods: A New Age | D15: US | E15: 25305.77 | F15: 5361 | G15: 10 | H15: 44351 | I15: Dukine Film Distribution / Universal Pictures
A16: =IF(B16<>"",ROWS($B$6:B16),"") -> 11 | B16: Išvarymas 3: Velnias privertė mane tai padaryti | C16: Conjuring 3 | D16: US | E16: 18095.08 | F16: 2771 | G16: 9 | H16: 44351 | I16: ACME Film / WB
A17: =IF(B17<>"",ROWS($B$6:B17),"") -> 12 | B17: Senatvė | C17: Old | D17: US | E17: 17435.64 | F17: 2915 | G17: 15 | H17: 44400 | I17: Dukine Film Distribution / Universal Pictures
A18: =IF(B18<>"",ROWS($B$6:B18),"") -> 13 | B18: Triušis Piteris2: Pabėgimas | C18: Peter Rabbit 2 | D18: US, AU | E18: 16826.28 | F18: 3657 | G18: 14 | H18: 44358 | I18: ACME Film / SONY
A19: =IF(B19<>"",ROWS($B$6:B19),"") -> 14 | B19: Ledo kelias | C19: The Ice Road | D19: US | E19: 11347 | F19: 1985 | G19: 14 | H19: 44379 | I19: VLG film
A20: =IF(B20<>"",ROWS($B$6:B20),"") -> 15 | B20: Tylos zona 2 | C20: A Quiet Place 2 | D20: US | E20: 9236.19 | F20: 1512 | G20: 9 | H20: 44344 | I20: Dukine Film Distribution / Paramount Pictures
A21: =IF(B21<>"",ROWS($B$6:B21),"") -> 16 | B21: Kaimynai | C21: The People Upstairs | D21: ES | E21: 8569.58 | F21: 1619 | G21: 5 | H21: 44379 | I21: Kino pasaka
A22: =IF(B22<>"",ROWS($B$6:B22),"") -> 17 | B22: Žudiko žmonos asmens sargybinis | C22: The Hitman's Wife's Bodyguard | D22: US | E22: 8269 | F22: 1357 | G22: 8 | H22: 44365 | I22: Garsų pasaulio įrašai
A23: =IF(B23<>"",ROWS($B$6:B23),"") -> 18 | B23: Džiunglių kruizas | C23: Jungle Cruise | D23: US | E23: 7356.22 | F23: 1261 | G23: 15 | H23: 44407 | I23: Theatrical Film Distribution / WDSMPI
A24: =IF(B24<>"",ROWS($B$6:B24),"") -> 19 | B24: Padūkėlė Turu | C24: Turu the Wacky Hen | D24: ES, AR | E24: 6426.18 | F24: 1619 | G24: 15 | H24: 44386 | I24: ACME Film
A25: =IF(B25<>"",ROWS($B$6:B25),"") -> 20 | B25: Įtakingiausias Amerikos gangsteris | C25: Lansky | D25: US | E25: 5344 | F25: 954 | G25: 11 | H25: 44379 | I25: Garsų pasaulio įrašai
A26: =IF(B26<>"",ROWS($B$6:B26),"") -> 21 | B26: Gyvatės akys: Eilinio Džo kilmė | C26: Snake Eyes: G.I. Joe Origins | D26: US | E26: 4981.72 | F26: 819 | G26: 14 | H26: 44400 | I26: Dukine Film Distribution / Paramount Pictures
A27: =IF(B27<>"",ROWS($B$6:B27),"") -> 22 | B27: Kvepalai | C27: Les parfums | D27: FR | E27: 4857.76 | F27: 882 | G27: 11 | H27: 44393 | I27: Best Film
A28: =IF(B28<>"",ROWS($B$6:B28),"") -> 23 | B28: Frida. Viva la Vida | C28: Frida. Viva la Vida | D28: IT | E28: 3850 | F28: 811 | G28: 8 | H28: 44386 | I28: A-One Films
A29: =IF(B29<>"",ROWS($B$6:B29),"") -> 24 | B29: Džentelmeniškas apiplėšimas | C29: The Misfits | D29: US | E29: 2756.75 | F29: 472 | G29: 13 | H29: 44379 | I29: Theatrical Film Distribution
A30: =IF(B30<>"",ROWS($B$6:B30),"") -> 25 | B30: Kruela | C30: Cruella | D30: US | E30: 2450.93 | F30: 468 | G30: 3 | H30: 44344 | I30: Theatrical Film Distribution / WDSMPI
A31: =IF(B31<>"",ROWS($B$6:B31),"") -> 26 | B31: Prabudimas | C31: Awaken | D31: US, EA | E31: 2305.56 | F31: 380 | G31: 9 | H31: 44400 | I31: Best Film
A32: =IF(B32<>"",ROWS($B$6:B32),"") -> 27 | B32: Parako kokteilis | C32: Gunpowder Milkshake | D32: US | E32: 2300 | F32: 392 | G32: 12 | H32: 44393 | I32: VLG film
A33: =IF(B33<>"",ROWS($B$6:B33),"") -> 28 | B33: Tiktai žvėrys | C33: Seules les bêtes | D33: FR | E33: 2287 | F33: 464 | G33: 6 | H33: 44393 | I33: A-One Films
A34: =IF(B34<>"",ROWS($B$6:B34),"") -> 29 | B34: Dar po vieną | C34: Druk | D34: DK, NL | E34: 2009.08 | F34: 305 | G34: 4 | H34: 44330 | I34: Estinfilm
A35: =IF(B35<>"",ROWS($B$6:B35),"") -> 30 | B35: Rėja ir paskutinysis drakonas | C35: Raya and the Last Dragon | D35: US | E35: 1866.18 | F35: 409 | G35: 3 | H35: 44337 | I35: Theatrical Film Distribution / WDSMPI
A36: =IF(B36<>"",ROWS($B$6:B36),"") -> 31 | B36: Augintiniai susivienija | C36: Pets United | D36: UK, CN, DE | E36: 1320 | F36: 578 | G36: 2 | H36: 43882 | I36: Garsų pasaulio įrašai
A37: =IF(B37<>"",ROWS($B$6:B37),"") -> 32 | B37: Undinė | C37: Undine | D37: DE | E37: 1308 | F37: 503 | G37: 4 | H37: 44323 | I37: A-One Films
A38: =IF(B38<>"",ROWS($B$6:B38),"") -> 33 | B38: Žose, tigras ir žuvis | C38: Josee, the Tiger and the Fish | D38: JP | E38: 1211.43 | F38: 229 | G38: 4 | H38: 44365 | I38: VLG film
A39: =IF(B39<>"",ROWS($B$6:B39),"") -> 34 | B39: Vasara'85 | C39: Été 85 | D39: BE, FR | E39: 1196 | F39: 197 | G39: 4 | H39: 44330 | I39: A-One Films
A40: =IF(B40<>"",ROWS($B$6:B40),"") -> 35 | B40: Suteik man sparnus | C40: Donne moi des Ailes | D40: FR | E40: 1173 | F40: 442 | G40: 4 | H40: 43987 | I40: Europos kinas
A41: =IF(B41<>"",ROWS($B$6:B41),"") -> 36 | B41: Nepaprasta Remio kelionė | C41: Rémi sans famille | D41: FR | E41: 956 | F41: 200 | G41: 2 | H41: 43707 | I41: Estinfilms
A42: =IF(B42<>"",ROWS($B$6:B42),"") -> 37 | B42: Siela | C42: Soul | D42: US | E42: 851.96 | F42: 183 | G42: 2 | H42: 44316 | I42: Theatrical Film Distribution / WDSMPI
A43: =IF(B43<>"",ROWS($B$6:B43),"") -> 38 | B43: Tėvas | C43: The Father | D43: UK, FR | E43: 840.08 | F43: 150 | G43: 4 | H43: 44316 | I43: Best Film
A44: =IF(B44<>"",ROWS($B$6:B44),"") -> 39 | B44: Karštakošė gražuolė | C44: Jolt | D44: US | E44: 741.73 | F44: 129 | G44: 9 | H44: 44407 | I44: VLG film
A45: =IF(B45<>"",ROWS($B$6:B45),"") -> 40 | B45: Blogos pasakos | C45: Bad Tales | D45: IT, CH | E45: 693 | F45: 76 | G45: 6 | H45: 44344 | I45: A-One Films
A46: =IF(B46<>"",ROWS($B$6:B46),"") -> 41 | B46: Klajoklių žemė | C46: Nomadland | D46: US | E46: 686 | F46: 123 | G46: 1 | H46: 44323 | I46: Theatrical Film Distribution / WDSMPI
A47: =IF(B47<>"",ROWS($B$6:B47),"") -> 42 | B47: Helmut Newton: begėdiškas grožis | C47: Helmut Newton: The Bad and the Beautiful | D47: DE | E47: 555 | F47: 105 | G47: 1 | H47: 44132 | I47: A-One Films
A48: =IF(B48<>"",ROWS($B$6:B48),"") -> 43 | B48: Sapnų kūrėjai | C48: Dreambuilders | D48: DK | E48: 531 | F48: 157 | G48: 2 | H48: 44113 | I48: ACME Film
A49: =IF(B49<>"",ROWS($B$6:B49),"") -> 44 | B49: Valdininko prakeiksmas | C49: Проклятый чиновник | D49: RU | E49: 510.05 | F49: 89 | G49: 4 | H49: 44372 | I49: Best Film
A50: =IF(B50<>"",ROWS($B$6:B50),"") -> 45 | B50: Polis | C50: Poly | D50: FR, BE | E50: 378.48 | F50: 118 | G50: 6 | H50: 44365 | I50: Best Film
A51: =IF(B51<>"",ROWS($B$6:B51),"") -> 46 | B51: Kapitonas Kardadantis ir stebuklingas deimantas | C51: Captain Sabertooth and the Magic Diamond | D51: NO | E51: 375 | F51: 175 | G51: 2 | H51: 44043 | I51: Garsų pasaulio įrašai
A52: =IF(B52<>"",ROWS($B$6:B52),"") -> 47 | B52: Pirmyn | C52: Onward | D52: US | E52: 252.5 | F52: 135 | G52: 3 | H52: 43896 | I52: Theatrical Film Distribution / WDSMPI
A53: =IF(B53<>"",ROWS($B$6:B53),"") -> 48 | B53: Gauruoti šnipai | C53: Spycies | D53: CN, FR | E53: 249 | F53: 138 | G53: 2 | H53: 43861 | I53: ACME Film
A54: =IF(B54<>"",ROWS($B$6:B54),"") -> 49 | B54: Išvalyti atmintį | C54: Effacer L'historique | D54: FR | E54: 245 | F54: 50 | G54: 5 | H54: 44316 | I54: A-One Films
A55: =IF(B55<>"",ROWS($B$6:B55),"") -> 50 | B55: Lemtingas posūkis: Mirties pamatas | C55: Wrong Turn MSE | D55: US | E55: 242.3 | F55: 38 | G55: 7 | H55: 44365 | I55: ACME Film
A56: =IF(B56<>"",ROWS($B$6:B56),"") -> 51 | B56: Paslaptingas sodas | C56: Secret Garden | D56: UK, FR | E56: 231 | F56: 33 | G56: 2 | H56: 44064 | I56: ACME Film
A57: =IF(B57<>"",ROWS($B$6:B57),"") -> 52 | B57: SKŪBIS DŪ! | C57: Scoob! | D57: US | E57: 224 | F57: 112 | G57: 2 | H57: 44092 | I57: ACME Film / WB
A58: =IF(B58<>"",ROWS($B$6:B58),"") -> 53 | B58: Užsimaskavę šnipai | C58: Spies In Disguise | D58: US | E58: 205.1 | F58: 99 | G58: 2 | H58: 43840 | I58: Theatrical Film Distribution / WDSMPI
A59: =IF(B59<>"",ROWS($B$6:B59),"") -> 54 | B59: Perspektyvi mergina | C59: Promising Young Woman | D59: UK | E59: 205 | F59: 36 | G59: 1 | H59: 44316 | I59: VLG film
A60: =IF(B60<>"",ROWS($B$6:B60),"") -> 55 | B60: Vyriškas įniršis | C60: Wrath of Man (Cash Truck) | D60: US | E60: 196 | F60: 28 | G60: 2 | H60: 44330 | I60: ACME Film
A61: =IF(B61<>"",ROWS($B$6:B61),"") -> 56 | B61: Šuniškas pokštas | C61: Trouble | D61: CA, US | E61: 181 | F61: 95 | G61: 2 | H61: 43749 | I61: ACME Film
A62: =IF(B62<>"",ROWS($B$6:B62),"") -> 57 | B62: Ežiukas Sonic | C62: Sonic The Hedgehog | D62: US, JP, CA | E62: 166 | F62: 83 | G62: 2 | H62: 44008 | I62: Dukine Film Distribution / Paramount Pictures
A63: =IF(B63<>"",ROWS($B$6:B63),"") -> 58 | B63: Gražus sūnus | C63: Beautiful Boy | D63: US | E63: 166 | F63: 45 | G63: 2 | H63: 43560 | I63: Europos kinas
A64: =IF(B64<>"",ROWS($B$6:B64),"") -> 59 | B64: Persų kalbos pamokos | C64: Persian Lessons | D64: DE. RU | E64: 107 | F64: 25 | G64: 1 | H64: 44134 | I64: Best Film
A65: =IF(B65<>"",ROWS($B$6:B65),"") -> 60 | B65: Jokūbas, Mimi ir kalbantys šunys | C65: Jekabs, Mimmi un runajosie suni | D65: LV, PL | E65: 105 | F65: 35 | G65: 1 | H65: 44114 | I65: Skalvijos kino centras
A66: =IF(B66<>"",ROWS($B$6:B66),"") -> 61 | B66: Kosminis Samsamas | C66: Samsam | D66: FR | E66: 96.5 | F66: 58 | G66: 2 | H66: 44057 | I66: VLG Film
A67: =IF(B67<>"",ROWS($B$6:B67),"") -> 62 | B67: Tomas ir Džeris | C67: Tom and Jerry | D67: US | E67: 95.35 | F67: 20 | G67: 1 | H67: 44323 | I67: ACME Film / WB
A68: =IF(B68<>"",ROWS($B$6:B68),"") -> 63 | B68: Arčiau debesų | C68: Cloudboy | D68: BG, SE, NL, NO | E68: 80 | F68: 20 | G68: 1 | H68: 42988 | I68: Skalvijos kino centras
A69: =IF(B69<>"",ROWS($B$6:B69),"") -> 64 | B69: Kurjeris | C69: The Courier | D69: US, UK | E69: 77.7 | F69: 12 | G69: 1 | H69: 44344 | I69: ACME Film
A70: =IF(B70<>"",ROWS($B$6:B70),"") -> 65 | B70: Liūtas karalius | C70: The Lion King | D70: US | E70: 66.5 | F70: 38 | G70: 2 | H70: 43665 | I70: Theatrical Film Distribution / WDSMPI
A71: =IF(B71<>"",ROWS($B$6:B71),"") -> 66 | B71: Vikingas Vikas | C71: Vic the Viking and the Magic Sword | D71: FR | E71: 48 | F71: 24 | G71: 2 | H71: 44015 | I71: VLG Film
A72: =IF(B72<>"",ROWS($B$6:B72),"") -> 67 | B72: Silvana | C72: Silvana - väck mig när ni vaknat | D72: SE | E72: 40 | F72: 22 | G72: 1 | H72: 43079 | I72: Europos kinas
A73: =IF(B73<>"",ROWS($B$6:B73),"") -> 68 | B73: Išgyventi vasarą | C73: Išgyventi vasarą | D73: LT | E73: 38.85 | F73: 7 | G73: 1 | H73: 43574 | I73: Europos kinas
A74: =IF(B74<>"",ROWS($B$6:B74),"") -> 69 | B74: Nuostabi epocha | C74: La Belle Epoque | D74: FR | E74: 34 | F74: 10 | G74: 1 | H74: 43805 | I74: VLG Film
A75: =IF(B75<>"",ROWS($B$6:B75),"") -> 70 | B75: Holivudo afera | C75: Comeback Trail | D75: US | E75: 29 | F75: 5 | G75: 1 | H75: 44337 | I75: VLG film
A76: =IF(B76<>"",ROWS($B$6:B76),"") -> 71 | B76: Ilga istorija trumpai | C76: Long Story Short | D76: AU | E76: 20 | F76: 6 | G76: 1 | H76: 44358 | I76: ACME Film
A77: =IF(B77<>"",ROWS($B$6:B77),"") -> 72 | B77: Lesė grįžta | C77: Lassie | D77: DE | E77: 10 | F77: 5 | G77: 1 | H77: 44099 | I77: VLG film
A78: =IF(B78<>"",ROWS($B$6:B78),"") -> 73 | B78: Černobylis. Bedugnė | C78: Чернобыль | D78: RU | E78: 5 | F78: 1 | G78: 1 | H78: 44323 | I78: Theatrical Film Distribution
A79: =IF(B79<>"",ROWS($B$6:B79),"") -> 74 | B79: Piktieji paukščiai. Filmas 2 | C79: The Angry Birds Movie 2 | D79: FI, US | E79: 4 | F79: 2 | G79: 1 | H79: 43700 | I79: ACME Film / SONY
E80: =SUBTOTAL(109,Table3_Liepa[Pajamos]) -> 739842.87 | F80: =SUBTOTAL(109,Table3_Liepa[Žiūrovų skaičius]) -> 136188

Sheet Rugpjūtis
A1: ='2021'!A1 -> 2021
A2: ='2021'!A2 -> Lietuvos kino teatruose rodytų filmų TOP
A3: Rugpjūtis
A5: Eil. Nr. | B5: Filmo pavadinimas | C5: Filmo pavadinimas originalo kalba | D5: Kilmės šalis | E5: Pajamos | F5: Žiūrovų skaičius | G5: Kopijų skaičius | H5: Premjeros data | I5: Platintojas
A6: =IF(B6<>"",ROWS($B$6:B6),"") -> 1 | B6: Naktinė žvejyba | C6: Naktinė žvejyba | D6: LT | E6: 129462.86 | F6: 20934 | G6: 18 | H6: 44407 | I6: Stambus planas
A7: =IF(B7<>"",ROWS($B$6:B7),"") -> 2 | B7: Lukas | C7: Luca | D7: US | E7: 127692.98 | F7: 27914 | G7: 19 | H7: 44400 | I7: Theatrical Film Distribution / WDSMPI
A8: =IF(B8<>"",ROWS($B$6:B8),"") -> 3 | B8: Laisvasis Gajus | C8: Free Guy | D8: US | E8: 96351.99 | F8: 15646 | G8: 15 | H8: 44421 | I8: Theatrical Film Distribution / WDSMPI
A9: =IF(B9<>"",ROWS($B$6:B9),"") -> 4 | B9: Šunyčiai patruliai. Filmas | C9: Paw Patrol: The Movie | D9: US | E9: 89975.16 | F9: 19849 | G9: 17 | H9: 44428 | I9: Dukine Film Distribution / Paramount Pictures
A10: =IF(B10<>"",ROWS($B$6:B10),"") -> 5 | B10: Savižudžių būrys. Mobilizacija | C10: Suicide Squad 2 | D10: US | E10: 89161.87 | F10: 13645 | G10: 15 | H10: 44414 | I10: ACME Film / WB
A11: =IF(B11<>"",ROWS($B$6:B11),"") -> 6 | B11: Kosminis krepšinis: Nauja era | C11: Space jam 2 (Space Jam: A New Legacy) | D11: US | E11: 52605.72 | F11: 11165 | G11: 15 | H11: 44393 | I11: ACME Film / WB
A12: =IF(B12<>"",ROWS($B$6:B12),"") -> 7 | B12: Džiunglių kruizas | C12: Jungle Cruise | D12: US | E12: 36703.44 | F12: 6618 | G12: 15 | H12: 44407 | I12: Theatrical Film Distribution / WDSMPI
A13: =IF(B13<>"",ROWS($B$6:B13),"") -> 8 | B13: Pabėgimo kambarys 2: Išėjimo nėra | C13: Escape Room 2 | D13: US | E13: 31991.93 | F13: 5122 | G13: 12 | H13: 44393 | I13: ACME Film / SONY
A14: =IF(B14<>"",ROWS($B$6:B14),"") -> 9 | B14: Izaokas | C14: Izaokas | D14: LT | E14: 31827.56 | F14: 5819 | G14: 20 | H14: 44421 | I14: Film Jam
A15: =IF(B15<>"",ROWS($B$6:B15),"") -> 10 | B15: Mirties namai 2 | C15: Dont Breathe 2 | D15: US | E15: 30361.09 | F15: 4629 | G15: 12 | H15: 44421 | I15: ACME Film / SONY
A16: =IF(B16<>"",ROWS($B$6:B16),"") -> 11 | B16: Svajoklis Budis 2 | C16: Rock Dog 2 | D16: US | E16: 25535.71 | F16: 6054 | G16: 16 | H16: 44414 | I16: ACME Film
A17: =IF(B17<>"",ROWS($B$6:B17),"") -> 12 | B17: Nakties namai | C17: The Night House | D17: US | E17: 21421.9 | F17: 3613 | G17: 12 | H17: 44428 | I17: Theatrical Film Distribution / WDSMPI
A18: =IF(B18<>"",ROWS($B$6:B18),"") -> 13 | B18: Greiti ir įsiutę 9 | C18: Fast and Furious 9 | D18: US | E18: 20719.5 | F18: 3385 | G18: 8 | H18: 44372 | I18: Dukine Film Distribution / Universal Pictures
A19: =IF(B19<>"",ROWS($B$6:B19),"") -> 14 | B19: Nauja praeitis | C19: Reminiscence | D19: US | E19: 17430.71 | F19: 2809 | G19: 14 | H19: 44428 | I19: ACME Film / WB
A20: =IF(B20<>"",ROWS($B$6:B20),"") -> 15 | B20: Senatvė | C20: Old | D20: US | E20: 13669.19 | F20: 2244 | G20: 11 | H20: 44400 | I20: Dukine Film Distribution / Universal Pictures
A21: =IF(B21<>"",ROWS($B$6:B21),"") -> 16 | B21: Žaliasis riteris | C21: The Green Knight | D21: IE, CA, US, UK | E21: 11969.25 | F21: 2103 | G21: 17 | H21: 44428 | I21: VLG film
A22: =IF(B22<>"",ROWS($B$6:B22),"") -> 17 | B22: Bitininkas | C22: Candyman | D22: US | E22: 11136.18 | F22: 2039 | G22: 14 | H22: 44435 | I22: Dukine Film Distribution / Universal Pictures
A23: =IF(B23<>"",ROWS($B$6:B23),"") -> 18 | B23: Apsėstoji | C23: Demonic | D23: CA | E23: 11018.2 | F23: 1715 | G23: 10 | H23: 44414 | I23: Theatrical Film Distribution
A24: =IF(B24<>"",ROWS($B$6:B24),"") -> 19 | B24: Kaimynai | C24: The People Upstairs | D24: ES | E24: 10815.75 | F24: 1777 | G24: 5 | H24: 44379 | I24: Kino pasaka
A25: =IF(B25<>"",ROWS($B$6:B25),"") -> 20 | B25: Rifkino festivalis | C25: Rifkin‘s Festival | D25: ES, US, IT | E25: 8571.72 | F25: 1664 | G25: 16 | H25: 44435 | I25: VLG film
A26: =IF(B26<>"",ROWS($B$6:B26),"") -> 21 | B26: Seifas | C26: Waydown (The Vault) | D26: ES | E26: 8174.75 | F26: 1558 | G26: 14 | H26: 44435 | I26: ACME Film
A27: =IF(B27<>"",ROWS($B$6:B27),"") -> 22 | B27: Juodoji našlė | C27: Black Widow | D27: US | E27: 7270.39 | F27: 1207 | G27: 6 | H27: 44386 | I27: Theatrical Film Distribution / WDSMPI
A28: =IF(B28<>"",ROWS($B$6:B28),"") -> 23 | B28: (Ne)Tobulas vyras | C28: I'm Your Man | D28: DE | E28: 7160.76 | F28: 1509 | G28: 14 | H28: 44421 | I28: VLG film
A29: =IF(B29<>"",ROWS($B$6:B29),"") -> 24 | B29: Nepažabojama dvasia | C29: Spirit Untamed | D29: US | E29: 6599.88 | F29: 1486 | G29: 7 | H29: 44379 | I29: Dukine Film Distribution / Universal Pictures
A30: =IF(B30<>"",ROWS($B$6:B30),"") -> 25 | B30: Kiaulė | C30: Pig | D30: US | E30: 5311.19 | F30: 1084 | G30: 14 | H30: 44435 | I30: Theatrical Film Distribution
A31: =IF(B31<>"",ROWS($B$6:B31),"") -> 26 | B31: Latė ir stebuklingas akmuo | C31: Latte & the Magic Waterstone | D31: DE, BE | E31: 4036.87 | F31: 1027 | G31: 6 | H31: 44442 | I31: Travolta
A32: =IF(B32<>"",ROWS($B$6:B32),"") -> 27 | B32: Dar po vieną | C32: Druk | D32: DK, NL | E32: 3712.37 | F32: 1059 | G32: 1 | H32: 44330 | I32: Estinfilm
A33: =IF(B33<>"",ROWS($B$6:B33),"") -> 28 | B33: Spurguliai | C33: Extinct | D33: US, CN | E33: 3619.89 | F33: 868 | G33: 2 | H33: 44372 | I33: VLG film
A34: =IF(B34<>"",ROWS($B$6:B34),"") -> 29 | B34: Supernova | C34: Supernova | D34: UK | E34: 3305.71 | F34: 581 | G34: 9 | H34: 44414 | I34: Theatrical Film Distribution
A35: =IF(B35<>"",ROWS($B$6:B35),"") -> 30 | B35: Išvarymas 3: Velnias privertė mane tai padaryti | C35: Conjuring 3 | D35: US | E35: 2926.89 | F35: 430 | G35: 3 | H35: 44351 | I35: ACME Film / WB
A36: =IF(B36<>"",ROWS($B$6:B36),"") -> 31 | B36: Vestuvių kalba | C36: Le discours | D36: FR | E36: 2758 | F36: 507 | G36: 6 | H36: 44421 | I36: A-One Films
A37: =IF(B37<>"",ROWS($B$6:B37),"") -> 32 | B37: Krudžiai 2. Naujasis amžius | C37: The Croods: A New Age | D37: US | E37: 2221.5 | F37: 508 | G37: 3 | H37: 44351 | I37: Dukine Film Distribution / Universal Pictures
A38: =IF(B38<>"",ROWS($B$6:B38),"") -> 33 | B38: Geriausi mūsų metai | C38: The Best Years | D38: IT | E38: 2128.61 | F38: 403 | G38: 4 | H38: 44414 | I38: Greta Garbo
A39: =IF(B39<>"",ROWS($B$6:B39),"") -> 34 | B39: Frida. Viva la Vida | C39: Frida. Viva la Vida | D39: IT | E39: 1740 | F39: 349 | G39: 8 | H39: 44386 | I39: A-One Films
A40: =IF(B40<>"",ROWS($B$6:B40),"") -> 35 | B40: Paprasta aistra | C40: Passion simple | D40: FR | E40: 1670 | F40: 380 | G40: 4 | H40: 44428 | I40: Best Film
A41: =IF(B41<>"",ROWS($B$6:B41),"") -> 36 | B41: Tiktai žvėrys | C41: Seules les bêtes | D41: FR | E41: 1563 | F41: 313 | G41: 6 | H41: 44393 | I41: A-One Films
A42: =IF(B42<>"",ROWS($B$6:B42),"") -> 37 | B42: Dylere | C42: La Dorrone | D42: FR | E42: 1238 | F42: 256 | G42: 1 | H42: 44106 | I42: A-One Films
A43: =IF(B43<>"",ROWS($B$6:B43),"") -> 38 | B43: Kvepalai | C43: Les parfums | D43: FR | E43: 1038.52 | F43: 182 | G43: 4 | H43: 44393 | I43: Best Film
A44: =IF(B44<>"",ROWS($B$6:B44),"") -> 39 | B44: Didžiapėdžio vaikis 2 | C44: Bigfoot family | D44: BE, FR | E44: 772.5 | F44: 420 | G44: 2 | H44: 44106 | I44: VLG Film
A45: =IF(B45<>"",ROWS($B$6:B45),"") -> 40 | B45: Tuvė | C45: Tove | D45: FI | E45: 754.57 | F45: 172 | G45: 5 | H45: 44421 | I45: Estinfilm
A46: =IF(B46<>"",ROWS($B$6:B46),"") -> 41 | B46: Sapnų kūrėjai | C46: Dreambuilders | D46: DK | E46: 610.49 | F46: 323 | G46: 2 | H46: 44113 | I46: ACME Film
A47: =IF(B47<>"",ROWS($B$6:B47),"") -> 42 | B47: Karštakošė gražuolė | C47: Jolt | D47: US | E47: 584.3 | F47: 96 | G47: 9 | H47: 44407 | I47: VLG film
A48: =IF(B48<>"",ROWS($B$6:B48),"") -> 43 | B48: Prabudimas | C48: Awaken | D48: US, EA | E48: 563.47 | F48: 96 | G48: 3 | H48: 44400 | I48: Best Film
A49: =IF(B49<>"",ROWS($B$6:B49),"") -> 44 | B49: Garsioji meškinų invazija į Siciliją | C49: La Fameuse Invasion des ours en Sicile | D49: FR, IT | E49: 535 | F49: 143 | G49: 2 | H49: 43987 | I49: Europos kinas
A50: =IF(B50<>"",ROWS($B$6:B50),"") -> 45 | B50: Gyvatės akys: Eilinio Džo kilmė | C50: Snake Eyes: G.I. Joe Origins | D50: US | E50: 500.75 | F50: 94 | G50: 6 | H50: 44400 | I50: Dukine Film Distribution / Paramount Pictures
A51: =IF(B51<>"",ROWS($B$6:B51),"") -> 46 | B51: Monstrų atostogos | C51: Legend of Hallowaiian | D51: US | E51: 469 | F51: 255 | G51: 2 | H51: 43770 | I51: Garsų pasaulio įrašai
A52: =IF(B52<>"",ROWS($B$6:B52),"") -> 47 | B52: Tėvas | C52: The Father | D52: UK, FR | E52: 433.92 | F52: 77 | G52: 3 | H52: 44316 | I52: Best Film
A53: =IF(B53<>"",ROWS($B$6:B53),"") -> 48 | B53: Užsimaskavę šnipai | C53: Spies In Disguise | D53: US | E53: 431 | F53: 226 | G53: 4 | H53: 43840 | I53: Theatrical Film Distribution / WDSMPI
A54: =IF(B54<>"",ROWS($B$6:B54),"") -> 49 | B54: Rėja ir paskutinysis drakonas | C54: Raya and the Last Dragon | D54: US | E54: 405.25 | F54: 90 | G54: 1 | H54: 44337 | I54: Theatrical Film Distribution / WDSMPI
A55: =IF(B55<>"",ROWS($B$6:B55),"") -> 50 | B55: Ežiukas Sonic | C55: Sonic The Hedgehog | D55: US, JP, CA | E55: 385 | F55: 198 | G55: 4 | H55: 44008 | I55: Dukine Film Distribution / Paramount Pictures
A56: =IF(B56<>"",ROWS($B$6:B56),"") -> 51 | B56: Lesė grįžta | C56: Lassie | D56: DE | E56: 380 | F56: 194 | G56: 2 | H56: 44099 | I56: VLG film
A57: =IF(B57<>"",ROWS($B$6:B57),"") -> 52 | B57: Helmut Newton: begėdiškas grožis | C57: Helmut Newton: The Bad and the Beautiful | D57: DE | E57: 303 | F57: 55 | G57: 1 | H57: 44132 | I57: A-One Films
A58: =IF(B58<>"",ROWS($B$6:B58),"") -> 53 | B58: Gauruoti šnipai | C58: Spycies | D58: CN, FR | E58: 290.99 | F58: 159 | G58: 2 | H58: 43861 | I58: ACME Film
A59: =IF(B59<>"",ROWS($B$6:B59),"") -> 54 | B59: Pirmyn | C59: Onward | D59: US | E59: 247 | F59: 129 | G59: 3 | H59: 43896 | I59: Theatrical Film Distribution / WDSMPI
A60: =IF(B60<>"",ROWS($B$6:B60),"") -> 55 | B60: Arkties komanda | C60: Arctic Dogs | D60: UK, KR, IN | E60: 232 | F60: 116 | G60: 2 | H60: 43875 | I60: VLG film
A61: =IF(B61<>"",ROWS($B$6:B61),"") -> 56 | B61: Siela | C61: Soul | D61: US | E61: 227.29 | F61: 42 | G61: 1 | H61: 44316 | I61: Theatrical Film Distribution / WDSMPI
A62: =IF(B62<>"",ROWS($B$6:B62),"") -> 57 | B62: Perspektyvi mergina | C62: Promising Young Woman | D62: UK | E62: 215.5 | F62: 49 | G62: 2 | H62: 44316 | I62: VLG film
A63: =IF(B63<>"",ROWS($B$6:B63),"") -> 58 | B63: SKŪBIS DŪ! | C63: Scoob! | D63: US | E63: 208 | F63: 106 | G63: 1 | H63: 44092 | I63: ACME Film / WB
A64: =IF(B64<>"",ROWS($B$6:B64),"") -> 59 | B64: Vikingas Vikas | C64: Vic the Viking and the Magic Sword | D64: FR | E64: 164 | F64: 89 | G64: 2 | H64: 44015 | I64: VLG Film
A65: =IF(B65<>"",ROWS($B$6:B65),"") -> 60 | B65: Liūtas karalius | C65: The Lion King | D65: US | E65: 154 | F65: 77 | G65: 4 | H65: 43665 | I65: Theatrical Film Distribution / WDSMPI
A66: =IF(B66<>"",ROWS($B$6:B66),"") -> 61 | B66: Klajoklių žemė | C66: Nomadland | D66: US | E66: 148.5 | F66: 44 | G66: 1 | H66: 44323 | I66: Theatrical Film Distribution / WDSMPI
A67: =IF(B67<>"",ROWS($B$6:B67),"") -> 62 | B67: Džentelmeniškas apiplėšimas | C67: The Misfits | D67: US | E67: 142.25 | F67: 24 | G67: 1 | H67: 44379 | I67: Theatrical Film Distribution
A68: =IF(B68<>"",ROWS($B$6:B68),"") -> 63 | B68: Kosminis Samsamas | C68: Samsam | D68: FR | E68: 119.5 | F68: 64 | G68: 2 | H68: 44057 | I68: VLG Film
A69: =IF(B69<>"",ROWS($B$6:B69),"") -> 64 | B69: Berniukas ir pasaulis | C69: O Menino e o Mundo | D69: BR | E69: 50 | F69: 10 | G69: 1 | H69: 42458 | I69: Europos kinas
A70: =IF(B70<>"",ROWS($B$6:B70),"") -> 65 | B70: Nuostabi epocha | C70: La Belle Epoque | D70: FR | E70: 24 | F70: 14 | G70: 1 | H70: 43805 | I70: VLG Film
A71: =IF(B71<>"",ROWS($B$6:B71),"") -> 66 | B71: Žose, tigras ir žuvis | C71: Josee, the Tiger and the Fish | D71: JP | E71: 19 | F71: 3 | G71: 1 | H71: 44365 | I71: VLG film
A72: =IF(B72<>"",ROWS($B$6:B72),"") -> 67 | B72: Padūkėlė Turu | C72: Turu the Wacky Hen | D72: ES, AR | E72: 13 | F72: 4 | G72: 1 | H72: 44386 | I72: ACME Film
E73: =SUBTOTAL(109,Table3_Rugpjūtis[Pajamos]) -> 944282.32 | F73: =SUBTOTAL(109,Table3_Rugpjūtis[Žiūrovų skaičius]) -> 175820

Sheet Rugsėjis
A1: ='2021'!A1 -> 2021
A2: ='2021'!A2 -> Lietuvos kino teatruose rodytų filmų TOP
A3: Rugsėjis
A5: Eil. Nr. | B5: Filmo pavadinimas | C5: Filmo pavadinimas originalo kalba | D5: Kilmės šalis | E5: Pajamos | F5: Žiūrovų skaičius | G5: Kopijų skaičius | H5: Premjeros data | I5: Platintojas
A6: =IF(B6<>"",ROWS($B$6:B6),"") -> 1 | B6: Kopa | C6: Dune | D6: US | E6: 257805.69 | F6: 37110 | G6: 17 | H6: 44456 | I6: ACME Film / WB
A7: =IF(B7<>"",ROWS($B$6:B7),"") -> 2 | B7: Ponas kūdikis 2. Šeimos reikalai | C7: The Boss Baby: Family Business | D7: US | E7: 115696.04 | F7: 23864 | G7: 20 | H7: 44456 | I7: Dukine Film Distribution / Universal Pictures
A8: =IF(B8<>"",ROWS($B$6:B8),"") -> 3 | B8: Šang-Či ir dešimties žiedų legenda | C8: Shang-Chi and the Legend of the Ten Rings | D8: US | E8: 80734.83 | F8: 12618 | G8: 15 | H8: 44442 | I8: Theatrical Film Distribution / WDSMPI
A9: =IF(B9<>"",ROWS($B$6:B9),"") -> 4 | B9: After. Kai mes pasiklydom | C9: After We Fell | D9: US | E9: 76676 | F9: 12350 | G9: 16 | H9: 44449 | I9: Garsų pasaulio įrašai
A10: =IF(B10<>"",ROWS($B$6:B10),"") -> 5 | B10: Šunyčiai patruliai. Filmas | C10: Paw Patrol: The Movie | D10: US | E10: 65366.36 | F10: 13799 | G10: 18 | H10: 44428 | I10: Dukine Film Distribution / Paramount Pictures
A11: =IF(B11<>"",ROWS($B$6:B11),"") -> 6 | B11: Laisvasis Gajus | C11: Free Guy | D11: US | E11: 56786.71 | F11: 9178 | G11: 9 | H11: 44421 | I11: Theatrical Film Distribution / WDSMPI
A12: =IF(B12<>"",ROWS($B$6:B12),"") -> 7 | B12: Šuolis | C12: Šuolis | D12: LT | E12: 40807 | F12: 7133 | G12: 20 | H12: 44456 | I12: Moonmakers
A13: =IF(B13<>"",ROWS($B$6:B13),"") -> 8 | B13: Piktybinis | C13: Malignant | D13: US | E13: 37982.98 | F13: 5934 | G13: 11 | H13: 44442 | I13: ACME Film / WB
A14: =IF(B14<>"",ROWS($B$6:B14),"") -> 9 | B14: Lukas | C14: Luca | D14: US | E14: 26997.66 | F14: 5669 | G14: 10 | H14: 44400 | I14: Theatrical Film Distribution / WDSMPI
A15: =IF(B15<>"",ROWS($B$6:B15),"") -> 10 | B15: Latė ir stebuklingas akmuo | C15: Latte & the Magic Waterstone | D15: DE, BE | E15: 18828.13 | F15: 4026 | G15: 12 | H15: 44442 | I15: Travolta
A16: =IF(B16<>"",ROWS($B$6:B16),"") -> 11 | B16: Mirtis palauks | C16: No Time To Die | D16: UK, US | E16: 16786.67 | F16: 2749 | G16: 10 | H16: 44470 | I16: Dukine Film Distribution / Universal Pictures
A17: =IF(B17<>"",ROWS($B$6:B17),"") -> 12 | B17: Kuponų karalienės | C17: Queenpins | D17: US | E17: 15918.32 | F17: 2653 | G17: 16 | H17: 44442 | I17: ACME Film
A18: =IF(B18<>"",ROWS($B$6:B18),"") -> 13 | B18: Kortų skaičiuotojas | C18: The Card Counter | D18: CN, UK, US | E18: 12859 | F18: 2078 | G18: 18 | H18: 44463 | I18: VLG film
A19: =IF(B19<>"",ROWS($B$6:B19),"") -> 14 | B19: Izaokas | C19: Izaokas | D19: LT | E19: 10189.44 | F19: 1813 | G19: 8 | H19: 44421 | I19: Film Jam
A20: =IF(B20<>"",ROWS($B$6:B20),"") -> 15 | B20: Pabėgimo kambarys 2: Išėjimo nėra | C20: Escape Room 2 | D20: US | E20: 8334.53 | F20: 1287 | G20: 3 | H20: 44393 | I20: ACME Film / SONY
A21: =IF(B21<>"",ROWS($B$6:B21),"") -> 16 | B21: Naktinė žvejyba | C21: Naktinė žvejyba | D21: LT | E21: 8214.46 | F21: 1262 | G21: 8 | H21: 44407 | I21: Stambus planas
A22: =IF(B22<>"",ROWS($B$6:B22),"") -> 17 | B22: Kosminis krepšinis: Nauja era | C22: Space jam 2 (Space Jam: A New Legacy) | D22: US | E22: 5832.86 | F22: 1274 | G22: 7 | H22: 44393 | I22: ACME Film / WB
A23: =IF(B23<>"",ROWS($B$6:B23),"") -> 18 | B23: Jokių liudininkų | C23: Cop Shop | D23: US | E23: 5519.43 | F23: 900 | G23: 15 | H23: 44463 | I23: ACME Film
A24: =IF(B24<>"",ROWS($B$6:B24),"") -> 19 | B24: Seifas | C24: Waydown (The Vault) | D24: ES | E24: 5420.34 | F24: 921 | G24: 14 | H24: 44435 | I24: ACME Film
A25: =IF(B25<>"",ROWS($B$6:B25),"") -> 20 | B25: Bitininkas | C25: Candyman | D25: US | E25: 5116.17 | F25: 803 | G25: 14 | H25: 44435 | I25: Dukine Film Distribution / Universal Pictures
A26: =IF(B26<>"",ROWS($B$6:B26),"") -> 21 | B26: Dar po vieną | C26: Druk | D26: DK, NL | E26: 4140.58 | F26: 708 | G26: 2 | H26: 44330 | I26: Estinfilm
A27: =IF(B27<>"",ROWS($B$6:B27),"") -> 22 | B27: Dogtanjanas ir trys šunietininkai | C27: Dogtanian and the Three Muskehounds | D27: ES | E27: 4103 | F27: 964 | G27: 16 | H27: 44449 | I27: ACME Film
A28: =IF(B28<>"",ROWS($B$6:B28),"") -> 23 | B28: Ne bobų reikalai | C28: Нефутбол | D28: RU | E28: 4099 | F28: 680 | G28: 4 | H28: 44449 | I28: Garsų pasaulio įrašai
A29: =IF(B29<>"",ROWS($B$6:B29),"") -> 24 | B29: Rifkino festivalis | C29: Rifkin‘s Festival | D29: ES, US, IT | E29: 4054.28 | F29: 716 | G29: 9 | H29: 44435 | I29: VLG film
A30: =IF(B30<>"",ROWS($B$6:B30),"") -> 25 | B30: Nakties namai | C30: The Night House | D30: US | E30: 3846.3 | F30: 601 | G30: 8 | H30: 44428 | I30: Theatrical Film Distribution / WDSMPI
A31: =IF(B31<>"",ROWS($B$6:B31),"") -> 26 | B31: (Ne)Tobulas vyras | C31: I'm Your Man | D31: DE | E31: 3679.24 | F31: 804 | G31: 3 | H31: 44421 | I31: VLG film
A32: =IF(B32<>"",ROWS($B$6:B32),"") -> 27 | B32: Kiaulė | C32: Pig | D32: US | E32: 3607.9 | F32: 624 | G32: 14 | H32: 44435 | I32: Theatrical Film Distribution
A33: =IF(B33<>"",ROWS($B$6:B33),"") -> 28 | B33: Rozos vestuvės | C33: La boda de Rosa | D33: ES, FR | E33: 3559.5 | F33: 556 | G33: 4 | H33: 44442 | I33: Kino pasaka
A34: =IF(B34<>"",ROWS($B$6:B34),"") -> 29 | B34: Savižudžių būrys. Mobilizacija | C34: Suicide Squad 2 | D34: US | E34: 3442.42 | F34: 569 | G34: 6 | H34: 44414 | I34: ACME Film / WB
A35: =IF(B35<>"",ROWS($B$6:B35),"") -> 30 | B35: Šmėklų žemės kaliniai | C35: Prisoners of The Ghostland | D35: US | E35: 2773.2 | F35: 484 | G35: 15 | H35: 44449 | I35: Theatrical Film Distribution
A36: =IF(B36<>"",ROWS($B$6:B36),"") -> 31 | B36: Geriausi mūsų metai | C36: The Best Years | D36: IT | E36: 2106.39 | F36: 392 | G36: 3 | H36: 44414 | I36: Greta Garbo
A37: =IF(B37<>"",ROWS($B$6:B37),"") -> 32 | B37: Žudiko kodeksas | C37: The Protege | D37: US | E37: 1936.98 | F37: 329 | G37: 10 | H37: 44442 | I37: Theatrical Film Distribution
A38: =IF(B38<>"",ROWS($B$6:B38),"") -> 33 | B38: Patrakėlė Marta Džein | C38: Calamity, a Childhood of Martha Jane Cannary | D38: FR | E38: 1560 | F38: 330 | G38: 8 | H38: 44463 | I38: UPĖ Media
A39: =IF(B39<>"",ROWS($B$6:B39),"") -> 34 | B39: Į mėnulį | C39: Moonbound | D39: DE, AT | E39: 1457.12 | F39: 302 | G39: 7 | H39: 44470 | I39: ACME Film
A40: =IF(B40<>"",ROWS($B$6:B40),"") -> 35 | B40: Vestuvių kalba | C40: Le discours | D40: FR | E40: 1428 | F40: 276 | G40: 6 | H40: 44421 | I40: A-One Films
A41: =IF(B41<>"",ROWS($B$6:B41),"") -> 36 | B41: Tuvė | C41: Tove | D41: FI | E41: 1308.43 | F41: 220 | G41: 3 | H41: 44421 | I41: Estinfilm
A42: =IF(B42<>"",ROWS($B$6:B42),"") -> 37 | B42: Ant erelio sparnų | C42: Ride the Eagle | D42: US | E42: 1177 | F42: 184 | G42: 6 | H42: 44463 | I42: Unlimited Media
A43: =IF(B43<>"",ROWS($B$6:B43),"") -> 38 | B43: Tėvas | C43: The Father | D43: UK, FR | E43: 1152.08 | F43: 245 | G43: 2 | H43: 44316 | I43: Best Film
A44: =IF(B44<>"",ROWS($B$6:B44),"") -> 39 | B44: Nepažabojama dvasia | C44: Spirit Untamed | D44: US | E44: 1110.22 | F44: 235 | G44: 1 | H44: 44379 | I44: Dukine Film Distribution / Universal Pictures
A45: =IF(B45<>"",ROWS($B$6:B45),"") -> 40 | B45: Viešbutis "Grand Budapest" | C45: The Grand Budapest Hotel | D45: US | E45: 1056 | F45: 212 | G45: 1 | H45: 41712 | I45: Theatrical Film Distribution / 20th Century Fox
A46: =IF(B46<>"",ROWS($B$6:B46),"") -> 41 | B46: Kaimynai | C46: The People Upstairs | D46: ES | E46: 1045 | F46: 190 | G46: 3 | H46: 44379 | I46: Kino pasaka
A47: =IF(B47<>"",ROWS($B$6:B47),"") -> 42 | B47: Nauja praeitis | C47: Reminiscence | D47: US | E47: 862.93 | F47: 148 | G47: 10 | H47: 44428 | I47: ACME Film / WB
A48: =IF(B48<>"",ROWS($B$6:B48),"") -> 43 | B48: Džiunglių kruizas | C48: Jungle Cruise | D48: US | E48: 727 | F48: 178 | G48: 3 | H48: 44407 | I48: Theatrical Film Distribution / WDSMPI
A49: =IF(B49<>"",ROWS($B$6:B49),"") -> 44 | B49: Svajoklis Budis 2 | C49: Rock Dog 2 | D49: US | E49: 664.16 | F49: 169 | G49: 3 | H49: 44414 | I49: ACME Film
A50: =IF(B50<>"",ROWS($B$6:B50),"") -> 45 | B50: Tiktai žvėrys | C50: Seules les bêtes | D50: FR | E50: 658 | F50: 132 | G50: 6 | H50: 44393 | I50: A-One Films
A51: =IF(B51<>"",ROWS($B$6:B51),"") -> 46 | B51: Siela | C51: Soul | D51: US | E51: 608 | F51: 152 | G51: 1 | H51: 44316 | I51: Theatrical Film Distribution / WDSMPI
A52: =IF(B52<>"",ROWS($B$6:B52),"") -> 47 | B52: Jokūbas, Mimi ir kalbantys šunys | C52: Jekabs, Mimmi un runajosie suni | D52: LV, PL | E52: 500 | F52: 167 | G52: 1 | H52: 44114 | I52: Skalvijos kino centras
A53: =IF(B53<>"",ROWS($B$6:B53),"") -> 48 | B53: Mirties namai 2 | C53: Dont Breathe 2 | D53: US | E53: 458.4 | F53: 72 | G53: 4 | H53: 44421 | I53: ACME Film / SONY
A54: =IF(B54<>"",ROWS($B$6:B54),"") -> 49 | B54: Žaliasis riteris | C54: The Green Knight | D54: IE, CA, US, UK | E54: 294.09 | F54: 61 | G54: 2 | H54: 44428 | I54: VLG film
A55: =IF(B55<>"",ROWS($B$6:B55),"") -> 50 | B55: Panelė Rūgštynė | C55: Jamais Contente | D55: FR | E55: 280 | F55: 124 | G55: 1 | H55: 42721 | I55: Skalvijos kino centras
A56: =IF(B56<>"",ROWS($B$6:B56),"") -> 51 | B56: Paprasta aistra | C56: Passion simple | D56: FR | E56: 259 | F56: 42 | G56: 1 | H56: 44428 | I56: Best Film
A57: =IF(B57<>"",ROWS($B$6:B57),"") -> 52 | B57: Gauja | C57: Smecka | D57: CZ, SK, LV | E57: 224 | F57: 66 | G57: 1 | H57: 44330 | I57: Skalvijos kino centras
A58: =IF(B58<>"",ROWS($B$6:B58),"") -> 53 | B58: Klajoklių žemė | C58: Nomadland | D58: US | E58: 209 | F58: 44 | G58: 2 | H58: 44323 | I58: Theatrical Film Distribution / WDSMPI
A59: =IF(B59<>"",ROWS($B$6:B59),"") -> 54 | B59: Tamsta Varlius | C59: Meester Kikker | D59: NL | E59: 176 | F59: 39 | G59: 1 | H59: 42654 | I59: Skalvijos kino centras
A60: =IF(B60<>"",ROWS($B$6:B60),"") -> 55 | B60: Helmut Newton: begėdiškas grožis | C60: Helmut Newton: The Bad and the Beautiful | D60: DE | E60: 175 | F60: 35 | G60: 1 | H60: 44132 | I60: A-One Films
A61: =IF(B61<>"",ROWS($B$6:B61),"") -> 56 | B61: Bintė | C61: Binti | D61: BE | E61: 100 | F61: 25 | G61: 1 | H61: 44080 | I61: Skalvijos kino centras
A62: =IF(B62<>"",ROWS($B$6:B62),"") -> 57 | B62: Ypatingieji | C62: The Specials | D62: FR | E62: 100 | F62: 20 | G62: 1 | H62: 43868 | I62: Theatrical Film Distribution
A63: =IF(B63<>"",ROWS($B$6:B63),"") -> 58 | B63: Kliedesiai | C63: Delirium | D63: US | E63: 100 | F63: 20 | G63: 1 | H63: 43252 | I63: Theatrical Film Distribution
A64: =IF(B64<>"",ROWS($B$6:B64),"") -> 59 | B64: Vaiduoklių žemė | C64: Incident In A Ghost Land | D64: CA, FR | E64: 100 | F64: 20 | G64: 1 | H64: 43182 | I64: Theatrical Film Distribution
A65: =IF(B65<>"",ROWS($B$6:B65),"") -> 60 | B65: Arčiau debesų | C65: Cloudboy | D65: BG, SE, NL, NO | E65: 84 | F65: 21 | G65: 1 | H65: 42988 | I65: Skalvijos kino centras
A66: =IF(B66<>"",ROWS($B$6:B66),"") -> 61 | B66: Supernova | C66: Supernova | D66: UK | E66: 72 | F66: 14 | G66: 2 | H66: 44414 | I66: Theatrical Film Distribution
A67: =IF(B67<>"",ROWS($B$6:B67),"") -> 62 | B67: Perspektyvi mergina | C67: Promising Young Woman | D67: UK | E67: 56 | F67: 15 | G67: 1 | H67: 44316 | I67: VLG film
A68: =IF(B68<>"",ROWS($B$6:B68),"") -> 63 | B68: Žose, tigras ir žuvis | C68: Josee, the Tiger and the Fish | D68: JP | E68: 38.48 | F68: 6 | G68: 1 | H68: 44365 | I68: VLG film
A69: =IF(B69<>"",ROWS($B$6:B69),"") -> 64 | B69: Nuostabi epocha | C69: La Belle Epoque | D69: FR | E69: 38 | F69: 6 | G69: 1 | H69: 43805 | I69: VLG Film
A70: =IF(B70<>"",ROWS($B$6:B70),"") -> 65 | B70: Ežiukas Sonic | C70: Sonic The Hedgehog | D70: US, JP, CA | E70: 30 | F70: 15 | G70: 1 | H70: 44008 | I70: Dukine Film Distribution / Paramount Pictures
A71: =IF(B71<>"",ROWS($B$6:B71),"") -> 66 | B71: Keliaujantys paukščiai | C71: Les oiseaux de passage | D71: BE, FR | E71: 20 | F71: 10 | G71: 1 | H71: 42301 | I71: Skalvijos kino centras
A72: =IF(B72<>"",ROWS($B$6:B72),"") -> 67 | B72: SKŪBIS DŪ! | C72: Scoob! | D72: US | E72: 10 | F72: 5 | G72: 1 | H72: 44092 | I72: ACME Film / WB
E73: =SUBTOTAL(109,Table3_Rugsėjis[Pajamos]) -> 931359.32 | F73: =SUBTOTAL(109,Table3_Rugsėjis[Žiūrovų skaičius]) -> 158648

Sheet Spalis
A1: ='2021'!A1 -> 2021
A2: ='2021'!A2 -> Lietuvos kino teatruose rodytų filmų TOP
A3: Spalis
A5: Eil. Nr. | B5: Filmo pavadinimas | C5: Filmo pavadinimas originalo kalba | D5: Kilmės šalis | E5: Pajamos | F5: Žiūrovų skaičius | G5: Kopijų skaičius | H5: Premjeros data | I5: Platintojas
A6: =IF(B6<>"",ROWS($B$6:B6),"") -> 1 | B6: Mirtis palauks | C6: No Time To Die | D6: UK, US | E6: 325512.18 | F6: 47668 | G6: 18 | H6: 44470 | I6: Dukine Film Distribution / Universal Pictures
A7: =IF(B7<>"",ROWS($B$6:B7),"") -> 2 | B7: Venomas 2 | C7: Venom Let There Be Carnage | D7: US | E7: 254491.73 | F7: 36175 | G7: 15 | H7: 44484 | I7: ACME Film / SONY
A8: =IF(B8<>"",ROWS($B$6:B8),"") -> 3 | B8: Adamsų šeimynėlė 2 | C8: The Addams Family 2 | D8: US | E8: 176224 | F8: 35275 | G8: 20 | H8: 44477 | I8: Dukine Film Distribution / Universal Pictures
A9: =IF(B9<>"",ROWS($B$6:B9),"") -> 4 | B9: Kopa | C9: Dune | D9: US | E9: 145073.44 | F9: 22941 | G9: 11 | H9: 44456 | I9: ACME Film / WB
A10: =IF(B10<>"",ROWS($B$6:B10),"") -> 5 | B10: Ponas kūdikis 2. Šeimos reikalai | C10: The Boss Baby: Family Business | D10: US | E10: 87779.08 | F10: 17581 | G10: 17 | H10: 44456 | I10: Dukine Film Distribution / Universal Pictures
A11: =IF(B11<>"",ROWS($B$6:B11),"") -> 6 | B11: Šuolis | C11: Šuolis | D11: LT | E11: 47340.81 | F11: 7920 | G11: 6 | H11: 44456 | I11: Moonmakers
A12: =IF(B12<>"",ROWS($B$6:B12),"") -> 7 | B12: Į mėnulį | C12: Moonbound | D12: DE, AT | E12: 41481.93 | F12: 8733 | G12: 17 | H12: 44470 | I12: ACME Film
A13: =IF(B13<>"",ROWS($B$6:B13),"") -> 8 | B13: Helovinas žudo | C13: Halloween Kills | D13: US | E13: 39259 | F13: 6246 | G13: 15 | H13: 44491 | I13: Dukine Film Distribution / Universal Pictures
A14: =IF(B14<>"",ROWS($B$6:B14),"") -> 9 | B14: Paskutinė dvikova | C14: The Last Duel | D14: US | E14: 26288 | F14: 4223 | G14: 17 | H14: 44484 | I14: Theatrical Film Distribution / WDSMPI
A15: =IF(B15<>"",ROWS($B$6:B15),"") -> 10 | B15: Operacija "O2" | C15: Operacija "O2" | D15: LT, EE, FI, LV | E15: 24128 | F15: 3889 | G15: 19 | H15: 44491 | I15: Theatrical Film Distribution
A16: =IF(B16<>"",ROWS($B$6:B16),"") -> 11 | B16: Šunyčiai patruliai. Filmas | C16: Paw Patrol: The Movie | D16: US | E16: 16488.66 | F16: 3369 | G16: 8 | H16: 44428 | I16: Dukine Film Distribution / Paramount Pictures
A17: =IF(B17<>"",ROWS($B$6:B17),"") -> 12 | B17: Nepataisomas Ronas | C17: Ron's Gone Wrong | D17: US | E17: 15712 | F17: 3217 | G17: 17 | H17: 44498 | I17: Theatrical Film Distribution / WDSMPI
A18: =IF(B18<>"",ROWS($B$6:B18),"") -> 13 | B18: Nepasotinamas alkis | C18: Antlers | D18: US | E18: 14671 | F18: 2306 | G18: 16 | H18: 44498 | I18: Theatrical Film Distribution / WDSMPI
A19: =IF(B19<>"",ROWS($B$6:B19),"") -> 14 | B19: After. Kai mes pasiklydom | C19: After We Fell | D19: US | E19: 12453 | F19: 1905 | G19: 8 | H19: 44449 | I19: Garsų pasaulio įrašai
A20: =IF(B20<>"",ROWS($B$6:B20),"") -> 15 | B20: Paralelinės mamos | C20: Parallel Mothers | D20: ES | E20: 12346.28 | F20: 2214 | G20: 17 | H20: 44477 | I20: VLG film
A21: =IF(B21<>"",ROWS($B$6:B21),"") -> 16 | B21: Kibirkščiuojantis Luiso Veino gyvenimas | C21: The Eletrical Life of Louis Wain | D21: UK | E21: 9268.04 | F21: 1447 | G21: 12 | H21: 44491 | I21: VLG film
A22: =IF(B22<>"",ROWS($B$6:B22),"") -> 17 | B22: Kortų skaičiuotojas | C22: The Card Counter | D22: CN, UK, US | E22: 8212.74 | F22: 1284 | G22: 8 | H22: 44463 | I22: VLG film
A23: =IF(B23<>"",ROWS($B$6:B23),"") -> 18 | B23: Vilkolakiai tarp mūsų | C23: Werewolves Within | D23: US | E23: 7505.31 | F23: 1198 | G23: 13 | H23: 44477 | I23: ACME Film
A24: =IF(B24<>"",ROWS($B$6:B24),"") -> 19 | B24: Titane | C24: Titane | D24: FR | E24: 7379 | F24: 1324 | G24: 8 | H24: 44484 | I24: A-One Films
A25: =IF(B25<>"",ROWS($B$6:B25),"") -> 20 | B25: Šang-Či ir dešimties žiedų legenda | C25: Shang-Chi and the Legend of the Ten Rings | D25: US | E25: 5934.95 | F25: 960 | G25: 7 | H25: 44442 | I25: Theatrical Film Distribution / WDSMPI
A26: =IF(B26<>"",ROWS($B$6:B26),"") -> 21 | B26: Laisvasis Gajus | C26: Free Guy | D26: US | E26: 5078.97 | F26: 832 | G26: 6 | H26: 44421 | I26: Theatrical Film Distribution / WDSMPI
A27: =IF(B27<>"",ROWS($B$6:B27),"") -> 22 | B27: Lukas | C27: Luca | D27: US | E27: 4852.93 | F27: 956 | G27: 4 | H27: 44400 | I27: Theatrical Film Distribution / WDSMPI
A28: =IF(B28<>"",ROWS($B$6:B28),"") -> 23 | B28: Piktybinis | C28: Malignant | D28: US | E28: 3683.24 | F28: 548 | G28: 3 | H28: 44442 | I28: ACME Film / WB
A29: =IF(B29<>"",ROWS($B$6:B29),"") -> 24 | B29: Naktinė žvejyba | C29: Naktinė žvejyba | D29: LT | E29: 2822.14 | F29: 391 | G29: 2 | H29: 44407 | I29: Stambus planas
A30: =IF(B30<>"",ROWS($B$6:B30),"") -> 25 | B30: Blumų šeimos istorija | C30: Penguin Bloom | D30: US, AU | E30: 2775.57 | F30: 482 | G30: 14 | H30: 44491 | I30: Theatrical Film Distribution
A31: =IF(B31<>"",ROWS($B$6:B31),"") -> 26 | B31: DNR | C31: AND | D31: FR | E31: 2542 | F31: 504 | G31: 6 | H31: 44491 | I31: A-One Films
A32: =IF(B32<>"",ROWS($B$6:B32),"") -> 27 | B32: Triumfas | C32: Un triomphe | D32: FR | E32: 2192.52 | F32: 440 | G32: 7 | H32: 44470 | I32: Europos Kinas
A33: =IF(B33<>"",ROWS($B$6:B33),"") -> 28 | B33: Dar po vieną | C33: Druk | D33: DK, NL | E33: 1543.59 | F33: 291 | G33: 4 | H33: 44330 | I33: Estinfilm
A34: =IF(B34<>"",ROWS($B$6:B34),"") -> 29 | B34: Tylos zona 2 | C34: A Quiet Place 2 | D34: US | E34: 1367.96 | F34: 292 | G34: 6 | H34: 44344 | I34: Dukine Film Distribution / Paramount Pictures
A35: =IF(B35<>"",ROWS($B$6:B35),"") -> 30 | B35: Latė ir stebuklingas akmuo | C35: Latte & the Magic Waterstone | D35: DE, BE | E35: 1360.66 | F35: 333 | G35: 3 | H35: 44442 | I35: Travolta
A36: =IF(B36<>"",ROWS($B$6:B36),"") -> 31 | B36: Bitininkas | C36: Candyman | D36: US | E36: 1349.11 | F36: 287 | G36: 6 | H36: 44435 | I36: Dukine Film Distribution / Universal Pictures
A37: =IF(B37<>"",ROWS($B$6:B37),"") -> 32 | B37: Pabėgimo kambarys 2: Išėjimo nėra | C37: Escape Room 2 | D37: US | E37: 1264.59 | F37: 185 | G37: 1 | H37: 44393 | I37: ACME Film / SONY
A38: =IF(B38<>"",ROWS($B$6:B38),"") -> 33 | B38: Bintė | C38: Binti | D38: BE | E38: 1203 | F38: 271 | G38: 1 | H38: 44080 | I38: Skalvijos kino centras
A39: =IF(B39<>"",ROWS($B$6:B39),"") -> 34 | B39: Rifkino festivalis | C39: Rifkin‘s Festival | D39: ES, US, IT | E39: 1128.39 | F39: 193 | G39: 4 | H39: 44435 | I39: VLG film
A40: =IF(B40<>"",ROWS($B$6:B40),"") -> 35 | B40: Izaokas | C40: Izaokas | D40: LT | E40: 1127.28 | F40: 204 | G40: 4 | H40: 44421 | I40: Film Jam
A41: =IF(B41<>"",ROWS($B$6:B41),"") -> 36 | B41: Gauja | C41: Smecka | D41: CZ, SK, LV | E41: 1097 | F41: 246 | G41: 1 | H41: 44330 | I41: Skalvijos kino centras
A42: =IF(B42<>"",ROWS($B$6:B42),"") -> 37 | B42: Arčiau debesų | C42: Cloudboy | D42: BG, SE, NL, NO | E42: 1052 | F42: 233 | G42: 1 | H42: 42988 | I42: Skalvijos kino centras
A43: =IF(B43<>"",ROWS($B$6:B43),"") -> 38 | B43: Keliaujantys paukščiai | C43: Les oiseaux de passage | D43: BE/FR | E43: 975 | F43: 216 | G43: 1 | H43: 42301 | I43: Skalvijos kino centras
A44: =IF(B44<>"",ROWS($B$6:B44),"") -> 39 | B44: Romi salonas | C44: Kapsalon Romi | D44: NL, DE | E44: 945 | F44: 189 | G44: 1 | H44: 43792 | I44: Skalvijos kino centras
A45: =IF(B45<>"",ROWS($B$6:B45),"") -> 40 | B45: Vertėjai | C45: Les traducteurs | D45: FR | E45: 923.07 | F45: 180 | G45: 5 | H45: 44484 | I45: Estinfilm
A46: =IF(B46<>"",ROWS($B$6:B46),"") -> 41 | B46: P. Cardin. Mados legenda | C46: House of Cardin | D46: US, FR | E46: 739 | F46: 132 | G46: 7 | H46: 44498 | I46: Best Film
A47: =IF(B47<>"",ROWS($B$6:B47),"") -> 42 | B47: Paskutiniai ir pirmieji žmonės | C47: Last and First Men | D47: IS | E47: 612 | F47: 132 | G47: 4 | H47: 44476 | I47: A-One Films
A48: =IF(B48<>"",ROWS($B$6:B48),"") -> 43 | B48: (Ne)Tobulas vyras | C48: I'm Your Man | D48: DE | E48: 579.86 | F48: 96 | G48: 2 | H48: 44421 | I48: VLG film
A49: =IF(B49<>"",ROWS($B$6:B49),"") -> 44 | B49: Aš niekada neverkiu | C49: Jak Najdalej Stad | D49: PL, IE | E49: 511 | F49: 102 | G49: 1 | H49: 44431 | I49: Skalvijos kino centras
A50: =IF(B50<>"",ROWS($B$6:B50),"") -> 45 | B50: Patrakėlė Marta Džein | C50: Calamity, a Childhood of Martha Jane Cannary | D50: FR | E50: 483.66 | F50: 116 | G50: 4 | H50: 44463 | I50: UPĖ Media
A51: =IF(B51<>"",ROWS($B$6:B51),"") -> 46 | B51: Tamsta Varlius | C51: Meester Kikker | D51: NL | E51: 481 | F51: 153 | G51: 1 | H51: 42654 | I51: Skalvijos kino centras
A52: =IF(B52<>"",ROWS($B$6:B52),"") -> 47 | B52: Jokūbas, Mimi ir kalbantys šunys | C52: Jekabs, Mimmi un runajosie suni | D52: LV, PL | E52: 352 | F52: 88 | G52: 1 | H52: 44114 | I52: Skalvijos kino centras
A53: =IF(B53<>"",ROWS($B$6:B53),"") -> 48 | B53: Spurguliai | C53: Extinct | D53: US, CN | E53: 265 | F53: 42 | G53: 2 | H53: 44372 | I53: VLG film
A54: =IF(B54<>"",ROWS($B$6:B54),"") -> 49 | B54: Jokių liudininkų | C54: Cop Shop | D54: US | E54: 242.7 | F54: 38 | G54: 1 | H54: 44463 | I54: ACME Film
A55: =IF(B55<>"",ROWS($B$6:B55),"") -> 50 | B55: Ypatingieji | C55: The Specials | D55: FR | E55: 242 | F55: 50 | G55: 2 | H55: 43868 | I55: Theatrical Film Distribution
A56: =IF(B56<>"",ROWS($B$6:B56),"") -> 51 | B56: Helmut Newton: begėdiškas grožis | C56: Helmut Newton: The Bad and the Beautiful | D56: DE | E56: 228 | F56: 38 | G56: 1 | H56: 44132 | I56: A-One Films
A57: =IF(B57<>"",ROWS($B$6:B57),"") -> 52 | B57: Atsargiai, ragana | C57: Zlogonje | D57: MK | E57: 170 | F57: 85 | G57: 1 | H57: 43435 | I57: Skalvijos kino centras
A58: =IF(B58<>"",ROWS($B$6:B58),"") -> 53 | B58: Klajoklių žemė | C58: Nomadland | D58: US | E58: 140 | F58: 28 | G58: 1 | H58: 44323 | I58: Theatrical Film Distribution / WDSMPI
A59: =IF(B59<>"",ROWS($B$6:B59),"") -> 54 | B59: Žaliasis riteris | C59: The Green Knight | D59: IE, CA, US, UK | E59: 135 | F59: 23 | G59: 1 | H59: 44428 | I59: VLG film
A60: =IF(B60<>"",ROWS($B$6:B60),"") -> 55 | B60: Mano mama gorila | C60: Apstjärnan | D60: SE, DK, FI | E60: 122.5 | F60: 36 | G60: 1 | H60: 44493 | I60: Skalvijos kino centras
A61: =IF(B61<>"",ROWS($B$6:B61),"") -> 56 | B61: Geriausi mūsų metai | C61: The Best Years | D61: IT | E61: 112 | F61: 16 | G61: 1 | H61: 44414 | I61: Greta Garbo
A62: =IF(B62<>"",ROWS($B$6:B62),"") -> 57 | B62: Kiaulė | C62: Pig | D62: US | E62: 86 | F62: 25 | G62: 1 | H62: 44435 | I62: Theatrical Film Distribution
E63: =SUBTOTAL(109,Table3_Spalis[Pajamos]) -> 1322334.9 | F63: =SUBTOTAL(109,Table3_Spalis[Žiūrovų skaičius]) -> 218348

Sheet Lapkritis
A1: ='2021'!A1 -> 2021
A2: ='2021'!A2 -> Lietuvos kino teatruose rodytų filmų TOP
A3: Lapkritis
A5: Eil. Nr. | B5: Filmo pavadinimas | C5: Filmo pavadinimas originalo kalba | D5: Kilmės šalis | E5: Pajamos | F5: Žiūrovų skaičius | G5: Kopijų skaičius | H5: Premjeros data | I5: Platintojas
A6: =IF(B6<>"",ROWS($B$6:B6),"") -> 1 | B6: Gucci mados namai | C6: House of Gucci | D6: US | E6: 190309.44 | F6: 26353 | G6: 17 | H6: 44526 | I6: Dukine Film Distribution / Universal Pictures
A7: =IF(B7<>"",ROWS($B$6:B7),"") -> 2 | B7: Amžinieji | C7: Eternals | D7: US | E7: 165378.25 | F7: 23756 | G7: 15 | H7: 44505 | I7: Theatrical Film Distribution / WDSMPI
A8: =IF(B8<>"",ROWS($B$6:B8),"") -> 3 | B8: Venomas 2 | C8: Venom Let There Be Carnage | D8: US | E8: 83900.35 | F8: 12925 | G8: 11 | H8: 44484 | I8: ACME Film / SONY
A9: =IF(B9<>"",ROWS($B$6:B9),"") -> 4 | B9: Nepataisomas Ronas | C9: Ron's Gone Wrong | D9: US | E9: 78909.46 | F9: 16485 | G9: 19 | H9: 44498 | I9: Theatrical Film Distribution / WDSMPI
A10: =IF(B10<>"",ROWS($B$6:B10),"") -> 5 | B10: Adamsų šeimynėlė 2 | C10: The Addams Family 2 | D10: US | E10: 78457.96 | F10: 15383 | G10: 14 | H10: 44477 | I10: Dukine Film Distribution / Universal Pictures
A11: =IF(B11<>"",ROWS($B$6:B11),"") -> 6 | B11: Mirtis palauks | C11: No Time To Die | D11: UK, US | E11: 68512.82 | F11: 10485 | G11: 11 | H11: 44470 | I11: Dukine Film Distribution / Universal Pictures
A12: =IF(B12<>"",ROWS($B$6:B12),"") -> 7 | B12: Vilkas ir liūtas | C12: The Wolf and The Lion | D12: FR | E12: 62130 | F12: 12224 | G12: 19 | H12: 44512 | I12: Garsų pasaulio įrašai
A13: =IF(B13<>"",ROWS($B$6:B13),"") -> 8 | B13: Vaiduoklių medžiotojai: Iš anapus | C13: Ghostbusters Afterlife | D13: US | E13: 61524.86 | F13: 9315 | G13: 15 | H13: 44519 | I13: ACME Film / SONY
A14: =IF(B14<>"",ROWS($B$6:B14),"") -> 9 | B14: Enkanto | C14: Encanto | D14: US | E14: 52702.7 | F14: 10475 | G14: 19 | H14: 44526 | I14: Theatrical Film Distribution / WDSMPI
A15: =IF(B15<>"",ROWS($B$6:B15),"") -> 10 | B15: Šuolis | C15: Šuolis | D15: LT | E15: 49285 | F15: 8724 | G15: 8 | H15: 44456 | I15: Moonmakers
A16: =IF(B16<>"",ROWS($B$6:B16),"") -> 11 | B16: Kopa | C16: Dune | D16: US | E16: 44950.57 | F16: 7010 | G16: 9 | H16: 44456 | I16: ACME Film / WB
A17: =IF(B17<>"",ROWS($B$6:B17),"") -> 12 | B17: Mano mielas monstras | C17: My Sweet Monster | D17: RU | E17: 41449.67 | F17: 8726 | G17: 17 | H17: 44505 | I17: ACME Film
A18: =IF(B18<>"",ROWS($B$6:B18),"") -> 13 | B18: Ponas kūdikis 2. Šeimos reikalai | C18: The Boss Baby: Family Business | D18: US | E18: 37158.53 | F18: 7658 | G18: 10 | H18: 44456 | I18: Dukine Film Distribution / Universal Pictures
A19: =IF(B19<>"",ROWS($B$6:B19),"") -> 14 | B19: Prancūzijos kronikos iš Liberčio, Kanzaso vakaro saulės | C19: The French Dispatch of the Liberty, Kansas Evening Sun | D19: US, DE | E19: 36331.69 | F19: 5952 | G19: 18 | H19: 44512 | I19: Theatrical Film Distribution
A20: =IF(B20<>"",ROWS($B$6:B20),"") -> 15 | B20: Bėgikė | C20: Bėgikė | D20: LT | E20: 24029.82 | F20: 4233 | G20: 17 | H20: 44519 | I20: M-Films
A21: =IF(B21<>"",ROWS($B$6:B21),"") -> 16 | B21: Nepasotinamas alkis | C21: Antlers | D21: US | E21: 23052.03 | F21: 3625 | G21: 16 | H21: 44498 | I21: Theatrical Film Distribution / WDSMPI
A22: =IF(B22<>"",ROWS($B$6:B22),"") -> 17 | B22: Helovinas žudo | C22: Halloween Kills | D22: US | E22: 16536.43 | F22: 2477 | G22: 11 | H22: 44491 | I22: Dukine Film Distribution / Universal Pictures
A23: =IF(B23<>"",ROWS($B$6:B23),"") -> 18 | B23: Benedeta | C23: Benedetta | D23: FR | E23: 16208.5 | F23: 2565 | G23: 11 | H23: 44512 | I23: Best Film
A24: =IF(B24<>"",ROWS($B$6:B24),"") -> 19 | B24: Operacija "O2" | C24: Operacija "O2" | D24: LT, EE, FI, LV | E24: 13329.95 | F24: 2106 | G24: 16 | H24: 44491 | I24: Theatrical Film Distribution
A25: =IF(B25<>"",ROWS($B$6:B25),"") -> 20 | B25: Kaip „Titanikas“ mane išgelbėjo | C25: How the Titanic Became My Lifeboat | D25: IS | E25: 11950.34 | F25: 2719 | G25: 19 | H25: 44512 | I25: Theatrical Film Distribution
A26: =IF(B26<>"",ROWS($B$6:B26),"") -> 21 | B26: Eilė 19 | C26: Ряд 19 | D26: RU | E26: 8137 | F26: 1261 | G26: 10 | H26: 44526 | I26: Garsų pasaulio įrašai
A27: =IF(B27<>"",ROWS($B$6:B27),"") -> 22 | B27: Viskas praėjo gerai. | C27: Tout s'est bien passé | D27: FR | E27: 4231 | F27: 827 | G27: 8 | H27: 44519 | I27: A-One Films
A28: =IF(B28<>"",ROWS($B$6:B28),"") -> 23 | B28: Paskutinė dvikova | C28: The Last Duel | D28: US | E28: 4076.85 | F28: 665 | G28: 5 | H28: 44484 | I28: Theatrical Film Distribution / WDSMPI
A29: =IF(B29<>"",ROWS($B$6:B29),"") -> 24 | B29: Kibirkščiuojantis Luiso Veino gyvenimas | C29: The Eletrical Life of Louis Wain | D29: UK | E29: 2787.44 | F29: 700 | G29: 9 | H29: 44491 | I29: VLG film
A30: =IF(B30<>"",ROWS($B$6:B30),"") -> 25 | B30: P. Cardin. Mados legenda | C30: House of Cardin | D30: US, FR | E30: 2447 | F30: 419 | G30: 9 | H30: 44498 | I30: Best Film
A31: =IF(B31<>"",ROWS($B$6:B31),"") -> 26 | B31: Į mėnulį | C31: Moonbound | D31: DE, AT | E31: 2380.91 | F31: 528 | G31: 5 | H31: 44470 | I31: ACME Film
A32: =IF(B32<>"",ROWS($B$6:B32),"") -> 27 | B32: Dar po vieną | C32: Druk | D32: DK, NL | E32: 2300.46 | F32: 402 | G32: 4 | H32: 44330 | I32: Estinfilm
A33: =IF(B33<>"",ROWS($B$6:B33),"") -> 28 | B33: Teisingumo riteriai | C33: Retfærdighedens ryttere | D33: SE, DK, FI | E33: 2259.91 | F33: 403 | G33: 7 | H33: 44519 | I33: Estinfilm
A34: =IF(B34<>"",ROWS($B$6:B34),"") -> 29 | B34: Titane | C34: Titane | D34: FR | E34: 1849 | F34: 325 | G34: 8 | H34: 44484 | I34: A-One Films
A35: =IF(B35<>"",ROWS($B$6:B35),"") -> 30 | B35: Paralelinės mamos | C35: Parallel Mothers | D35: ES | E35: 1712.7 | F35: 367 | G35: 3 | H35: 44477 | I35: VLG film
A36: =IF(B36<>"",ROWS($B$6:B36),"") -> 31 | B36: Latė ir stebuklingas akmuo | C36: Latte & the Magic Waterstone | D36: DE, BE | E36: 1211.3 | F36: 358 | G36: 3 | H36: 44442 | I36: Travolta
A37: =IF(B37<>"",ROWS($B$6:B37),"") -> 32 | B37: Šunyčiai patruliai. Filmas | C37: Paw Patrol: The Movie | D37: US | E37: 1080.5 | F37: 240 | G37: 3 | H37: 44428 | I37: Dukine Film Distribution / Paramount Pictures
A38: =IF(B38<>"",ROWS($B$6:B38),"") -> 33 | B38: Bintė | C38: Binti | D38: BE | E38: 1031 | F38: 221 | G38: 1 | H38: 44080 | I38: Skalvijos kino centras
A39: =IF(B39<>"",ROWS($B$6:B39),"") -> 34 | B39: DNR | C39: AND | D39: FR | E39: 1001 | F39: 185 | G39: 6 | H39: 44491 | I39: A-One Films
A40: =IF(B40<>"",ROWS($B$6:B40),"") -> 35 | B40: Gauja | C40: Smecka | D40: CZ, SK, LV | E40: 937 | F40: 215 | G40: 1 | H40: 44330 | I40: Skalvijos kino centras
A41: =IF(B41<>"",ROWS($B$6:B41),"") -> 36 | B41: Miestas prie upės | C41: Pilsēta pie upes | D41: LV | E41: 870.33 | F41: 175 | G41: 8 | H41: 44519 | I41: Artbox
A42: =IF(B42<>"",ROWS($B$6:B42),"") -> 37 | B42: Būsiu su tavim | C42: Būsiu su tavim | D42: LT | E42: 684.77 | F42: 148 | G42: 5 | H42: 44505 | I42: Nepatogus Kinas
A43: =IF(B43<>"",ROWS($B$6:B43),"") -> 38 | B43: Pitbulis | C43: Pitbull | D43: PL | E43: 675.6 | F43: 99 | G43: 1 | H43: 44519 | I43: Kinostar Filmverleih
A44: =IF(B44<>"",ROWS($B$6:B44),"") -> 39 | B44: Lukas | C44: Luca | D44: US | E44: 657.48 | F44: 144 | G44: 2 | H44: 44400 | I44: Theatrical Film Distribution / WDSMPI
A45: =IF(B45<>"",ROWS($B$6:B45),"") -> 40 | B45: Vasara'85 | C45: Été 85 | D45: BE, FR | E45: 600 | F45: 100 | G45: 4 | H45: 44330 | I45: A-One Films
A46: =IF(B46<>"",ROWS($B$6:B46),"") -> 41 | B46: Arčiau debesų | C46: Cloudboy | D46: BG, SE, NL, NO | E46: 530 | F46: 106 | G46: 1 | H46: 42988 | I46: Skalvijos kino centras
A47: =IF(B47<>"",ROWS($B$6:B47),"") -> 42 | B47: Jokūbas, Mimi ir kalbantys šunys | C47: Jekabs, Mimmi un runajosie suni | D47: LV, PL | E47: 470 | F47: 92 | G47: 1 | H47: 44114 | I47: Skalvijos kino centras
A48: =IF(B48<>"",ROWS($B$6:B48),"") -> 43 | B48: Tiktai žvėrys | C48: Seules les bêtes | D48: FR | E48: 452 | F48: 125 | G48: 6 | H48: 44393 | I48: A-One Films
A49: =IF(B49<>"",ROWS($B$6:B49),"") -> 44 | B49: Ypatingieji | C49: The Specials | D49: FR | E49: 395 | F49: 79 | G49: 1 | H49: 43868 | I49: Theatrical Film Distribution
A50: =IF(B50<>"",ROWS($B$6:B50),"") -> 45 | B50: Vaiduoklių žemė | C50: Incident In A Ghost Land | D50: CA, FR | E50: 363 | F50: 73 | G50: 1 | H50: 43182 | I50: Theatrical Film Distribution
A51: =IF(B51<>"",ROWS($B$6:B51),"") -> 46 | B51: Aš niekada neverkiu | C51: Jak Najdalej Stad | D51: PL, IE | E51: 345 | F51: 69 | G51: 1 | H51: 44431 | I51: Skalvijos kino centras
A52: =IF(B52<>"",ROWS($B$6:B52),"") -> 47 | B52: Vertėjai | C52: Les traducteurs | D52: FR | E52: 336.74 | F52: 58 | G52: 2 | H52: 44484 | I52: Estinfilm
A53: =IF(B53<>"",ROWS($B$6:B53),"") -> 48 | B53: Blumų šeimos istorija | C53: Penguin Bloom | D53: US, AU | E53: 335.55 | F53: 75 | G53: 6 | H53: 44491 | I53: Theatrical Film Distribution
A54: =IF(B54<>"",ROWS($B$6:B54),"") -> 49 | B54: Helmut Newton: begėdiškas grožis | C54: Helmut Newton: The Bad and the Beautiful | D54: DE | E54: 251 | F54: 42 | G54: 1 | H54: 44132 | I54: A-One Films
A55: =IF(B55<>"",ROWS($B$6:B55),"") -> 50 | B55: Žavusis žudikas Tedas Bandis | C55: Extremely Wicked, Shockingly Evil, and Vile | D55: US | E55: 242 | F55: 49 | G55: 1 | H55: 43595 | I55: Theatrical Film Distribution
A56: =IF(B56<>"",ROWS($B$6:B56),"") -> 51 | B56: Keliaujantys paukščiai | C56: Les oiseaux de passage | D56: BE, FR | E56: 220 | F56: 78 | G56: 1 | H56: 42301 | I56: Skalvijos kino centras
A57: =IF(B57<>"",ROWS($B$6:B57),"") -> 52 | B57: Tamsta Varlius | C57: Meester Kikker | D57: NL | E57: 216 | F57: 108 | G57: 1 | H57: 42654 | I57: Skalvijos kino centras
A58: =IF(B58<>"",ROWS($B$6:B58),"") -> 53 | B58: Tykantis šešėliuose | C58: He's Out There | D58: US | E58: 121 | F58: 25 | G58: 1 | H58: 43420 | I58: Theatrical Film Distribution
A59: =IF(B59<>"",ROWS($B$6:B59),"") -> 54 | B59: (Ne)Tobulas vyras | C59: I'm Your Man | D59: DE | E59: 120 | F59: 27 | G59: 1 | H59: 44421 | I59: VLG film
A60: =IF(B60<>"",ROWS($B$6:B60),"") -> 55 | B60: Atsargiai, ragana | C60: Zlogonje | D60: MK | E60: 116 | F60: 58 | G60: 1 | H60: 43435 | I60: Skalvijos kino centras
A61: =IF(B61<>"",ROWS($B$6:B61),"") -> 56 | B61: Mūsų namai | C61: Where We Belong | D61: CH | E61: 110 | F61: 22 | G61: 1 | H61: 44350 | I61: Skalvijos kino centras
A62: =IF(B62<>"",ROWS($B$6:B62),"") -> 57 | B62: Mano mama gorila | C62: Apstjärnan | D62: SE, DK, FI | E62: 50 | F62: 13 | G62: 1 | H62: 44493 | I62: Skalvijos kino centras
A63: =IF(B63<>"",ROWS($B$6:B63),"") -> 58 | B63: Spurguliai | C63: Extinct | D63: US, CN | E63: 30 | F63: 6 | G63: 1 | H63: 44372 | I63: VLG film
E64: =SUBTOTAL(109,Table3_Lapkritis[Pajamos]) -> 1201742.9 | F64: =SUBTOTAL(109,Table3_Lapkritis[Žiūrovų skaičius]) -> 202083

Sheet Gruodis
A1: ='2021'!A1 -> 2021
A2: ='2021'!A2 -> Lietuvos kino teatruose rodytų filmų TOP
A3: Gruodis
A5: Eil. Nr. | B5: Filmo pavadinimas | C5: Filmo pavadinimas originalo kalba | D5: Kilmės šalis | E5: Pajamos | F5: Žiūrovų skaičius | G5: Kopijų skaičius | H5: Premjeros data | I5: Platintojas
A6: =IF(B6<>"",ROWS($B$6:B6),"") -> 1 | B6: Žmogus voras: nėra kelio atgal | C6: Spiderman No Way Home | D6: US | E6: 499426.42 | F6: 72038 | G6: 16 | H6: 44547 | I6: ACME Film / SONY
A7: =IF(B7<>"",ROWS($B$6:B7),"") -> 2 | B7: Gucci mados namai | C7: House of Gucci | D7: US | E7: 333944.67 | F7: 48566 | G7: 19 | H7: 44526 | I7: Dukine Film Distribution / Universal Pictures
A8: =IF(B8<>"",ROWS($B$6:B8),"") -> 3 | B8: Matrica. Prisikėlimas | C8: Matrix Resurrecations | D8: US | E8: 132664.02 | F8: 19414 | G8: 18 | H8: 44554 | I8: ACME Film / WB
A9: =IF(B9<>"",ROWS($B$6:B9),"") -> 4 | B9: Dainuok 2 | C9: Sing 2 | D9: US | E9: 119664.86 | F9: 25432 | G9: 19 | H9: 44552 | I9: Dukine Film Distribution / Universal Pictures
A10: =IF(B10<>"",ROWS($B$6:B10),"") -> 5 | B10: Enkanto | C10: Encanto | D10: US | E10: 107048.94 | F10: 21428 | G10: 19 | H10: 44526 | I10: Theatrical Film Distribution / WDSMPI
A11: =IF(B11<>"",ROWS($B$6:B11),"") -> 6 | B11: Eglutės 8 | C11: Ёлки 8 | D11: RU | E11: 52813 | F11: 8336 | G11: 10 | H11: 44547 | I11: Garsų pasaulio įrašai
A12: =IF(B12<>"",ROWS($B$6:B12),"") -> 7 | B12: Aplink pasaulį per 80 dienų | C12: Around The World in 80 days | D12: FR, BE | E12: 40044 | F12: 8433 | G12: 21 | H12: 44540 | I12: VLG film
A13: =IF(B13<>"",ROWS($B$6:B13),"") -> 8 | B13: Vyras už pinigus | C13: Vyras už pinigus | D13: LT | E13: 38916.21 | F13: 5803 | G13: 13 | H13: 44561 | I13: Dublis LT
A14: =IF(B14<>"",ROWS($B$6:B14),"") -> 9 | B14: Absoliutus blogis: Nauja formulė | C14: Resident Evil: Welcome to Raccoon City | D14: US | E14: 32776.18 | F14: 4956 | G14: 15 | H14: 44533 | I14: ACME Film / SONY
A15: =IF(B15<>"",ROWS($B$6:B15),"") -> 10 | B15: Nekenčiu tavęs! | C15: Hating Game | D15: US | E15: 24046.51 | F15: 3758 | G15: 9 | H15: 44533 | I15: ACME Film
A16: =IF(B16<>"",ROWS($B$6:B16),"") -> 11 | B16: Pilotas | C16: Летчик | D16: RU | E16: 18621 | F16: 2831 | G16: 6 | H16: 44540 | I16: Garsų pasaulio įrašai
A17: =IF(B17<>"",ROWS($B$6:B17),"") -> 12 | B17: Vilkas ir liūtas | C17: The Wolf and The Lion | D17: FR | E17: 18414 | F17: 4284 | G17: 12 | H17: 44512 | I17: Garsų pasaulio įrašai
A18: =IF(B18<>"",ROWS($B$6:B18),"") -> 13 | B18: Pilė | C18: Les aventures de pil (Pil's Adventures) | D18: FR | E18: 17958.22 | F18: 3761 | G18: 17 | H18: 44533 | I18: ACME Film
A19: =IF(B19<>"",ROWS($B$6:B19),"") -> 14 | B19: Kalėdos džiunglėse | C19: Christmas in the Jungle | D19: LV | E19: 17515.04 | F19: 3864 | G19: 17 | H19: 44547 | I19: ACME Film
A20: =IF(B20<>"",ROWS($B$6:B20),"") -> 15 | B20: Vaiduoklių medžiotojai: Iš anapus | C20: Ghostbusters Afterlife | D20: US | E20: 15779.28 | F20: 2691 | G20: 8 | H20: 44519 | I20: ACME Film / SONY
A21: =IF(B21<>"",ROWS($B$6:B21),"") -> 16 | B21: Eifelis | C21: Eiffel | D21: FR | E21: 8807.32 | F21: 1578 | G21: 15 | H21: 44533 | I21: VLG film
A22: =IF(B22<>"",ROWS($B$6:B22),"") -> 17 | B22: Vestsaido istorija | C22: West Side Story | D22: US | E22: 7688.54 | F22: 1311 | G22: 17 | H22: 44540 | I22: Theatrical Film Distribution / WDSMPI
A23: =IF(B23<>"",ROWS($B$6:B23),"") -> 18 | B23: Drive My Car | C23: Drive My Car | D23: JP | E23: 7605.08 | F23: 1562 | G23: 8 | H23: 44533 | I23: A-One Films
A24: =IF(B24<>"",ROWS($B$6:B24),"") -> 19 | B24: Prancūzijos kronikos iš Liberčio, Kanzaso vakaro saulės | C24: The French Dispatch of the Liberty, Kansas Evening Sun | D24: US, DE | E24: 7598.29 | F24: 1406 | G24: 9 | H24: 44512 | I24: Theatrical Film Distribution
A25: =IF(B25<>"",ROWS($B$6:B25),"") -> 20 | B25: Šuolis | C25: Šuolis | D25: LT | E25: 7232 | F25: 1778 | G25: 8 | H25: 44456 | I25: Moonmakers
A26: =IF(B26<>"",ROWS($B$6:B26),"") -> 21 | B26: Sinefilija | C26: Sinefilija | D26: LT | E26: 7194 | F26: 1558 | G26: 18 | H26: 44533 | I26: Garsų pasaulio įrašai
A27: =IF(B27<>"",ROWS($B$6:B27),"") -> 22 | B27: Amelija iš Monmartro (2001) | C27: Le Fabuleux destin d'Amélie Poulain (2001) | D27: FR | E27: 6046 | F27: 1098 | G27: 13 | H27: 44547 | I27: Best Film
A28: =IF(B28<>"",ROWS($B$6:B28),"") -> 23 | B28: Amžinieji | C28: Eternals | D28: US | E28: 5159.47 | F28: 774 | G28: 8 | H28: 44505 | I28: Theatrical Film Distribution / WDSMPI
A29: =IF(B29<>"",ROWS($B$6:B29),"") -> 24 | B29: Kaip „Titanikas“ mane išgelbėjo | C29: How the Titanic Became My Lifeboat | D29: IS | E29: 4975.65 | F29: 1172 | G29: 8 | H29: 44512 | I29: Theatrical Film Distribution
A30: =IF(B30<>"",ROWS($B$6:B30),"") -> 25 | B30: Švelnūs kariai | C30: Švelnūs kariai | D30: LT | E30: 4206.8 | F30: 861 | G30: 12 | H30: 44526 | I30: Moonmakers
A31: =IF(B31<>"",ROWS($B$6:B31),"") -> 26 | B31: Mirtis palauks | C31: No Time To Die | D31: UK, US | E31: 3814.14 | F31: 588 | G31: 5 | H31: 44470 | I31: Dukine Film Distribution / Universal Pictures
A32: =IF(B32<>"",ROWS($B$6:B32),"") -> 27 | B32: Bėgikė | C32: Bėgikė | D32: LT | E32: 3701.8 | F32: 680 | G32: 6 | H32: 44519 | I32: M-Films
A33: =IF(B33<>"",ROWS($B$6:B33),"") -> 28 | B33: Eilė 19 | C33: Ряд 19 | D33: RU | E33: 3689 | F33: 554 | G33: 10 | H33: 44526 | I33: Garsų pasaulio įrašai
... A42: =IF(B42<>"",ROWS($B$6:B42),"") -> 37 | B42: Įsimylėjusi Figaro | C42: Falling for Figaro | D42: US, UK | E42: 1761.79 | F42: 324 | G42: 5 | H42: 44554 | I42: Kino pasaka
A43: =IF(B43<>"",ROWS($B$6:B43),"") -> 38 | B43: Aš niekada neverkiu | C43: Jak Najdalej Stad | D43: PL, IE | E43: 1647.5 | F43: 412 | G43: 1 | H43: 44431 | I43: Skalvijos kino centras
A44: =IF(B44<>"",ROWS($B$6:B44),"") -> 39 | B44: Kalėdos Islandijoje | C44: Bergmál | D44: IS | E44: 1499 | F44: 364 | G44: 5 | H44: 44547 | I44: Greta Garbo
A45: =IF(B45<>"",ROWS($B$6:B45),"") -> 40 | B45: Paskutiniai ir pirmieji žmonės | C45: Last and First Men | D45: IS | E45: 1381.06 | F45: 355 | G45: 4 | H45: 44476 | I45: A-One Films
A46: =IF(B46<>"",ROWS($B$6:B46),"") -> 41 | B46: Elniuko Ailo kelionė per Laplandiją | C46: Aïlo: Une odyssée en Laponie | D46: FI, FR | E46: 1074 | F46: 258 | G46: 4 | H46: 43763 | I46: Estinfilms
A47: =IF(B47<>"",ROWS($B$6:B47),"") -> 42 | B47: Tomas ir Džeris | C47: Tom and Jerry | D47: US | E47: 917.49 | F47: 260 | G47: 2 | H47: 44323 | I47: ACME Film / WB
A48: =IF(B48<>"",ROWS($B$6:B48),"") -> 43 | B48: Viešbutis "Grand Budapest" | C48: The Grand Budapest Hotel | D48: US | E48: 864 | F48: 104 | G48: 1 | H48: 41712 | I48: Theatrical Film Distribution / 20th Century Fox
A49: =IF(B49<>"",ROWS($B$6:B49),"") -> 44 | B49: Tamsta Varlius | C49: Meester Kikker | D49: NL | E49: 833 | F49: 236 | G49: 1 | H49: 42654 | I49: Skalvijos kino centras
A50: =IF(B50<>"",ROWS($B$6:B50),"") -> 45 | B50: Ypatingieji | C50: The Specials | D50: FR | E50: 752 | F50: 188 | G50: 2 | H50: 43868 | I50: Theatrical Film Distribution
A51: =IF(B51<>"",ROWS($B$6:B51),"") -> 46 | B51: Dar po vieną | C51: Druk | D51: DK, NL | E51: 742 | F51: 146 | G51: 2 | H51: 44330 | I51: Estinfilm
A52: =IF(B52<>"",ROWS($B$6:B52),"") -> 47 | B52: Gauja | C52: Smecka | D52: CZ, SK, LV | E52: 725.5 | F52: 176 | G52: 1 | H52: 44330 | I52: Skalvijos kino centras
A53: =IF(B53<>"",ROWS($B$6:B53),"") -> 48 | B53: Atsargiai, ragana | C53: Zlogonje | D53: MK | E53: 660 | F53: 133 | G53: 1 | H53: 43435 | I53: Skalvijos kino centras
A54: =IF(B54<>"",ROWS($B$6:B54),"") -> 49 | B54: Dičkis šuo Klifordas | C54: Clifford The Big Red Dog | D54: US, UK, CA | E54: 600 | F54: 120 | G54: 1 | H54: 44568 | I54: Dukine Film Distribution / Paramount Pictures
A55: =IF(B55<>"",ROWS($B$6:B55),"") -> 50 | B55: Didžiapėdžio vaikis 2 | C55: Bigfoot family | D55: BE, FR | E55: 592.5 | F55: 212 | G55: 1 | H55: 44106 | I55: VLG Film
A56: =IF(B56<>"",ROWS($B$6:B56),"") -> 51 | B56: Bintė | C56: Binti | D56: BE | E56: 576 | F56: 110 | G56: 1 | H56: 44080 | I56: Skalvijos kino centras
A57: =IF(B57<>"",ROWS($B$6:B57),"") -> 52 | B57: Sapnų kūrėjai | C57: Dreambuilders | D57: DK | E57: 482.5 | F57: 147 | G57: 1 | H57: 44113 | I57: ACME Film
A58: =IF(B58<>"",ROWS($B$6:B58),"") -> 53 | B58: Bažirao Mastani | C58: Bajirao Mastani | D58: IN | E58: 476.8 | F58: 95 | G58: 1 | H58: 44540 | I58: Eros Fz
A59: =IF(B59<>"",ROWS($B$6:B59),"") -> 54 | B59: Dilili Paryžiuje | C59: Dilili à Paris | D59: FR | E59: 347 | F59: 163 | G59: 2 | H59: 43896 | I59: Estinfilm
A60: =IF(B60<>"",ROWS($B$6:B60),"") -> 55 | B60: Feliksas ir Morgos Lobis | C60: Felix and the Hidden Treasure | D60: CA | E60: 304.58 | F60: 66 | G60: 4 | H60: 44533 | I60: Estinfilm
A61: =IF(B61<>"",ROWS($B$6:B61),"") -> 56 | B61: Mano brolis vaikosi dinozaurus | C61: Mio fratello rincorre i dinosauri | D61: IT, ES | E61: 300 | F61: 250 | G61: 1 | H61: 44531 | I61: Best Film
A62: =IF(B62<>"",ROWS($B$6:B62),"") -> 57 | B62: Krudžiai 2. Naujasis amžius | C62: The Croods: A New Age | D62: US | E62: 275 | F62: 101 | G62: 2 | H62: 44351 | I62: Dukine Film Distribution / Universal Pictures
A63: =IF(B63<>"",ROWS($B$6:B63),"") -> 58 | B63: Mūsų namai | C63: Where We Belong | D63: CH | E63: 250 | F63: 50 | G63: 1 | H63: 44350 | I63: Skalvijos kino centras
A64: =IF(B64<>"",ROWS($B$6:B64),"") -> 59 | B64: Metai prieš karą | C64: Gads pirms kara | D64: LV, CZ, LT | E64: 218 | F64: 78 | G64: 4 | H64: 44547 | I64: Garsų pasaulio įrašai
A65: =IF(B65<>"",ROWS($B$6:B65),"") -> 60 | B65: Ponas kūdikis 2. Šeimos reikalai | C65: The Boss Baby: Family Business | D65: US | E65: 186.43 | F65: 42 | G65: 5 | H65: 44456 | I65: Dukine Film Distribution / Universal Pictures
A66: =IF(B66<>"",ROWS($B$6:B66),"") -> 61 | B66: Ežiukas Sonic | C66: Sonic The Hedgehog | D66: US, JP, CA | E66: 177.5 | F66: 69 | G66: 2 | H66: 44008 | I66: Dukine Film Distribution / Paramount Pictures
A67: =IF(B67<>"",ROWS($B$6:B67),"") -> 62 | B67: Šunyčiai patruliai. Filmas | C67: Paw Patrol: The Movie | D67: US | E67: 165 | F67: 44 | G67: 1 | H67: 44428 | I67: Dukine Film Distribution / Paramount Pictures
A68: =IF(B68<>"",ROWS($B$6:B68),"") -> 63 | B68: Mano mama gorila | C68: Apstjärnan | D68: SE, DK, FI | E68: 160 | F68: 40 | G68: 1 | H68: 44493 | I68: Skalvijos kino centras
A69: =IF(B69<>"",ROWS($B$6:B69),"") -> 64 | B69: Titane | C69: Titane | D69: FR | E69: 122 | F69: 34 | G69: 1 | H69: 44484 | I69: A-One Films
A70: =IF(B70<>"",ROWS($B$6:B70),"") -> 65 | B70: Arčiau debesų | C70: Cloudboy | D70: BG, SE, NL, NO | E70: 115 | F70: 23 | G70: 1 | H70: 42988 | I70: Skalvijos kino centras
A71: =IF(B71<>"",ROWS($B$6:B71),"") -> 66 | B71: Troliai 2 | C71: Trolls World Tour | D71: US | E71: 90 | F71: 36 | G71: 2 | H71: 44078 | I71: Dukine Film Distribution / Universal Pictures
A72: =IF(B72<>"",ROWS($B$6:B72),"") -> 67 | B72: Bohemijos rapsodija | C72: Bohemian Rhapsody | D72: US, UK | E72: 78 | F72: 13 | G72: 1 | H72: 43406 | I72: Theatrical Film Distribution / 20th Century Fox
A73: =IF(B73<>"",ROWS($B$6:B73),"") -> 68 | B73: Benedeta | C73: Benedetta | D73: FR | E73: 67.5 | F73: 19 | G73: 1 | H73: 44512 | I73: Best Film
A74: =IF(B74<>"",ROWS($B$6:B74),"") -> 69 | B74: Būsiu su tavim | C74: Būsiu su tavim | D74: LT | E74: 63 | F74: 19 | G74: 2 | H74: 44505 | I74: Nepatogus Kinas
A75: =IF(B75<>"",ROWS($B$6:B75),"") -> 70 | B75: Tarp pilkų debesų | C75: Tarp pilkų debesų | D75: LT | E75: 55 | F75: 18 | G75: 1 | H75: 43385 | I75: ACME Film
A76: =IF(B76<>"",ROWS($B$6:B76),"") -> 71 | B76: Spurguliai | C76: Extinct | D76: US, CN | E76: 50 | F76: 20 | G76: 1 | H76: 44372 | I76: VLG film
A77: =IF(B77<>"",ROWS($B$6:B77),"") -> 72 | B77: Kibirkščiuojantis Luiso Veino gyvenimas | C77: The Eletrical Life of Louis Wain | D77: UK | E77: 41.5 | F77: 21 | G77: 1 | H77: 44491 | I77: VLG film
A78: =IF(B78<>"",ROWS($B$6:B78),"") -> 73 | B78: Paralelinės mamos | C78: Parallel Mothers | D78: ES | E78: 37.19 | F78: 7 | G78: 1 | H78: 44477 | I78: VLG film
A79: =IF(B79<>"",ROWS($B$6:B79),"") -> 74 | B79: Mano mielas monstras | C79: My Sweet Monster | D79: RU | E79: 26.33 | F79: 6 | G79: 1 | H79: 44505 | I79: ACME Film
A80: =IF(B80<>"",ROWS($B$6:B80),"") -> 75 | B80: Miestas prie upės | C80: Pilsēta pie upes | D80: LV | E80: 3.5 | F80: 1 | G80: 1 | H80: 44519 | I80: Artbox
E81: =SUBTOTAL(109,Table3_Gruodis[Pajamos]) -> 1589261.2 | F81: =SUBTOTAL(109,Table3_Gruodis[Žiūrovų skaičius]) -> 259687
