Workbook

Sheet Suvestinė
B1: 2021
B2: Rodiklis | C2: Reikšmė
B3: Premjerų skaičius | C3: 188
B4: Lietuviškų filmų premjerų skaičius | C4: 11
B5: Bendras filmų skaičius | C5: 250
B6: Bendros pajamos | C6: 7754384.5
B7: Bendras žiūrovų skaičius | C7: 1337598
B9: Filmų dalis rinkoje, %
B10: Kategorija | C10: Pajamos | D10: Žiūrovų skaičius | E10: Pajamos % | F10: Žiūrovų skaičius % | G10: Filmų skaičius
B11: Lietuva | C11: 489946.82 | D11: 82337 | E11: 6.318 | F11: 6.156 | G11: 13
B12: Europa | C12: 1206501.7 | D12: 219342 | E12: 15.559 | F12: 16.398 | G12: 124
B13: JAV | C13: 5999741.4 | D13: 1025581 | E13: 77.372 | F13: 76.673 | G13: 103
B14: Kita | C14: 58194.67 | D14: 10338 | E14: 0.75 | F14: 0.773 | G14: 10
B15: Total | C15: =SUBTOTAL(109,Table1[Pajamos]) -> 7754384.5 | D15: =SUBTOTAL(109,Table1[Žiūrovų skaičius]) -> 1337598 | E15: =SUBTOTAL(109,Table1[Pajamos %]) -> 99.999 | F15: =SUBTOTAL(109,Table1[Žiūrovų skaičius %]) -> 100 | G15: =SUBTOTAL(109,Table1[Filmų skaičius]) -> 250
B46: Pasiskirstymas pagal platintojus
A47: Eil. nr | B47: Platintojas | C47: Pajamos | D47: Žiūrovų skaičius | E47: Filmų skaičius | F47: Pajamos % | G47: Žiūrovų skaičius %
A48: =IF(B48<>"",ROWS($B$48:B48),"") -> 1 | B48: Dukine Film Distribution / Universal Pictures International | C48: 2056633.3 | D48: 350696 | E48: 15 | F48: 26.522 | G48: 26.218
A49: =IF(B49<>"",ROWS($B$48:B49),"") -> 2 | B49: Theatrical Film Distribution / WDSMPI | C49: 1311324.8 | D49: 238101 | E49: 19 | F49: 16.911 | G49: 17.801
A50: =IF(B50<>"",ROWS($B$48:B50),"") -> 3 | B50: ACME Film / SONY | C50: 1191588.6 | D50: 180247 | E50: 9 | F50: 15.367 | G50: 13.475
A51: =IF(B51<>"",ROWS($B$48:B51),"") -> 4 | B51: ACME Film / WB | C51: 1129575.9 | D51: 184354 | E51: 13 | F51: 14.567 | G51: 13.782
A52: =IF(B52<>"",ROWS($B$48:B52),"") -> 5 | B52: Garsų pasaulio įrašai | C52: 338758 | D52: 59687 | E52: 18 | F52: 4.369 | G52: 4.462
A53: =IF(B53<>"",ROWS($B$48:B53),"") -> 6 | B53: ACME Film | C53: 334924.14 | D53: 64839 | E53: 28 | F53: 4.319 | G53: 4.847
A54: =IF(B54<>"",ROWS($B$48:B54),"") -> 7 | B54: Dukine Film Distribution / Paramount Pictures | C54: 287886.26 | D54: 55968 | E54: 5 | F54: 3.713 | G54: 4.184
A55: =IF(B55<>"",ROWS($B$48:B55),"") -> 8 | B55: VLG Film | C55: 248162.57 | D55: 49194 | E55: 24 | F55: 3.2 | G55: 3.678
A56: =IF(B56<>"",ROWS($B$48:B56),"") -> 9 | B56: Stambus planas | C56: 181409.14 | D56: 28724 | E56: 1 | F56: 2.339 | G56: 2.147
A57: =IF(B57<>"",ROWS($B$48:B57),"") -> 10 | B57: Moonmakers | C57: 148871.61 | D57: 26416 | E57: 2 | F57: 1.92 | G57: 1.975
A58: =IF(B58<>"",ROWS($B$48:B58),"") -> 11 | B58: Best Film | C58: 89158.53 | D58: 17163 | E58: 15 | F58: 1.15 | G58: 1.283
A59: =IF(B59<>"",ROWS($B$48:B59),"") -> 12 | B59: Theatrical Film Distribution | C59: 69358.89 | D59: 12879 | E59: 15 | F59: 0.894 | G59: 0.963
... A80: =IF(B80<>"",ROWS($B$48:B80),"") -> 33 | B80: Kino aljansas | C80: 428.5 | D80: 85 | E80: 3 | F80: 0.006 | G80: 0.006
A81: Total | C81: =SUBTOTAL(109,Table18[Pajamos]) -> 7754384.5 | D81: =SUBTOTAL(109,Table18[Žiūrovų skaičius]) -> 1337598 | E81: =SUBTOTAL(109,Table18[Filmų skaičius]) -> 250 | F81: =SUBTOTAL(109,Table18[Pajamos %]) -> 100 | G81: =SUBTOTAL(109,Table18[Žiūrovų skaičius %]) -> 99.996
A84: LT TOP
A85: Eil. Nr. | B85: Filmo pavadinimas | C85: Pajamos | D85: Žiūrovų skaičius | E85: Premjeros data | F85: Platintojas
A86: 1 | B86: Naktinė žvejyba | C86: 181409.14 | D86: 28724 | E86: 44407 | F86: Stambus planas
A87: 2 | B87: Šuolis | C87: 144664.81 | D87: 25555 | E87: 44456 | F87: Moonmakers
A88: 3 | B88: Izaokas | C88: 43144.28 | D88: 7836 | E88: 44421 | F88: Film Jam
A89: 4 | B89: Vyras už pinigus | C89: 38916.21 | D89: 5803 | E89: 44561 | F89: Dublis LT
A90: 5 | B90: Operacija "O2" | C90: 37457.95 | D90: 5995 | E90: 44491 | F90: Theatrical Film Distribution
A91: 6 | B91: Bėgikė | C91: 27731.62 | D91: 4913 | E91: 44519 | F91: M-Films
A92: 7 | B92: Sinefilija | C92: 7194 | D92: 1558 | E92: 44533 | F92: Garsų pasaulio įrašai
A93: 8 | B93: Švelnūs kariai | C93: 4206.8 | D93: 861 | E93: 44526 | F93: Moonmakers
...

Sheet Platintojų pasiskirstymas
A1: Platintojas | B1: Filmo pavadinimas | C1: Pajamos | D1: Žiūrovų skaičius | E1: Premjeros data
A2: Dukine Film Distribution / Universal Pictures International | B2: Gucci mados namai (House of Gucci) | C2: 524254.11 | D2: 74919 | E2: 44526
B3: Mirtis palauks (No Time To Die) | C3: 414625.81 | D3: 61490 | E3: 44470
B4: Adamsų šeimynėlė 2 (The Addams Family 2) | C4: 257178.2 | D4: 51141 | E4: 44477
B5: Ponas kūdikis 2. Šeimos reikalai (The Boss Baby: Family Business) | C5: 240820.08 | D5: 49145 | E5: 44456
B6: Greiti ir įsiutę 9 (Fast and Furious 9) | C6: 216992.94 | D6: 34411 | E6: 44372
B7: Dainuok 2 (Sing 2) | C7: 119664.86 | D7: 25432 | E7: 44552
B8: Krudžiai 2. Naujasis amžius (The Croods: A New Age) | C8: 83153.58 | D8: 18544 | E8: 44351
B9: Helovinas žudo (Halloween Kills) | C9: 55795.43 | D9: 8723 | E9: 44491
B10: Nepažabojama dvasia (Spirit Untamed) | C10: 49587.3 | D10: 10927 | E10: 44379
B11: Senatvė (Old) | C11: 31104.83 | D11: 5159 | E11: 44400
B12: Išvalymas amžiams (Forever Purge) | C12: 29701.11 | D12: 4903 | E12: 44379
B13: Bitininkas (Candyman) | C13: 17601.46 | D13: 3129 | E13: 44435
B14: Mainai su žudiku (Freaky) | C14: 9901.9 | D14: 1759 | E14: 44316
... B16: Troliai 2 (Trolls World Tour) | C16: 90 | D16: 36 | E16: 44078
A17: Dukine Film Distribution / Universal Pictures International Total | B17: =COUNTA(B2:B16) -> 15 | C17: 2056633.3 | D17: 350696
A18: Theatrical Film Distribution / WDSMPI | B18: Lukas (Luca) | C18: 229363.01 | D18: 49445 | E18: 44400
B19: Amžinieji (Eternals) | C19: 170537.72 | D19: 24530 | E19: 44505
B20: Enkanto (Encanto) | C20: 159751.64 | D20: 31903 | E20: 44526
B21: Laisvasis Gajus (Free Guy) | C21: 158217.67 | D21: 25656 | E21: 44421
B22: Nepataisomas Ronas (Ron's Gone Wrong) | C22: 97754.26 | D22: 20380 | E22: 44498
B23: Juodoji našlė (Black Widow) | C23: 88992.05 | D23: 13940 | E23: 44386
B24: Šang-Či ir dešimties žiedų legenda (Shang-Chi and the Legend of the Ten Rings) | C24: 86669.78 | D24: 13578 | E24: 44442
B25: Rėja ir paskutinysis drakonas (Raya and the Last Dragon) | C25: 55114 | D25: 11921 | E25: 44337
B26: Siela (Soul) | C26: 45878.69 | D26: 9570 | E26: 44316
B27: Džiunglių kruizas (Jungle Cruise) | C27: 44786.66 | D27: 8057 | E27: 44407
B28: Prancūzijos kronikos iš Liberčio, Kanzaso vakaro saulės (The French Dispatch of the Liberty, Kansas Evening Sun) | C28: 43929.98 | D28: 7358 | E28: 44512
B29: Nepasotinamas alkis (Antlers) | C29: 37723.03 | D29: 5931 | E29: 44498
B30: Paskutinė dvikova (The Last Duel) | C30: 30364.85 | D30: 4888 | E30: 44484
... B36: Liūtas karalius (The Lion King) | C36: 248.5 | D36: 130 | E36: 43665
A37: Theatrical Film Distribution / WDSMPI Total | B37: =COUNTA(B18:B36) -> 19 | C37: 1311324.8 | D37: 238101
A38: ACME Film / SONY | B38: Žmogus voras: nėra kelio atgal (Spiderman No Way Home) | C38: 499426.42 | D38: 72038 | E38: 44547
B39: Venomas 2 (Venom Let There Be Carnage) | C39: 341881.88 | D39: 49643 | E39: 44484
B40: Pabėgimo kambarys 2: Išėjimo nėra (Escape Room 2) | C40: 90615.95 | D40: 14520 | E40: 44393
B41: Vaiduoklių medžiotojai: Iš anapus (Ghostbusters Afterlife ) | C41: 77304.14 | D41: 12006 | E41: 44519
B42: Triušis Piteris2: Pabėgimas (Peter Rabbit 2) | C42: 68109.7 | D42: 14892 | E42: 44358
B43: Nešventa (Unholy) | C43: 50332.88 | D43: 7319 | E43: 44323
B44: Absoliutus blogis: Nauja formulė (Resident Evil: Welcome to Raccoon City) | C44: 32776.18 | D44: 4956 | E44: 44533
B45: Mirties namai 2 (Dont Breathe 2) | C45: 30819.49 | D45: 4701 | E45: 44421
B46: Piktieji paukščiai. Filmas 2 (The Angry Birds Movie 2) | C46: 322 | D46: 172 | E46: 43700
...

Sheet 2021
A1: 2021
A2: Lietuvos kino teatruose rodytų filmų TOP
A5: Eil. Nr. | B5: Filmo pavadinimas | C5: Filmo pavadinimas originalo kalba | D5: Kilmės šalis | E5: Pajamos | F5: Žiūrovų skaičius | G5: Kopijų skaičius | H5: Premjeros data | I5: Platintojas
A6: =IF(B6<>"",ROWS($B$6:B6),"") -> 1 | B6: Gucci mados namai | C6: House of Gucci | D6: US | E6: 524254.11 | F6: 74919 | G6: 17 | H6: 44526 | I6: Dukine Film Distribution / Universal Pictures
A7: =IF(B7<>"",ROWS($B$6:B7),"") -> 2 | B7: Žmogus voras: nėra kelio atgal | C7: Spiderman No Way Home | D7: US | E7: 499426.42 | F7: 72038 | G7: 16 | H7: 44547 | I7: ACME Film / SONY
A8: =IF(B8<>"",ROWS($B$6:B8),"") -> 3 | B8: Kopa | C8: Dune | D8: US | E8: 450297.24 | F8: 67438 | G8: 17 | H8: 44456 | I8: ACME Film / WB
A9: =IF(B9<>"",ROWS($B$6:B9),"") -> 4 | B9: Mirtis palauks | C9: No Time To Die | D9: UK, US | E9: 414625.81 | F9: 61490 | G9: 18 | H9: 44470 | I9: Dukine Film Distribution / Universal Pictures
A10: =IF(B10<>"",ROWS($B$6:B10),"") -> 5 | B10: Venomas 2 | C10: Venom Let There Be Carnage | D10: US | E10: 341881.88 | F10: 49643 | G10: 15 | H10: 44484 | I10: ACME Film / SONY
A11: =IF(B11<>"",ROWS($B$6:B11),"") -> 6 | B11: Adamsų šeimynėlė 2 | C11: The Addams Family 2 | D11: US | E11: 257178.2 | F11: 51141 | G11: 20 | H11: 44477 | I11: Dukine Film Distribution / Universal Pictures
A12: =IF(B12<>"",ROWS($B$6:B12),"") -> 7 | B12: Ponas kūdikis 2. Šeimos reikalai | C12: The Boss Baby: Family Business | D12: US | E12: 240820.08 | F12: 49145 | G12: 20 | H12: 44456 | I12: Dukine Film Distribution / Universal Pictures
A13: =IF(B13<>"",ROWS($B$6:B13),"") -> 8 | B13: Lukas | C13: Luca | D13: US | E13: 229363.01 | F13: 49445 | G13: 19 | H13: 44400 | I13: Theatrical Film Distribution / WDSMPI
A14: =IF(B14<>"",ROWS($B$6:B14),"") -> 9 | B14: Greiti ir įsiutę 9 | C14: Fast and Furious 9 | D14: US | E14: 216992.94 | F14: 34411 | G14: 14 | H14: 44372 | I14: Dukine Film Distribution / Universal Pictures
A15: =IF(B15<>"",ROWS($B$6:B15),"") -> 10 | B15: Naktinė žvejyba | C15: Naktinė žvejyba | D15: LT | E15: 181409.14 | F15: 28724 | G15: 18 | H15: 44407 | I15: Stambus planas
A16: =IF(B16<>"",ROWS($B$6:B16),"") -> 11 | B16: Šunyčiai patruliai. Filmas | C16: Paw Patrol: The Movie | D16: US | E16: 173075.68 | F16: 37301 | G16: 17 | H16: 44428 | I16: Dukine Film Distribution / Paramount Pictures
A17: =IF(B17<>"",ROWS($B$6:B17),"") -> 12 | B17: Amžinieji | C17: Eternals | D17: US | E17: 170537.72 | F17: 24530 | G17: 15 | H17: 44505 | I17: Theatrical Film Distribution / WDSMPI
A18: =IF(B18<>"",ROWS($B$6:B18),"") -> 13 | B18: Enkanto | C18: Encanto | D18: US | E18: 159751.64 | F18: 31903 | G18: 19 | H18: 44526 | I18: Theatrical Film Distribution / WDSMPI
A19: =IF(B19<>"",ROWS($B$6:B19),"") -> 14 | B19: Kosminis krepšinis: Nauja era | C19: Space jam 2 (Space Jam: A New Legacy) | D19: US | E19: 158264.73 | F19: 32749 | G19: 15 | H19: 44393 | I19: ACME Film / WB
A20: =IF(B20<>"",ROWS($B$6:B20),"") -> 15 | B20: Laisvasis Gajus | C20: Free Guy | D20: US | E20: 158217.67 | F20: 25656 | G20: 15 | H20: 44421 | I20: Theatrical Film Distribution / WDSMPI
A21: =IF(B21<>"",ROWS($B$6:B21),"") -> 16 | B21: Šuolis | C21: Šuolis | D21: LT | E21: 144664.81 | F21: 25555 | G21: 20 | H21: 44456 | I21: Moonmakers
A22: =IF(B22<>"",ROWS($B$6:B22),"") -> 17 | B22: Matrica. Prisikėlimas | C22: Matrix Resurrecations | D22: US | E22: 132664.02 | F22: 19414 | G22: 18 | H22: 44554 | I22: ACME Film / WB
A23: =IF(B23<>"",ROWS($B$6:B23),"") -> 18 | B23: Dainuok 2 | C23: Sing 2 | D23: US | E23: 119664.86 | F23: 25432 | G23: 19 | H23: 44552 | I23: Dukine Film Distribution / Universal Pictures
A24: =IF(B24<>"",ROWS($B$6:B24),"") -> 19 | B24: Išvarymas 3: Velnias privertė mane tai padaryti | C24: Conjuring 3 | D24: US | E24: 110210.49 | F24: 17595 | G24: 14 | H24: 44351 | I24: ACME Film / WB
A25: =IF(B25<>"",ROWS($B$6:B25),"") -> 20 | B25: Tylos zona 2 | C25: A Quiet Place 2 | D25: US | E25: 107969.61 | F25: 17269 | G25: 15 | H25: 44344 | I25: Dukine Film Distribution / Paramount Pictures
A26: =IF(B26<>"",ROWS($B$6:B26),"") -> 21 | B26: Nepataisomas Ronas | C26: Ron's Gone Wrong | D26: US | E26: 97754.26 | F26: 20380 | G26: 17 | H26: 44498 | I26: Theatrical Film Distribution / WDSMPI
A27: =IF(B27<>"",ROWS($B$6:B27),"") -> 22 | B27: Savižudžių būrys. Mobilizacija | C27: Suicide Squad 2 | D27: US | E27: 92604.29 | F27: 14214 | G27: 15 | H27: 44414 | I27: ACME Film / WB
A28: =IF(B28<>"",ROWS($B$6:B28),"") -> 23 | B28: Pabėgimo kambarys 2: Išėjimo nėra | C28: Escape Room 2 | D28: US | E28: 90615.95 | F28: 14520 | G28: 14 | H28: 44393 | I28: ACME Film / SONY
A29: =IF(B29<>"",ROWS($B$6:B29),"") -> 24 | B29: After. Kai mes pasiklydom | C29: After We Fell | D29: US | E29: 89129 | F29: 14255 | G29: 16 | H29: 44449 | I29: Garsų pasaulio įrašai
A30: =IF(B30<>"",ROWS($B$6:B30),"") -> 25 | B30: Juodoji našlė | C30: Black Widow | D30: US | E30: 88992.05 | F30: 13940 | G30: 18 | H30: 44386 | I30: Theatrical Film Distribution / WDSMPI
A31: =IF(B31<>"",ROWS($B$6:B31),"") -> 26 | B31: Šang-Či ir dešimties žiedų legenda | C31: Shang-Chi and the Legend of the Ten Rings | D31: US | E31: 86669.78 | F31: 13578 | G31: 15 | H31: 44442 | I31: Theatrical Film Distribution / WDSMPI
A32: =IF(B32<>"",ROWS($B$6:B32),"") -> 27 | B32: Krudžiai 2. Naujasis amžius | C32: The Croods: A New Age | D32: US | E32: 83153.58 | F32: 18544 | G32: 17 | H32: 44351 | I32: Dukine Film Distribution / Universal Pictures
A33: =IF(B33<>"",ROWS($B$6:B33),"") -> 28 | B33: Vilkas ir liūtas | C33: The Wolf and The Lion | D33: FR | E33: 80544 | F33: 16508 | G33: 19 | H33: 44512 | I33: Garsų pasaulio įrašai
A34: =IF(B34<>"",ROWS($B$6:B34),"") -> 29 | B34: Vaiduoklių medžiotojai: Iš anapus | C34: Ghostbusters Afterlife | D34: US | E34: 77304.14 | F34: 12006 | G34: 15 | H34: 44519 | I34: ACME Film / SONY
A35: =IF(B35<>"",ROWS($B$6:B35),"") -> 30 | B35: Triušis Piteris2: Pabėgimas | C35: Peter Rabbit 2 | D35: US, AU | E35: 68109.7 | F35: 14892 | G35: 17 | H35: 44358 | I35: ACME Film / SONY
A36: =IF(B36<>"",ROWS($B$6:B36),"") -> 31 | B36: Helovinas žudo | C36: Halloween Kills | D36: US | E36: 55795.43 | F36: 8723 | G36: 15 | H36: 44491 | I36: Dukine Film Distribution / Universal Pictures
A37: =IF(B37<>"",ROWS($B$6:B37),"") -> 32 | B37: Rėja ir paskutinysis drakonas | C37: Raya and the Last Dragon | D37: US | E37: 55114 | F37: 11921 | G37: 17 | H37: 44337 | I37: Theatrical Film Distribution / WDSMPI
A38: =IF(B38<>"",ROWS($B$6:B38),"") -> 33 | B38: Tomas ir Džeris | C38: Tom and Jerry | D38: US | E38: 54404.68 | F38: 11322 | G38: 14 | H38: 44323 | I38: ACME Film / WB
A39: =IF(B39<>"",ROWS($B$6:B39),"") -> 34 | B39: Eglutės 8 | C39: Ёлки 8 | D39: RU | E39: 52813 | F39: 8336 | G39: 10 | H39: 44547 | I39: Garsų pasaulio įrašai
A40: =IF(B40<>"",ROWS($B$6:B40),"") -> 35 | B40: Vyriškas įniršis | C40: Wrath of Man (Cash Truck) | D40: US | E40: 51665.74 | F40: 8130 | G40: 15 | H40: 44330 | I40: ACME Film
A41: =IF(B41<>"",ROWS($B$6:B41),"") -> 36 | B41: Nešventa | C41: Unholy | D41: US | E41: 50332.88 | F41: 7319 | G41: 11 | H41: 44323 | I41: ACME Film / SONY
A42: =IF(B42<>"",ROWS($B$6:B42),"") -> 37 | B42: Nepažabojama dvasia | C42: Spirit Untamed | D42: US | E42: 49587.3 | F42: 10927 | G42: 17 | H42: 44379 | I42: Dukine Film Distribution / Universal Pictures
...

Sheet Balandis
A1: ='2021'!A1 -> 2021
A2: ='2021'!A2 -> Lietuvos kino teatruose rodytų filmų TOP
A3: Balandis
A5: Eil. Nr. | B5: Filmo pavadinimas | C5: Filmo pavadinimas originalo kalba | D5: Kilmės šalis | E5: Pajamos | F5: Žiūrovų skaičius | G5: Kopijų skaičius | H5: Premjeros data | I5: Platintojas
A6: =IF(B6<>"",ROWS($B$6:B6),"") -> 1 | B6: Mortal Kombat | C6: Mortal Kombat | D6: US | E6: 11730.84 | F6: 2320 | G6: 6 | H6: 44316 | I6: ACME Film / WB
A7: =IF(B7<>"",ROWS($B$6:B7),"") -> 2 | B7: Siela | C7: Soul | D7: US | E7: 5967.66 | F7: 1530 | G7: 13 | H7: 44316 | I7: Theatrical Film Distribution / WDSMPI
A8: =IF(B8<>"",ROWS($B$6:B8),"") -> 3 | B8: Mainai su žudiku | C8: Freaky | D8: US | E8: 3503.65 | F8: 722 | G8: 11 | H8: 44316 | I8: Dukine Film Distribution / Universal Pictures International
A9: =IF(B9<>"",ROWS($B$6:B9),"") -> 4 | B9: Perspektyvi mergina | C9: Promising Young Woman | D9: UK | E9: 2180.7 | F9: 642 | G9: 7 | H9: 44316 | I9: VLG film
A10: =IF(B10<>"",ROWS($B$6:B10),"") -> 5 | B10: Tėvas | C10: The Father | D10: UK, FR | E10: 2150.05 | F10: 615 | G10: 8 | H10: 44316 | I10: Best Film
A11: =IF(B11<>"",ROWS($B$6:B11),"") -> 6 | B11: Nuostabioji moteris 1984 | C11: Wonder Woman 84 | D11: US | E11: 1749.2 | F11: 418 | G11: 6 | H11: 44316 | I11: ACME Film / WB
A12: =IF(B12<>"",ROWS($B$6:B12),"") -> 7 | B12: Išvalyti atmintį | C12: Effacer L'historique | D12: FR | E12: 869 | F12: 181 | G12: 5 | H12: 44316 | I12: A-One Films
A13: =IF(B13<>"",ROWS($B$6:B13),"") -> 8 | B13: Ugnis | C13: Огонь | D13: RU | E13: 585 | F13: 196 | G13: 5 | H13: 44316 | I13: Garsų pasaulio įrašai
A14: =IF(B14<>"",ROWS($B$6:B14),"") -> 9 | B14: Kalakutas, vynas ir merginos | C14: Dinner With Friends | D14: US | E14: 229.8 | F14: 41 | G14: 2 | H14: 44141 | I14: Theatrical Film Distribution
A15: =IF(B15<>"",ROWS($B$6:B15),"") -> 10 | B15: Sapnų kūrėjai | C15: Dreambuilders | D15: DK | E15: 179.15 | F15: 54 | G15: 2 | H15: 44113 | I15: ACME Film
A16: =IF(B16<>"",ROWS($B$6:B16),"") -> 11 | B16: Kolos praraja. Požemių balsai | C16: Кольская сверхглубокая | D16: RU | E16: 155 | F16: 26 | G16: 1 | H16: 44141 | I16: VLG Film
A17: =IF(B17<>"",ROWS($B$6:B17),"") -> 12 | B17: Didžiapėdžio vaikis 2 | C17: Bigfoot family | D17: BE, FR | E17: 83.75 | F17: 17 | G17: 1 | H17: 44106 | I17: VLG Film
A18: =IF(B18<>"",ROWS($B$6:B18),"") -> 13 | B18: Drakono raitelis | C18: Dragon Rider | D18: DE | E18: 48 | F18: 20 | G18: 1 | H18: 44127 | I18: Garsų pasaulio įrašai
E19: =SUBTOTAL(109,Table3_Balandis[Pajamos]) -> 29431.8 | F19: =SUBTOTAL(109,Table3_Balandis[Žiūrovų skaičius]) -> 6782

Sheet Gegužė
A1: ='2021'!A1 -> 2021
A2: ='2021'!A2 -> Lietuvos kino teatruose rodytų filmų TOP
A3: Gegužė
A5: Eil. Nr. | B5: Filmo pavadinimas | C5: Filmo pavadinimas originalo kalba | D5: Kilmės šalis | E5: Pajamos | F5: Žiūrovų skaičius | G5: Kopijų skaičius | H5: Premjeros data | I5: Platintojas
A6: =IF(B6<>"",ROWS($B$6:B6),"") -> 1 | B6: Nešventa | C6: Unholy | D6: US | E6: 49584.38 | F6: 7198 | G6: 11 | H6: 44323 | I6: ACME Film / SONY
A7: =IF(B7<>"",ROWS($B$6:B7),"") -> 2 | B7: Tomas ir Džeris | C7: Tom and Jerry | D7: US | E7: 48582.17 | F7: 9999 | G7: 14 | H7: 44323 | I7: ACME Film / WB
A8: =IF(B8<>"",ROWS($B$6:B8),"") -> 3 | B8: Vyriškas įniršis | C8: Wrath of Man (Cash Truck) | D8: US | E8: 44066.67 | F8: 6877 | G8: 15 | H8: 44330 | I8: ACME Film
A9: =IF(B9<>"",ROWS($B$6:B9),"") -> 4 | B9: Tylos zona 2 | C9: A Quiet Place 2 | D9: US | E9: 37119.64 | F9: 5398 | G9: 15 | H9: 44344 | I9: Dukine Film Distribution / Paramount Pictures
A10: =IF(B10<>"",ROWS($B$6:B10),"") -> 5 | B10: Siela | C10: Soul | D10: US | E10: 35880.31 | F10: 7139 | G10: 17 | H10: 44316 | I10: Theatrical Film Distribution / WDSMPI
A11: =IF(B11<>"",ROWS($B$6:B11),"") -> 6 | B11: Rėja ir paskutinysis drakonas | C11: Raya and the Last Dragon | D11: US | E11: 33335.04 | F11: 6958 | G11: 17 | H11: 44337 | I11: Theatrical Film Distribution / WDSMPI
A12: =IF(B12<>"",ROWS($B$6:B12),"") -> 7 | B12: Tėvas | C12: The Father | D12: UK, FR | E12: 24837.87 | F12: 4132 | G12: 15 | H12: 44316 | I12: Best Film
A13: =IF(B13<>"",ROWS($B$6:B13),"") -> 8 | B13: Godzila prieš Kongą | C13: Godzilla vs Kong | D13: US | E13: 24397.43 | F13: 4048 | G13: 12 | H13: 44323 | I13: ACME Film / WB
A14: =IF(B14<>"",ROWS($B$6:B14),"") -> 9 | B14: Klajoklių žemė | C14: Nomadland | D14: US | E14: 21601.15 | F14: 3773 | G14: 16 | H14: 44323 | I14: Theatrical Film Distribution / WDSMPI
A15: =IF(B15<>"",ROWS($B$6:B15),"") -> 10 | B15: Perspektyvi mergina | C15: Promising Young Woman | D15: UK | E15: 19707.12 | F15: 3293 | G15: 14 | H15: 44316 | I15: VLG film
A16: =IF(B16<>"",ROWS($B$6:B16),"") -> 11 | B16: Mortal Kombat | C16: Mortal Kombat | D16: US | E16: 19546.24 | F16: 2920 | G16: 11 | H16: 44316 | I16: ACME Film / WB
A17: =IF(B17<>"",ROWS($B$6:B17),"") -> 12 | B17: Černobylis. Bedugnė | C17: Чернобыль | D17: RU | E17: 14548.3 | F17: 2315 | G17: 11 | H17: 44323 | I17: Theatrical Film Distribution
... A30: =IF(B30<>"",ROWS($B$6:B30),"") -> 25 | B30: Kurjeris | C30: The Courier | D30: US, UK | E30: 4276.38 | F30: 703 | G30: 13 | H30: 44344 | I30: ACME Film
A31: =IF(B31<>"",ROWS($B$6:B31),"") -> 26 | B31: Didžiapėdžio vaikis 2 | C31: Bigfoot family | D31: BE, FR | E31: 4158 | F31: 809 | G31: 4 | H31: 44106 | I31: VLG Film
A32: =IF(B32<>"",ROWS($B$6:B32),"") -> 27 | B32: Undinė | C32: Undine | D32: DE | E32: 4028 | F32: 809 | G32: 6 | H32: 44323 | I32: A-One Films
A33: =IF(B33<>"",ROWS($B$6:B33),"") -> 28 | B33: Nuostabioji moteris 1984 | C33: Wonder Woman 84 | D33: US | E33: 3579.5 | F33: 598 | G33: 10 | H33: 44316 | I33: ACME Film / WB
A34: =IF(B34<>"",ROWS($B$6:B34),"") -> 29 | B34: Dar po vieną | C34: Druk | D34: DK, NL | E34: 3332 | F34: 650 | G34: 2 | H34: 44330 | I34: Estinfilm
A35: =IF(B35<>"",ROWS($B$6:B35),"") -> 30 | B35: Vasara'85 | C35: Été 85 | D35: BE, FR | E35: 2263.12 | F35: 460 | G35: 4 | H35: 44330 | I35: A-One Films
A36: =IF(B36<>"",ROWS($B$6:B36),"") -> 31 | B36: Sapnų kūrėjai | C36: Dreambuilders | D36: DK | E36: 2220.95 | F36: 429 | G36: 3 | H36: 44113 | I36: ACME Film
A37: =IF(B37<>"",ROWS($B$6:B37),"") -> 32 | B37: Žmonės, kuriuos pažįstam | C37: Žmonės, kuriuos pažįstam | D37: LT | E37: 2094.67 | F37: 396 | G37: 11 | H37: 44344 | I37: Just a Moment
A38: =IF(B38<>"",ROWS($B$6:B38),"") -> 33 | B38: Blogos pasakos | C38: Bad Tales | D38: IT, CH | E38: 2031 | F38: 423 | G38: 6 | H38: 44344 | I38: A-One Films
A39: =IF(B39<>"",ROWS($B$6:B39),"") -> 34 | B39: Meinstrymas | C39: Mainstream | D39: US | E39: 1829 | F39: 340 | G39: 6 | H39: 44337 | I39: A-One Films
A40: =IF(B40<>"",ROWS($B$6:B40),"") -> 35 | B40: Paskutinis didvyris: blogio ištakos | C40: Последний богатырь: Корень зла | D40: RU | E40: 1711.97 | F40: 320 | G40: 4 | H40: 44344 | I40: Best Film
A41: =IF(B41<>"",ROWS($B$6:B41),"") -> 36 | B41: Aš esu Greta | C41: I Am Greta | D41: SE | E41: 1174 | F41: 304 | G41: 3 | H41: 44316 | I41: Europos kinas
A42: =IF(B42<>"",ROWS($B$6:B42),"") -> 37 | B42: Išvalyti atmintį | C42: Effacer L'historique | D42: FR | E42: 1061.5 | F42: 195 | G42: 4 | H42: 44316 | I42: A-One Films
A43: =IF(B43<>"",ROWS($B$6:B43),"") -> 38 | B43: Gagarinas | C43: Gagarine | D43: FR | E43: 515.7 | F43: 108 | G43: 3 | H43: 44316 | I43: Europos kinas
A44: =IF(B44<>"",ROWS($B$6:B44),"") -> 39 | B44: Kalakutas, vynas ir merginos | C44: Dinner With Friends | D44: US | E44: 461.2 | F44: 72 | G44: 3 | H44: 44141 | I44: Theatrical Film Distribution
A45: =IF(B45<>"",ROWS($B$6:B45),"") -> 40 | B45: Kolos praraja. Požemių balsai | C45: Кольская сверхглубокая | D45: RU | E45: 456.5 | F45: 77 | G45: 2 | H45: 44141 | I45: VLG Film
A46: =IF(B46<>"",ROWS($B$6:B46),"") -> 41 | B46: Drakono raitelis | C46: Dragon Rider | D46: DE | E46: 377 | F46: 194 | G46: 1 | H46: 44127 | I46: Garsų pasaulio įrašai
A47: =IF(B47<>"",ROWS($B$6:B47),"") -> 42 | B47: Bintė | C47: Binti | D47: BE | E47: 370 | F47: 88 | G47: 1 | H47: 44080 | I47: Skalvijos kino centras
A48: =IF(B48<>"",ROWS($B$6:B48),"") -> 43 | B48: Jokūbas, Mimi ir kalbantys šunys | C48: Jekabs, Mimmi un runajosie suni | D48: LV, PL | E48: 320 | F48: 67 | G48: 1 | H48: 44114 | I48: Skalvijos kino centras
A49: =IF(B49<>"",ROWS($B$6:B49),"") -> 44 | B49: Nesėkmė dulkinantis arba šelmiškas porno | C49: Babardeala cu bucluc sau porno balamuc | D49: RO, LU, CZ, HR | E49: 272.44 | F49: 58 | G49: 5 | H49: 44316 | I49: Europos Kinas
A50: =IF(B50<>"",ROWS($B$6:B50),"") -> 45 | B50: Prakaituok! | C50: Sweat | D50: SE, PL | E50: 266.5 | F50: 49 | G50: 2 | H50: 44330 | I50: Kino aljansas
A51: =IF(B51<>"",ROWS($B$6:B51),"") -> 46 | B51: Persų kalbos pamokos | C51: Persian Lessons | D51: DE, RU | E51: 260.6 | F51: 44 | G51: 3 | H51: 44134 | I51: Best Film
A52: =IF(B52<>"",ROWS($B$6:B52),"") -> 47 | B52: Tapytoja ir vagis | C52: he Painter and the Thief | D52: NO | E52: 259 | F52: 51 | G52: 3 | H52: 44316 | I52: Europos kinas
A53: =IF(B53<>"",ROWS($B$6:B53),"") -> 48 | B53: Arčiau debesų | C53: Cloudboy | D53: BG/SE/NL/NO | E53: 225 | F53: 45 | G53: 1 | H53: 42988 | I53: Skalvijos kino centras
...

Sheet Birželis
A1: ='2021'!A1 -> 2021
A2: ='2021'!A2 -> Lietuvos kino teatruose rodytų filmų TOP
A3: Birželis
A5: Eil. Nr. | B5: Filmo pavadinimas | C5: Filmo pavadinimas originalo kalba | D5: Kilmės šalis | E5: Pajamos | F5: Žiūrovų skaičius | G5: Kopijų skaičius | H5: Premjeros data | I5: Platintojas
A6: =IF(B6<>"",ROWS($B$6:B6),"") -> 1 | B6: Išvarymas 3: Velnias privertė mane tai padaryti | C6: Conjuring 3 | D6: US | E6: 89188.52 | F6: 14394 | G6: 14 | H6: 44351 | I6: ACME Film / WB
A7: =IF(B7<>"",ROWS($B$6:B7),"") -> 2 | B7: Greiti ir įsiutę 9 | C7: Fast and Furious 9 | D7: US | E7: 78513.35 | F7: 12365 | G7: 14 | H7: 44372 | I7: Dukine Film Distribution / Universal Pictures
A8: =IF(B8<>"",ROWS($B$6:B8),"") -> 3 | B8: Tylos zona 2 | C8: A Quiet Place 2 | D8: US | E8: 60245.82 | F8: 10067 | G8: 15 | H8: 44344 | I8: Dukine Film Distribution / Paramount Pictures
A9: =IF(B9<>"",ROWS($B$6:B9),"") -> 4 | B9: Krudžiai 2. Naujasis amžius | C9: The Croods: A New Age | D9: US | E9: 55351.31 | F9: 12574 | G9: 17 | H9: 44351 | I9: Dukine Film Distribution / Universal Pictures
A10: =IF(B10<>"",ROWS($B$6:B10),"") -> 5 | B10: Triušis Piteris2: Pabėgimas | C10: Peter Rabbit 2 | D10: US, AU | E10: 51283.42 | F10: 11235 | G10: 17 | H10: 44358 | I10: ACME Film / SONY
A11: =IF(B11<>"",ROWS($B$6:B11),"") -> 6 | B11: Žudiko žmonos asmens sargybinis | C11: The Hitman's Wife's Bodyguard | D11: US | E11: 25827 | F11: 4398 | G11: 11 | H11: 44365 | I11: Garsų pasaulio įrašai
A12: =IF(B12<>"",ROWS($B$6:B12),"") -> 7 | B12: Rėja ir paskutinysis drakonas | C12: Raya and the Last Dragon | D12: US | E12: 19507.53 | F12: 4464 | G12: 15 | H12: 44337 | I12: Theatrical Film Distribution / WDSMPI
A13: =IF(B13<>"",ROWS($B$6:B13),"") -> 8 | B13: Kruela | C13: Cruella | D13: US | E13: 16752.89 | F13: 2949 | G13: 12 | H13: 44344 | I13: Theatrical Film Distribution / WDSMPI
A14: =IF(B14<>"",ROWS($B$6:B14),"") -> 9 | B14: Spurguliai | C14: Extinct | D14: US, CN | E14: 15825.29 | F14: 3605 | G14: 18 | H14: 44372 | I14: VLG film
A15: =IF(B15<>"",ROWS($B$6:B15),"") -> 10 | B15: Žose, tigras ir žuvis | C15: Josee, the Tiger and the Fish | D15: JP | E15: 9816.09 | F15: 1841 | G15: 13 | H15: 44365 | I15: VLG film
A16: =IF(B16<>"",ROWS($B$6:B16),"") -> 11 | B16: Vyriškas įniršis | C16: Wrath of Man (Cash Truck) | D16: US | E16: 7403.07 | F16: 1225 | G16: 8 | H16: 44330 | I16: ACME Film
A17: =IF(B17<>"",ROWS($B$6:B17),"") -> 12 | B17: Persų kalbos pamokos | C17: Persian Lessons | D17: DE, RU | E17: 6158.4 | F17: 1178 | G17: 1 | H17: 44134 | I17: Best Film
... A21: =IF(B21<>"",ROWS($B$6:B21),"") -> 16 | B21: Kurjeris | C21: The Courier | D21: US, UK | E21: 4747.4 | F21: 841 | G21: 13 | H21: 44344 | I21: ACME Film
A22: =IF(B22<>"",ROWS($B$6:B22),"") -> 17 | B22: Polis | C22: Poly | D22: FR, BE | E22: 3485.2 | F22: 1052 | G22: 13 | H22: 44365 | I22: Best Film
A23: =IF(B23<>"",ROWS($B$6:B23),"") -> 18 | B23: Išgyventi virš horizonto | C23: Horizon Line | D23: SE | E23: 3280.5 | F23: 578 | G23: 13 | H23: 44351 | I23: ACME Film
A24: =IF(B24<>"",ROWS($B$6:B24),"") -> 19 | B24: Laisvo elgesio močiutė 3. Pradžia | C24: Прабабушка легкого поведения. Начало | D24: RU | E24: 2941 | F24: 487 | G24: 6 | H24: 44337 | I24: Garsų pasaulio įrašai
A25: =IF(B25<>"",ROWS($B$6:B25),"") -> 20 | B25: Siela | C25: Soul | D25: US | E25: 2343.47 | F25: 524 | G25: 12 | H25: 44316 | I25: Theatrical Film Distribution / WDSMPI
A26: =IF(B26<>"",ROWS($B$6:B26),"") -> 21 | B26: Šarlatanas | C26: Charlatan | D26: CZ, PL, SK | E26: 2243 | F26: 1017 | G26: 6 | H26: 44358 | I26: Best Film
A27: =IF(B27<>"",ROWS($B$6:B27),"") -> 22 | B27: Žmonės, kuriuos pažįstam | C27: Žmonės, kuriuos pažįstam | D27: LT | E27: 2067.72 | F27: 426 | G27: 4 | H27: 44344 | I27: Just a Moment
A28: =IF(B28<>"",ROWS($B$6:B28),"") -> 23 | B28: Valdininko prakeiksmas | C28: Проклятый чиновник | D28: RU | E28: 2016.95 | F28: 331 | G28: 5 | H28: 44372 | I28: Best Film
A29: =IF(B29<>"",ROWS($B$6:B29),"") -> 24 | B29: Boss Level | C29: Boss Level | D29: US | E29: 1959.44 | F29: 340 | G29: 12 | H29: 44351 | I29: VLG film
A30: =IF(B30<>"",ROWS($B$6:B30),"") -> 25 | B30: Dar po vieną | C30: Druk | D30: DK, NL | E30: 1857.92 | F30: 276 | G30: 4 | H30: 44330 | I30: Estinfilm
A31: =IF(B31<>"",ROWS($B$6:B31),"") -> 26 | B31: Godzila prieš Kongą | C31: Godzilla vs Kong | D31: US | E31: 1578.95 | F31: 286 | G31: 4 | H31: 44323 | I31: ACME Film / WB
A32: =IF(B32<>"",ROWS($B$6:B32),"") -> 27 | B32: Bintė | C32: Binti | D32: BE | E32: 1421 | F32: 272 | G32: 1 | H32: 44080 | I32: Skalvijos kino centras
A33: =IF(B33<>"",ROWS($B$6:B33),"") -> 28 | B33: Klajoklių žemė | C33: Nomadland | D33: US | E33: 1399 | F33: 268 | G33: 3 | H33: 44323 | I33: Theatrical Film Distribution / WDSMPI
A34: =IF(B34<>"",ROWS($B$6:B34),"") -> 29 | B34: Perspektyvi mergina | C34: Promising Young Woman | D34: UK | E34: 1272.6 | F34: 259 | G34: 3 | H34: 44316 | I34: VLG film
A35: =IF(B35<>"",ROWS($B$6:B35),"") -> 30 | B35: Tėvas | C35: The Father | D35: UK, FR | E35: 1189 | F35: 226 | G35: 4 | H35: 44316 | I35: Best Film
A36: =IF(B36<>"",ROWS($B$6:B36),"") -> 31 | B36: Selekcininkė | C36: Breeder | D36: DK | E36: 1156 | F36: 208 | G36: 11 | H36: 44358 | I36: Best Film
A37: =IF(B37<>"",ROWS($B$6:B37),"") -> 32 | B37: Spiralė | C37: Spiral | D37: US | E37: 1014.69 | F37: 159 | G37: 10 | H37: 44337 | I37: ACME Film
A38: =IF(B38<>"",ROWS($B$6:B38),"") -> 33 | B38: Nešventa | C38: Unholy | D38: US | E38: 748.5 | F38: 121 | G38: 8 | H38: 44323 | I38: ACME Film / SONY
A39: =IF(B39<>"",ROWS($B$6:B39),"") -> 34 | B39: Paskutinis didvyris: blogio ištakos | C39: Последний богатырь: Корень зла | D39: RU | E39: 739.57 | F39: 158 | G39: 3 | H39: 44344 | I39: Best Film
A40: =IF(B40<>"",ROWS($B$6:B40),"") -> 35 | B40: Gauja | C40: Smecka | D40: CZ, SK, LV | E40: 701 | F40: 171 | G40: 1 | H40: 44330 | I40: Skalvijos kino centras
... A43: =IF(B43<>"",ROWS($B$6:B43),"") -> 38 | B43: Jokūbas, Mimi ir kalbantys šunys | C43: Jekabs, Mimmi un runajosie suni | D43: LV, PL | E43: 571 | F43: 159 | G43: 1 | H43: 44114 | I43: Skalvijos kino centras
A44: =IF(B44<>"",ROWS($B$6:B44),"") -> 39 | B44: Didžiapėdžio vaikis 2 | C44: Bigfoot family | D44: BE, FR | E44: 544.6 | F44: 211 | G44: 3 | H44: 44106 | I44: VLG Film
A45: =IF(B45<>"",ROWS($B$6:B45),"") -> 40 | B45: Černobylis. Bedugnė | C45: Чернобыль | D45: RU | E45: 531.3 | F45: 101 | G45: 6 | H45: 44323 | I45: Theatrical Film Distribution
A46: =IF(B46<>"",ROWS($B$6:B46),"") -> 41 | B46: Šuniškas pokštas | C46: Trouble | D46: CA, US | E46: 366.5 | F46: 237 | G46: 2 | H46: 43749 | I46: ACME Film
...

Sheet Liepa
A1: ='2021'!A1 -> 2021
A2: ='2021'!A2 -> Lietuvos kino teatruose rodytų filmų TOP
A3: Liepa
A5: Eil. Nr. | B5: Filmo pavadinimas | C5: Filmo pavadinimas originalo kalba | D5: Kilmės šalis | E5: Pajamos | F5: Žiūrovų skaičius | G5: Kopijų skaičius | H5: Premjeros data | I5: Platintojas
A6: =IF(B6<>"",ROWS($B$6:B6),"") -> 1 | B6: Greiti ir įsiutę 9 | C6: Fast and Furious 9 | D6: US | E6: 117760.09 | F6: 18661 | G6: 14 | H6: 44372 | I6: Dukine Film Distribution / Universal Pictures
A7: =IF(B7<>"",ROWS($B$6:B7),"") -> 2 | B7: Kosminis krepšinis: Nauja era | C7: Space jam 2 (Space Jam: A New Legacy) | D7: US | E7: 99826.15 | F7: 20310 | G7: 15 | H7: 44393 | I7: ACME Film / WB
A8: =IF(B8<>"",ROWS($B$6:B8),"") -> 3 | B8: Juodoji našlė | C8: Black Widow | D8: US | E8: 81721.66 | F8: 12733 | G8: 18 | H8: 44386 | I8: Theatrical Film Distribution / WDSMPI
A9: =IF(B9<>"",ROWS($B$6:B9),"") -> 4 | B9: Lukas | C9: Luca | D9: US | E9: 69161.96 | F9: 14762 | G9: 19 | H9: 44400 | I9: Theatrical Film Distribution / WDSMPI
A10: =IF(B10<>"",ROWS($B$6:B10),"") -> 5 | B10: Pabėgimo kambarys 2: Išėjimo nėra | C10: Escape Room 2 | D10: US | E10: 49024.9 | F10: 7926 | G10: 14 | H10: 44393 | I10: ACME Film / SONY
A11: =IF(B11<>"",ROWS($B$6:B11),"") -> 6 | B11: Nepažabojama dvasia | C11: Spirit Untamed | D11: US | E11: 41877.2 | F11: 9206 | G11: 17 | H11: 44379 | I11: Dukine Film Distribution / Universal Pictures
A12: =IF(B12<>"",ROWS($B$6:B12),"") -> 7 | B12: Naktinė žvejyba | C12: Naktinė žvejyba | D12: LT | E12: 40909.68 | F12: 6137 | G12: 18 | H12: 44407 | I12: Stambus planas
A13: =IF(B13<>"",ROWS($B$6:B13),"") -> 8 | B13: Išvalymas amžiams | C13: Forever Purge | D13: US | E13: 29701.11 | F13: 4903 | G13: 14 | H13: 44379 | I13: Dukine Film Distribution / Universal Pictures
A14: =IF(B14<>"",ROWS($B$6:B14),"") -> 9 | B14: Spurguliai | C14: Extinct | D14: US, CN | E14: 29237.67 | F14: 6501 | G14: 13 | H14: 44372 | I14: VLG film
A15: =IF(B15<>"",ROWS($B$6:B15),"") -> 10 | B15: Krudžiai 2. Naujasis amžius | C15: The Croods: A New Age | D15: US | E15: 25305.77 | F15: 5361 | G15: 10 | H15: 44351 | I15: Dukine Film Distribution / Universal Pictures
A16: =IF(B16<>"",ROWS($B$6:B16),"") -> 11 | B16: Išvarymas 3: Velnias privertė mane tai padaryti | C16: Conjuring 3 | D16: US | E16: 18095.08 | F16: 2771 | G16: 9 | H16: 44351 | I16: ACME Film / WB
A17: =IF(B17<>"",ROWS($B$6:B17),"") -> 12 | B17: Senatvė | C17: Old | D17: US | E17: 17435.64 | F17: 2915 | G17: 15 | H17: 44400 | I17: Dukine Film Distribution / Universal Pictures
A18: =IF(B18<>"",ROWS($B$6:B18),"") -> 13 | B18: Triušis Piteris2: Pabėgimas | C18: Peter Rabbit 2 | D18: US, AU | E18: 16826.28 | F18: 3657 | G18: 14 | H18: 44358 | I18: ACME Film / SONY
A19: =IF(B19<>"",ROWS($B$6:B19),"") -> 14 | B19: Ledo kelias | C19: The Ice Road | D19: US | E19: 11347 | F19: 1985 | G19: 14 | H19: 44379 | I19: VLG film
A20: =IF(B20<>"",ROWS($B$6:B20),"") -> 15 | B20: Tylos zona 2 | C20: A Quiet Place 2 | D20: US | E20: 9236.19 | F20: 1512 | G20: 9 | H20: 44344 | I20: Dukine Film Distribution / Paramount Pictures
A21: =IF(B21<>"",ROWS($B$6:B21),"") -> 16 | B21: Kaimynai | C21: The People Upstairs | D21: ES | E21: 8569.58 | F21: 1619 | G21: 5 | H21: 44379 | I21: Kino pasaka
A22: =IF(B22<>"",ROWS($B$6:B22),"") -> 17 | B22: Žudiko žmonos asmens sargybinis | C22: The Hitman's Wife's Bodyguard | D22: US | E22: 8269 | F22: 1357 | G22: 8 | H22: 44365 | I22: Garsų pasaulio įrašai
A23: =IF(B23<>"",ROWS($B$6:B23),"") -> 18 | B23: Džiunglių kruizas | C23: Jungle Cruise | D23: US | E23: 7356.22 | F23: 1261 | G23: 15 | H23: 44407 | I23: Theatrical Film Distribution / WDSMPI
A24: =IF(B24<>"",ROWS($B$6:B24),"") -> 19 | B24: Padūkėlė Turu | C24: Turu the Wacky Hen | D24: ES, AR | E24: 6426.18 | F24: 1619 | G24: 15 | H24: 44386 | I24: ACME Film
A25: =IF(B25<>"",ROWS($B$6:B25),"") -> 20 | B25: Įtakingiausias Amerikos gangsteris | C25: Lansky | D25: US | E25: 5344 | F25: 954 | G25: 11 | H25: 44379 | I25: Garsų pasaulio įrašai
A26: =IF(B26<>"",ROWS($B$6:B26),"") -> 21 | B26: Gyvatės akys: Eilinio Džo kilmė | C26: Snake Eyes: G.I. Joe Origins | D26: US | E26: 4981.72 | F26: 819 | G26: 14 | H26: 44400 | I26: Dukine Film Distribution / Paramount Pictures
A27: =IF(B27<>"",ROWS($B$6:B27),"") -> 22 | B27: Kvepalai | C27: Les parfums | D27: FR | E27: 4857.76 | F27: 882 | G27: 11 | H27: 44393 | I27: Best Film
A28: =IF(B28<>"",ROWS($B$6:B28),"") -> 23 | B28: Frida. Viva la Vida | C28: Frida. Viva la Vida | D28: IT | E28: 3850 | F28: 811 | G28: 8 | H28: 44386 | I28: A-One Films
A29: =IF(B29<>"",ROWS($B$6:B29),"") -> 24 | B29: Džentelmeniškas apiplėšimas | C29: The Misfits | D29: US | E29: 2756.75 | F29: 472 | G29: 13 | H29: 44379 | I29: Theatrical Film Distribution
A30: =IF(B30<>"",ROWS($B$6:B30),"") -> 25 | B30: Kruela | C30: Cruella | D30: US | E30: 2450.93 | F30: 468 | G30: 3 | H30: 44344 | I30: Theatrical Film Distribution / WDSMPI
A31: =IF(B31<>"",ROWS($B$6:B31),"") -> 26 | B31: Prabudimas | C31: Awaken | D31: US, EA | E31: 2305.56 | F31: 380 | G31: 9 | H31: 44400 | I31: Best Film
A32: =IF(B32<>"",ROWS($B$6:B32),"") -> 27 | B32: Parako kokteilis | C32: Gunpowder Milkshake | D32: US | E32: 2300 | F32: 392 | G32: 12 | H32: 44393 | I32: VLG film
A33: =IF(B33<>"",ROWS($B$6:B33),"") -> 28 | B33: Tiktai žvėrys | C33: Seules les bêtes | D33: FR | E33: 2287 | F33: 464 | G33: 6 | H33: 44393 | I33: A-One Films
A34: =IF(B34<>"",ROWS($B$6:B34),"") -> 29 | B34: Dar po vieną | C34: Druk | D34: DK, NL | E34: 2009.08 | F34: 305 | G34: 4 | H34: 44330 | I34: Estinfilm
A35: =IF(B35<>"",ROWS($B$6:B35),"") -> 30 | B35: Rėja ir paskutinysis drakonas | C35: Raya and the Last Dragon | D35: US | E35: 1866.18 | F35: 409 | G35: 3 | H35: 44337 | I35: Theatrical Film Distribution / WDSMPI
A36: =IF(B36<>"",ROWS($B$6:B36),"") -> 31 | B36: Augintiniai susivienija | C36: Pets United | D36: UK, CN, DE | E36: 1320 | F36: 578 | G36: 2 | H36: 43882 | I36: Garsų pasaulio įrašai
A37: =IF(B37<>"",ROWS($B$6:B37),"") -> 32 | B37: Undinė | C37: Undine | D37: DE | E37: 1308 | F37: 503 | G37: 4 | H37: 44323 | I37: A-One Films
A38: =IF(B38<>"",ROWS($B$6:B38),"") -> 33 | B38: Žose, tigras ir žuvis | C38: Josee, the Tiger and the Fish | D38: JP | E38: 1211.43 | F38: 229 | G38: 4 | H38: 44365 | I38: VLG film
A39: =IF(B39<>"",ROWS($B$6:B39),"") -> 34 | B39: Vasara'85 | C39: Été 85 | D39: BE, FR | E39: 1196 | F39: 197 | G39: 4 | H39: 44330 | I39: A-One Films
A40: =IF(B40<>"",ROWS($B$6:B40),"") -> 35 | B40: Suteik man sparnus | C40: Donne moi des Ailes | D40: FR | E40: 1173 | F40: 442 | G40: 4 | H40: 43987 | I40: Europos kinas
A41: =IF(B41<>"",ROWS($B$6:B41),"") -> 36 | B41: Nepaprasta Remio kelionė | C41: Rémi sans famille | D41: FR | E41: 956 | F41: 200 | G41: 2 | H41: 43707 | I41: Estinfilms
...

Sheet Rugpjūtis
A1: ='2021'!A1 -> 2021
A2: ='2021'!A2 -> Lietuvos kino teatruose rodytų filmų TOP
A3: Rugpjūtis
A5: Eil. Nr. | B5: Filmo pavadinimas | C5: Filmo pavadinimas originalo kalba | D5: Kilmės šalis | E5: Pajamos | F5: Žiūrovų skaičius | G5: Kopijų skaičius | H5: Premjeros data | I5: Platintojas
A6: =IF(B6<>"",ROWS($B$6:B6),"") -> 1 | B6: Naktinė žvejyba | C6: Naktinė žvejyba | D6: LT | E6: 129462.86 | F6: 20934 | G6: 18 | H6: 44407 | I6: Stambus planas
A7: =IF(B7<>"",ROWS($B$6:B7),"") -> 2 | B7: Lukas | C7: Luca | D7: US | E7: 127692.98 | F7: 27914 | G7: 19 | H7: 44400 | I7: Theatrical Film Distribution / WDSMPI
A8: =IF(B8<>"",ROWS($B$6:B8),"") -> 3 | B8: Laisvasis Gajus | C8: Free Guy | D8: US | E8: 96351.99 | F8: 15646 | G8: 15 | H8: 44421 | I8: Theatrical Film Distribution / WDSMPI
A9: =IF(B9<>"",ROWS($B$6:B9),"") -> 4 | B9: Šunyčiai patruliai. Filmas | C9: Paw Patrol: The Movie | D9: US | E9: 89975.16 | F9: 19849 | G9: 17 | H9: 44428 | I9: Dukine Film Distribution / Paramount Pictures
A10: =IF(B10<>"",ROWS($B$6:B10),"") -> 5 | B10: Savižudžių būrys. Mobilizacija | C10: Suicide Squad 2 | D10: US | E10: 89161.87 | F10: 13645 | G10: 15 | H10: 44414 | I10: ACME Film / WB
A11: =IF(B11<>"",ROWS($B$6:B11),"") -> 6 | B11: Kosminis krepšinis: Nauja era | C11: Space jam 2 (Space Jam: A New Legacy) | D11: US | E11: 52605.72 | F11: 11165 | G11: 15 | H11: 44393 | I11: ACME Film / WB
A12: =IF(B12<>"",ROWS($B$6:B12),"") -> 7 | B12: Džiunglių kruizas | C12: Jungle Cruise | D12: US | E12: 36703.44 | F12: 6618 | G12: 15 | H12: 44407 | I12: Theatrical Film Distribution / WDSMPI
A13: =IF(B13<>"",ROWS($B$6:B13),"") -> 8 | B13: Pabėgimo kambarys 2: Išėjimo nėra | C13: Escape Room 2 | D13: US | E13: 31991.93 | F13: 5122 | G13: 12 | H13: 44393 | I13: ACME Film / SONY
A14: =IF(B14<>"",ROWS($B$6:B14),"") -> 9 | B14: Izaokas | C14: Izaokas | D14: LT | E14: 31827.56 | F14: 5819 | G14: 20 | H14: 44421 | I14: Film Jam
A15: =IF(B15<>"",ROWS($B$6:B15),"") -> 10 | B15: Mirties namai 2 | C15: Dont Breathe 2 | D15: US | E15: 30361.09 | F15: 4629 | G15: 12 | H15: 44421 | I15: ACME Film / SONY
A16: =IF(B16<>"",ROWS($B$6:B16),"") -> 11 | B16: Svajoklis Budis 2 | C16: Rock Dog 2 | D16: US | E16: 25535.71 | F16: 6054 | G16: 16 | H16: 44414 | I16: ACME Film
A17: =IF(B17<>"",ROWS($B$6:B17),"") -> 12 | B17: Nakties namai | C17: The Night House | D17: US | E17: 21421.9 | F17: 3613 | G17: 12 | H17: 44428 | I17: Theatrical Film Distribution / WDSMPI
A18: =IF(B18<>"",ROWS($B$6:B18),"") -> 13 | B18: Greiti ir įsiutę 9 | C18: Fast and Furious 9 | D18: US | E18: 20719.5 | F18: 3385 | G18: 8 | H18: 44372 | I18: Dukine Film Distribution / Universal Pictures
A19: =IF(B19<>"",ROWS($B$6:B19),"") -> 14 | B19: Nauja praeitis | C19: Reminiscence | D19: US | E19: 17430.71 | F19: 2809 | G19: 14 | H19: 44428 | I19: ACME Film / WB
A20: =IF(B20<>"",ROWS($B$6:B20),"") -> 15 | B20: Senatvė | C20: Old | D20: US | E20: 13669.19 | F20: 2244 | G20: 11 | H20: 44400 | I20: Dukine Film Distribution / Universal Pictures
A21: =IF(B21<>"",ROWS($B$6:B21),"") -> 16 | B21: Žaliasis riteris | C21: The Green Knight | D21: IE, CA, US, UK | E21: 11969.25 | F21: 2103 | G21: 17 | H21: 44428 | I21: VLG film
A22: =IF(B22<>"",ROWS($B$6:B22),"") -> 17 | B22: Bitininkas | C22: Candyman | D22: US | E22: 11136.18 | F22: 2039 | G22: 14 | H22: 44435 | I22: Dukine Film Distribution / Universal Pictures
A23: =IF(B23<>"",ROWS($B$6:B23),"") -> 18 | B23: Apsėstoji | C23: Demonic | D23: CA | E23: 11018.2 | F23: 1715 | G23: 10 | H23: 44414 | I23: Theatrical Film Distribution
A24: =IF(B24<>"",ROWS($B$6:B24),"") -> 19 | B24: Kaimynai | C24: The People Upstairs | D24: ES | E24: 10815.75 | F24: 1777 | G24: 5 | H24: 44379 | I24: Kino pasaka
A25: =IF(B25<>"",ROWS($B$6:B25),"") -> 20 | B25: Rifkino festivalis | C25: Rifkin‘s Festival | D25: ES, US, IT | E25: 8571.72 | F25: 1664 | G25: 16 | H25: 44435 | I25: VLG film
A26: =IF(B26<>"",ROWS($B$6:B26),"") -> 21 | B26: Seifas | C26: Waydown (The Vault) | D26: ES | E26: 8174.75 | F26: 1558 | G26: 14 | H26: 44435 | I26: ACME Film
A27: =IF(B27<>"",ROWS($B$6:B27),"") -> 22 | B27: Juodoji našlė | C27: Black Widow | D27: US | E27: 7270.39 | F27: 1207 | G27: 6 | H27: 44386 | I27: Theatrical Film Distribution / WDSMPI
A28: =IF(B28<>"",ROWS($B$6:B28),"") -> 23 | B28: (Ne)Tobulas vyras | C28: I'm Your Man | D28: DE | E28: 7160.76 | F28: 1509 | G28: 14 | H28: 44421 | I28: VLG film
A29: =IF(B29<>"",ROWS($B$6:B29),"") -> 24 | B29: Nepažabojama dvasia | C29: Spirit Untamed | D29: US | E29: 6599.88 | F29: 1486 | G29: 7 | H29: 44379 | I29: Dukine Film Distribution / Universal Pictures
A30: =IF(B30<>"",ROWS($B$6:B30),"") -> 25 | B30: Kiaulė | C30: Pig | D30: US | E30: 5311.19 | F30: 1084 | G30: 14 | H30: 44435 | I30: Theatrical Film Distribution
A31: =IF(B31<>"",ROWS($B$6:B31),"") -> 26 | B31: Latė ir stebuklingas akmuo | C31: Latte & the Magic Waterstone | D31: DE, BE | E31: 4036.87 | F31: 1027 | G31: 6 | H31: 44442 | I31: Travolta
A32: =IF(B32<>"",ROWS($B$6:B32),"") -> 27 | B32: Dar po vieną | C32: Druk | D32: DK, NL | E32: 3712.37 | F32: 1059 | G32: 1 | H32: 44330 | I32: Estinfilm
A33: =IF(B33<>"",ROWS($B$6:B33),"") -> 28 | B33: Spurguliai | C33: Extinct | D33: US, CN | E33: 3619.89 | F33: 868 | G33: 2 | H33: 44372 | I33: VLG film
A34: =IF(B34<>"",ROWS($B$6:B34),"") -> 29 | B34: Supernova | C34: Supernova | D34: UK | E34: 3305.71 | F34: 581 | G34: 9 | H34: 44414 | I34: Theatrical Film Distribution
A35: =IF(B35<>"",ROWS($B$6:B35),"") -> 30 | B35: Išvarymas 3: Velnias privertė mane tai padaryti | C35: Conjuring 3 | D35: US | E35: 2926.89 | F35: 430 | G35: 3 | H35: 44351 | I35: ACME Film / WB
A36: =IF(B36<>"",ROWS($B$6:B36),"") -> 31 | B36: Vestuvių kalba | C36: Le discours | D36: FR | E36: 2758 | F36: 507 | G36: 6 | H36: 44421 | I36: A-One Films
A37: =IF(B37<>"",ROWS($B$6:B37),"") -> 32 | B37: Krudžiai 2. Naujasis amžius | C37: The Croods: A New Age | D37: US | E37: 2221.5 | F37: 508 | G37: 3 | H37: 44351 | I37: Dukine Film Distribution / Universal Pictures
A38: =IF(B38<>"",ROWS($B$6:B38),"") -> 33 | B38: Geriausi mūsų metai | C38: The Best Years | D38: IT | E38: 2128.61 | F38: 403 | G38: 4 | H38: 44414 | I38: Greta Garbo
A39: =IF(B39<>"",ROWS($B$6:B39),"") -> 34 | B39: Frida. Viva la Vida | C39: Frida. Viva la Vida | D39: IT | E39: 1740 | F39: 349 | G39: 8 | H39: 44386 | I39: A-One Films
A40: =IF(B40<>"",ROWS($B$6:B40),"") -> 35 | B40: Paprasta aistra | C40: Passion simple | D40: FR | E40: 1670 | F40: 380 | G40: 4 | H40: 44428 | I40: Best Film
A41: =IF(B41<>"",ROWS($B$6:B41),"") -> 36 | B41: Tiktai žvėrys | C41: Seules les bêtes | D41: FR | E41: 1563 | F41: 313 | G41: 6 | H41: 44393 | I41: A-One Films
...

Sheet Rugsėjis
A1: ='2021'!A1 -> 2021
A2: ='2021'!A2 -> Lietuvos kino teatruose rodytų filmų TOP
A3: Rugsėjis
A5: Eil. Nr. | B5: Filmo pavadinimas | C5: Filmo pavadinimas originalo kalba | D5: Kilmės šalis | E5: Pajamos | F5: Žiūrovų skaičius | G5: Kopijų skaičius | H5: Premjeros data | I5: Platintojas
A6: =IF(B6<>"",ROWS($B$6:B6),"") -> 1 | B6: Kopa | C6: Dune | D6: US | E6: 257805.69 | F6: 37110 | G6: 17 | H6: 44456 | I6: ACME Film / WB
A7: =IF(B7<>"",ROWS($B$6:B7),"") -> 2 | B7: Ponas kūdikis 2. Šeimos reikalai | C7: The Boss Baby: Family Business | D7: US | E7: 115696.04 | F7: 23864 | G7: 20 | H7: 44456 | I7: Dukine Film Distribution / Universal Pictures
A8: =IF(B8<>"",ROWS($B$6:B8),"") -> 3 | B8: Šang-Či ir dešimties žiedų legenda | C8: Shang-Chi and the Legend of the Ten Rings | D8: US | E8: 80734.83 | F8: 12618 | G8: 15 | H8: 44442 | I8: Theatrical Film Distribution / WDSMPI
A9: =IF(B9<>"",ROWS($B$6:B9),"") -> 4 | B9: After. Kai mes pasiklydom | C9: After We Fell | D9: US | E9: 76676 | F9: 12350 | G9: 16 | H9: 44449 | I9: Garsų pasaulio įrašai
A10: =IF(B10<>"",ROWS($B$6:B10),"") -> 5 | B10: Šunyčiai patruliai. Filmas | C10: Paw Patrol: The Movie | D10: US | E10: 65366.36 | F10: 13799 | G10: 18 | H10: 44428 | I10: Dukine Film Distribution / Paramount Pictures
A11: =IF(B11<>"",ROWS($B$6:B11),"") -> 6 | B11: Laisvasis Gajus | C11: Free Guy | D11: US | E11: 56786.71 | F11: 9178 | G11: 9 | H11: 44421 | I11: Theatrical Film Distribution / WDSMPI
A12: =IF(B12<>"",ROWS($B$6:B12),"") -> 7 | B12: Šuolis | C12: Šuolis | D12: LT | E12: 40807 | F12: 7133 | G12: 20 | H12: 44456 | I12: Moonmakers
A13: =IF(B13<>"",ROWS($B$6:B13),"") -> 8 | B13: Piktybinis | C13: Malignant | D13: US | E13: 37982.98 | F13: 5934 | G13: 11 | H13: 44442 | I13: ACME Film / WB
A14: =IF(B14<>"",ROWS($B$6:B14),"") -> 9 | B14: Lukas | C14: Luca | D14: US | E14: 26997.66 | F14: 5669 | G14: 10 | H14: 44400 | I14: Theatrical Film Distribution / WDSMPI
A15: =IF(B15<>"",ROWS($B$6:B15),"") -> 10 | B15: Latė ir stebuklingas akmuo | C15: Latte & the Magic Waterstone | D15: DE, BE | E15: 18828.13 | F15: 4026 | G15: 12 | H15: 44442 | I15: Travolta
A16: =IF(B16<>"",ROWS($B$6:B16),"") -> 11 | B16: Mirtis palauks | C16: No Time To Die | D16: UK, US | E16: 16786.67 | F16: 2749 | G16: 10 | H16: 44470 | I16: Dukine Film Distribution / Universal Pictures
A17: =IF(B17<>"",ROWS($B$6:B17),"") -> 12 | B17: Kuponų karalienės | C17: Queenpins | D17: US | E17: 15918.32 | F17: 2653 | G17: 16 | H17: 44442 | I17: ACME Film
A18: =IF(B18<>"",ROWS($B$6:B18),"") -> 13 | B18: Kortų skaičiuotojas | C18: The Card Counter | D18: CN, UK, US | E18: 12859 | F18: 2078 | G18: 18 | H18: 44463 | I18: VLG film
A19: =IF(B19<>"",ROWS($B$6:B19),"") -> 14 | B19: Izaokas | C19: Izaokas | D19: LT | E19: 10189.44 | F19: 1813 | G19: 8 | H19: 44421 | I19: Film Jam
A20: =IF(B20<>"",ROWS($B$6:B20),"") -> 15 | B20: Pabėgimo kambarys 2: Išėjimo nėra | C20: Escape Room 2 | D20: US | E20: 8334.53 | F20: 1287 | G20: 3 | H20: 44393 | I20: ACME Film / SONY
A21: =IF(B21<>"",ROWS($B$6:B21),"") -> 16 | B21: Naktinė žvejyba | C21: Naktinė žvejyba | D21: LT | E21: 8214.46 | F21: 1262 | G21: 8 | H21: 44407 | I21: Stambus planas
A22: =IF(B22<>"",ROWS($B$6:B22),"") -> 17 | B22: Kosminis krepšinis: Nauja era | C22: Space jam 2 (Space Jam: A New Legacy) | D22: US | E22: 5832.86 | F22: 1274 | G22: 7 | H22: 44393 | I22: ACME Film / WB
A23: =IF(B23<>"",ROWS($B$6:B23),"") -> 18 | B23: Jokių liudininkų | C23: Cop Shop | D23: US | E23: 5519.43 | F23: 900 | G23: 15 | H23: 44463 | I23: ACME Film
A24: =IF(B24<>"",ROWS($B$6:B24),"") -> 19 | B24: Seifas | C24: Waydown (The Vault) | D24: ES | E24: 5420.34 | F24: 921 | G24: 14 | H24: 44435 | I24: ACME Film
A25: =IF(B25<>"",ROWS($B$6:B25),"") -> 20 | B25: Bitininkas | C25: Candyman | D25: US | E25: 5116.17 | F25: 803 | G25: 14 | H25: 44435 | I25: Dukine Film Distribution / Universal Pictures
A26: =IF(B26<>"",ROWS($B$6:B26),"") -> 21 | B26: Dar po vieną | C26: Druk | D26: DK, NL | E26: 4140.58 | F26: 708 | G26: 2 | H26: 44330 | I26: Estinfilm
A27: =IF(B27<>"",ROWS($B$6:B27),"") -> 22 | B27: Dogtanjanas ir trys šunietininkai | C27: Dogtanian and the Three Muskehounds | D27: ES | E27: 4103 | F27: 964 | G27: 16 | H27: 44449 | I27: ACME Film
A28: =IF(B28<>"",ROWS($B$6:B28),"") -> 23 | B28: Ne bobų reikalai | C28: Нефутбол | D28: RU | E28: 4099 | F28: 680 | G28: 4 | H28: 44449 | I28: Garsų pasaulio įrašai
A29: =IF(B29<>"",ROWS($B$6:B29),"") -> 24 | B29: Rifkino festivalis | C29: Rifkin‘s Festival | D29: ES, US, IT | E29: 4054.28 | F29: 716 | G29: 9 | H29: 44435 | I29: VLG film
A30: =IF(B30<>"",ROWS($B$6:B30),"") -> 25 | B30: Nakties namai | C30: The Night House | D30: US | E30: 3846.3 | F30: 601 | G30: 8 | H30: 44428 | I30: Theatrical Film Distribution / WDSMPI
A31: =IF(B31<>"",ROWS($B$6:B31),"") -> 26 | B31: (Ne)Tobulas vyras | C31: I'm Your Man | D31: DE | E31: 3679.24 | F31: 804 | G31: 3 | H31: 44421 | I31: VLG film
A32: =IF(B32<>"",ROWS($B$6:B32),"") -> 27 | B32: Kiaulė | C32: Pig | D32: US | E32: 3607.9 | F32: 624 | G32: 14 | H32: 44435 | I32: Theatrical Film Distribution
A33: =IF(B33<>"",ROWS($B$6:B33),"") -> 28 | B33: Rozos vestuvės | C33: La boda de Rosa | D33: ES, FR | E33: 3559.5 | F33: 556 | G33: 4 | H33: 44442 | I33: Kino pasaka
A34: =IF(B34<>"",ROWS($B$6:B34),"") -> 29 | B34: Savižudžių būrys. Mobilizacija | C34: Suicide Squad 2 | D34: US | E34: 3442.42 | F34: 569 | G34: 6 | H34: 44414 | I34: ACME Film / WB
A35: =IF(B35<>"",ROWS($B$6:B35),"") -> 30 | B35: Šmėklų žemės kaliniai | C35: Prisoners of The Ghostland | D35: US | E35: 2773.2 | F35: 484 | G35: 15 | H35: 44449 | I35: Theatrical Film Distribution
A36: =IF(B36<>"",ROWS($B$6:B36),"") -> 31 | B36: Geriausi mūsų metai | C36: The Best Years | D36: IT | E36: 2106.39 | F36: 392 | G36: 3 | H36: 44414 | I36: Greta Garbo
A37: =IF(B37<>"",ROWS($B$6:B37),"") -> 32 | B37: Žudiko kodeksas | C37: The Protege | D37: US | E37: 1936.98 | F37: 329 | G37: 10 | H37: 44442 | I37: Theatrical Film Distribution
A38: =IF(B38<>"",ROWS($B$6:B38),"") -> 33 | B38: Patrakėlė Marta Džein | C38: Calamity, a Childhood of Martha Jane Cannary | D38: FR | E38: 1560 | F38: 330 | G38: 8 | H38: 44463 | I38: UPĖ Media
A39: =IF(B39<>"",ROWS($B$6:B39),"") -> 34 | B39: Į mėnulį | C39: Moonbound | D39: DE, AT | E39: 1457.12 | F39: 302 | G39: 7 | H39: 44470 | I39: ACME Film
A40: =IF(B40<>"",ROWS($B$6:B40),"") -> 35 | B40: Vestuvių kalba | C40: Le discours | D40: FR | E40: 1428 | F40: 276 | G40: 6 | H40: 44421 | I40: A-One Films
A41: =IF(B41<>"",ROWS($B$6:B41),"") -> 36 | B41: Tuvė | C41: Tove | D41: FI | E41: 1308.43 | F41: 220 | G41: 3 | H41: 44421 | I41: Estinfilm
...

Sheet Spalis
A1: ='2021'!A1 -> 2021
A2: ='2021'!A2 -> Lietuvos kino teatruose rodytų filmų TOP
A3: Spalis
A5: Eil. Nr. | B5: Filmo pavadinimas | C5: Filmo pavadinimas originalo kalba | D5: Kilmės šalis | E5: Pajamos | F5: Žiūrovų skaičius | G5: Kopijų skaičius | H5: Premjeros data | I5: Platintojas
A6: =IF(B6<>"",ROWS($B$6:B6),"") -> 1 | B6: Mirtis palauks | C6: No Time To Die | D6: UK, US | E6: 325512.18 | F6: 47668 | G6: 18 | H6: 44470 | I6: Dukine Film Distribution / Universal Pictures
A7: =IF(B7<>"",ROWS($B$6:B7),"") -> 2 | B7: Venomas 2 | C7: Venom Let There Be Carnage | D7: US | E7: 254491.73 | F7: 36175 | G7: 15 | H7: 44484 | I7: ACME Film / SONY
A8: =IF(B8<>"",ROWS($B$6:B8),"") -> 3 | B8: Adamsų šeimynėlė 2 | C8: The Addams Family 2 | D8: US | E8: 176224 | F8: 35275 | G8: 20 | H8: 44477 | I8: Dukine Film Distribution / Universal Pictures
A9: =IF(B9<>"",ROWS($B$6:B9),"") -> 4 | B9: Kopa | C9: Dune | D9: US | E9: 145073.44 | F9: 22941 | G9: 11 | H9: 44456 | I9: ACME Film / WB
A10: =IF(B10<>"",ROWS($B$6:B10),"") -> 5 | B10: Ponas kūdikis 2. Šeimos reikalai | C10: The Boss Baby: Family Business | D10: US | E10: 87779.08 | F10: 17581 | G10: 17 | H10: 44456 | I10: Dukine Film Distribution / Universal Pictures
A11: =IF(B11<>"",ROWS($B$6:B11),"") -> 6 | B11: Šuolis | C11: Šuolis | D11: LT | E11: 47340.81 | F11: 7920 | G11: 6 | H11: 44456 | I11: Moonmakers
A12: =IF(B12<>"",ROWS($B$6:B12),"") -> 7 | B12: Į mėnulį | C12: Moonbound | D12: DE, AT | E12: 41481.93 | F12: 8733 | G12: 17 | H12: 44470 | I12: ACME Film
A13: =IF(B13<>"",ROWS($B$6:B13),"") -> 8 | B13: Helovinas žudo | C13: Halloween Kills | D13: US | E13: 39259 | F13: 6246 | G13: 15 | H13: 44491 | I13: Dukine Film Distribution / Universal Pictures
A14: =IF(B14<>"",ROWS($B$6:B14),"") -> 9 | B14: Paskutinė dvikova | C14: The Last Duel | D14: US | E14: 26288 | F14: 4223 | G14: 17 | H14: 44484 | I14: Theatrical Film Distribution / WDSMPI
A15: =IF(B15<>"",ROWS($B$6:B15),"") -> 10 | B15: Operacija "O2" | C15: Operacija "O2" | D15: LT, EE, FI, LV | E15: 24128 | F15: 3889 | G15: 19 | H15: 44491 | I15: Theatrical Film Distribution
A16: =IF(B16<>"",ROWS($B$6:B16),"") -> 11 | B16: Šunyčiai patruliai. Filmas | C16: Paw Patrol: The Movie | D16: US | E16: 16488.66 | F16: 3369 | G16: 8 | H16: 44428 | I16: Dukine Film Distribution / Paramount Pictures
A17: =IF(B17<>"",ROWS($B$6:B17),"") -> 12 | B17: Nepataisomas Ronas | C17: Ron's Gone Wrong | D17: US | E17: 15712 | F17: 3217 | G17: 17 | H17: 44498 | I17: Theatrical Film Distribution / WDSMPI
A18: =IF(B18<>"",ROWS($B$6:B18),"") -> 13 | B18: Nepasotinamas alkis | C18: Antlers | D18: US | E18: 14671 | F18: 2306 | G18: 16 | H18: 44498 | I18: Theatrical Film Distribution / WDSMPI
A19: =IF(B19<>"",ROWS($B$6:B19),"") -> 14 | B19: After. Kai mes pasiklydom | C19: After We Fell | D19: US | E19: 12453 | F19: 1905 | G19: 8 | H19: 44449 | I19: Garsų pasaulio įrašai
A20: =IF(B20<>"",ROWS($B$6:B20),"") -> 15 | B20: Paralelinės mamos | C20: Parallel Mothers | D20: ES | E20: 12346.28 | F20: 2214 | G20: 17 | H20: 44477 | I20: VLG film
A21: =IF(B21<>"",ROWS($B$6:B21),"") -> 16 | B21: Kibirkščiuojantis Luiso Veino gyvenimas | C21: The Eletrical Life of Louis Wain | D21: UK | E21: 9268.04 | F21: 1447 | G21: 12 | H21: 44491 | I21: VLG film
A22: =IF(B22<>"",ROWS($B$6:B22),"") -> 17 | B22: Kortų skaičiuotojas | C22: The Card Counter | D22: CN, UK, US | E22: 8212.74 | F22: 1284 | G22: 8 | H22: 44463 | I22: VLG film
A23: =IF(B23<>"",ROWS($B$6:B23),"") -> 18 | B23: Vilkolakiai tarp mūsų | C23: Werewolves Within | D23: US | E23: 7505.31 | F23: 1198 | G23: 13 | H23: 44477 | I23: ACME Film
A24: =IF(B24<>"",ROWS($B$6:B24),"") -> 19 | B24: Titane | C24: Titane | D24: FR | E24: 7379 | F24: 1324 | G24: 8 | H24: 44484 | I24: A-One Films
A25: =IF(B25<>"",ROWS($B$6:B25),"") -> 20 | B25: Šang-Či ir dešimties žiedų legenda | C25: Shang-Chi and the Legend of the Ten Rings | D25: US | E25: 5934.95 | F25: 960 | G25: 7 | H25: 44442 | I25: Theatrical Film Distribution / WDSMPI
A26: =IF(B26<>"",ROWS($B$6:B26),"") -> 21 | B26: Laisvasis Gajus | C26: Free Guy | D26: US | E26: 5078.97 | F26: 832 | G26: 6 | H26: 44421 | I26: Theatrical Film Distribution / WDSMPI
A27: =IF(B27<>"",ROWS($B$6:B27),"") -> 22 | B27: Lukas | C27: Luca | D27: US | E27: 4852.93 | F27: 956 | G27: 4 | H27: 44400 | I27: Theatrical Film Distribution / WDSMPI
A28: =IF(B28<>"",ROWS($B$6:B28),"") -> 23 | B28: Piktybinis | C28: Malignant | D28: US | E28: 3683.24 | F28: 548 | G28: 3 | H28: 44442 | I28: ACME Film / WB
A29: =IF(B29<>"",ROWS($B$6:B29),"") -> 24 | B29: Naktinė žvejyba | C29: Naktinė žvejyba | D29: LT | E29: 2822.14 | F29: 391 | G29: 2 | H29: 44407 | I29: Stambus planas
A30: =IF(B30<>"",ROWS($B$6:B30),"") -> 25 | B30: Blumų šeimos istorija | C30: Penguin Bloom | D30: US, AU | E30: 2775.57 | F30: 482 | G30: 14 | H30: 44491 | I30: Theatrical Film Distribution
A31: =IF(B31<>"",ROWS($B$6:B31),"") -> 26 | B31: DNR | C31: AND | D31: FR | E31: 2542 | F31: 504 | G31: 6 | H31: 44491 | I31: A-One Films
A32: =IF(B32<>"",ROWS($B$6:B32),"") -> 27 | B32: Triumfas | C32: Un triomphe | D32: FR | E32: 2192.52 | F32: 440 | G32: 7 | H32: 44470 | I32: Europos Kinas
A33: =IF(B33<>"",ROWS($B$6:B33),"") -> 28 | B33: Dar po vieną | C33: Druk | D33: DK, NL | E33: 1543.59 | F33: 291 | G33: 4 | H33: 44330 | I33: Estinfilm
A34: =IF(B34<>"",ROWS($B$6:B34),"") -> 29 | B34: Tylos zona 2 | C34: A Quiet Place 2 | D34: US | E34: 1367.96 | F34: 292 | G34: 6 | H34: 44344 | I34: Dukine Film Distribution / Paramount Pictures
A35: =IF(B35<>"",ROWS($B$6:B35),"") -> 30 | B35: Latė ir stebuklingas akmuo | C35: Latte & the Magic Waterstone | D35: DE, BE | E35: 1360.66 | F35: 333 | G35: 3 | H35: 44442 | I35: Travolta
A36: =IF(B36<>"",ROWS($B$6:B36),"") -> 31 | B36: Bitininkas | C36: Candyman | D36: US | E36: 1349.11 | F36: 287 | G36: 6 | H36: 44435 | I36: Dukine Film Distribution / Universal Pictures
A37: =IF(B37<>"",ROWS($B$6:B37),"") -> 32 | B37: Pabėgimo kambarys 2: Išėjimo nėra | C37: Escape Room 2 | D37: US | E37: 1264.59 | F37: 185 | G37: 1 | H37: 44393 | I37: ACME Film / SONY
A38: =IF(B38<>"",ROWS($B$6:B38),"") -> 33 | B38: Bintė | C38: Binti | D38: BE | E38: 1203 | F38: 271 | G38: 1 | H38: 44080 | I38: Skalvijos kino centras
A39: =IF(B39<>"",ROWS($B$6:B39),"") -> 34 | B39: Rifkino festivalis | C39: Rifkin‘s Festival | D39: ES, US, IT | E39: 1128.39 | F39: 193 | G39: 4 | H39: 44435 | I39: VLG film
A40: =IF(B40<>"",ROWS($B$6:B40),"") -> 35 | B40: Izaokas | C40: Izaokas | D40: LT | E40: 1127.28 | F40: 204 | G40: 4 | H40: 44421 | I40: Film Jam
A41: =IF(B41<>"",ROWS($B$6:B41),"") -> 36 | B41: Gauja | C41: Smecka | D41: CZ, SK, LV | E41: 1097 | F41: 246 | G41: 1 | H41: 44330 | I41: Skalvijos kino centras
...

Sheet Lapkritis
A1: ='2021'!A1 -> 2021
A2: ='2021'!A2 -> Lietuvos kino teatruose rodytų filmų TOP
A3: Lapkritis
A5: Eil. Nr. | B5: Filmo pavadinimas | C5: Filmo pavadinimas originalo kalba | D5: Kilmės šalis | E5: Pajamos | F5: Žiūrovų skaičius | G5: Kopijų skaičius | H5: Premjeros data | I5: Platintojas
A6: =IF(B6<>"",ROWS($B$6:B6),"") -> 1 | B6: Gucci mados namai | C6: House of Gucci | D6: US | E6: 190309.44 | F6: 26353 | G6: 17 | H6: 44526 | I6: Dukine Film Distribution / Universal Pictures
A7: =IF(B7<>"",ROWS($B$6:B7),"") -> 2 | B7: Amžinieji | C7: Eternals | D7: US | E7: 165378.25 | F7: 23756 | G7: 15 | H7: 44505 | I7: Theatrical Film Distribution / WDSMPI
A8: =IF(B8<>"",ROWS($B$6:B8),"") -> 3 | B8: Venomas 2 | C8: Venom Let There Be Carnage | D8: US | E8: 83900.35 | F8: 12925 | G8: 11 | H8: 44484 | I8: ACME Film / SONY
A9: =IF(B9<>"",ROWS($B$6:B9),"") -> 4 | B9: Nepataisomas Ronas | C9: Ron's Gone Wrong | D9: US | E9: 78909.46 | F9: 16485 | G9: 19 | H9: 44498 | I9: Theatrical Film Distribution / WDSMPI
A10: =IF(B10<>"",ROWS($B$6:B10),"") -> 5 | B10: Adamsų šeimynėlė 2 | C10: The Addams Family 2 | D10: US | E10: 78457.96 | F10: 15383 | G10: 14 | H10: 44477 | I10: Dukine Film Distribution / Universal Pictures
A11: =IF(B11<>"",ROWS($B$6:B11),"") -> 6 | B11: Mirtis palauks | C11: No Time To Die | D11: UK, US | E11: 68512.82 | F11: 10485 | G11: 11 | H11: 44470 | I11: Dukine Film Distribution / Universal Pictures
A12: =IF(B12<>"",ROWS($B$6:B12),"") -> 7 | B12: Vilkas ir liūtas | C12: The Wolf and The Lion | D12: FR | E12: 62130 | F12: 12224 | G12: 19 | H12: 44512 | I12: Garsų pasaulio įrašai
A13: =IF(B13<>"",ROWS($B$6:B13),"") -> 8 | B13: Vaiduoklių medžiotojai: Iš anapus | C13: Ghostbusters Afterlife | D13: US | E13: 61524.86 | F13: 9315 | G13: 15 | H13: 44519 | I13: ACME Film / SONY
A14: =IF(B14<>"",ROWS($B$6:B14),"") -> 9 | B14: Enkanto | C14: Encanto | D14: US | E14: 52702.7 | F14: 10475 | G14: 19 | H14: 44526 | I14: Theatrical Film Distribution / WDSMPI
A15: =IF(B15<>"",ROWS($B$6:B15),"") -> 10 | B15: Šuolis | C15: Šuolis | D15: LT | E15: 49285 | F15: 8724 | G15: 8 | H15: 44456 | I15: Moonmakers
A16: =IF(B16<>"",ROWS($B$6:B16),"") -> 11 | B16: Kopa | C16: Dune | D16: US | E16: 44950.57 | F16: 7010 | G16: 9 | H16: 44456 | I16: ACME Film / WB
A17: =IF(B17<>"",ROWS($B$6:B17),"") -> 12 | B17: Mano mielas monstras | C17: My Sweet Monster | D17: RU | E17: 41449.67 | F17: 8726 | G17: 17 | H17: 44505 | I17: ACME Film
